Workbook
Name Print_Area: '1-Demontažna dela'!$A$1:$G$17
Name Print_Area: '2-Ogrevanje'!$A$1:$G$11
Name Print_Area: '3-Hlajenje'!$A$1:$G$11
Name Print_Area: '4-Ostalo'!$A$1:$G$48
Name Print_Area: Rekapitulacija!$A$1:$M$20
Name Print_Titles: '1-Demontažna dela'!$1:$11
Name Print_Titles: '2-Ogrevanje'!$1:$11
Name Print_Titles: '3-Hlajenje'!$1:$11
Name Print_Titles: '4-Ostalo'!$1:$11

Sheet Rekapitulacija
B6: RTP 110/20 kV Lenart - Obnova objekta
B7: PZI - ogrevanje in hlajenje
C10: POPIS OPREME, MATERIALA IN DEL
B11: I. | C11: ='1-Demontažna dela'!C13 -> Demontažna dela | I11: ='1-Demontažna dela'!G18 -> 0 | L11: EUR
B12: II. | C12: ='2-Ogrevanje'!C13 -> Ogrevanje | I12: ='2-Ogrevanje'!G26 -> 0 | L12: EUR
B13: III. | C13: ='3-Hlajenje'!C13 -> Hlajenje | I13: ='3-Hlajenje'!G211 -> 0 | L13: EUR
B14: IV. | C14: ='4-Ostalo'!C13 -> Ostalo | I14: ='4-Ostalo'!G48 -> 0 | L14: EUR
C16: POSTAVKE I+II+III+IV SKUPAJ: | I16: =SUM(I11:K14) -> 0 | L16: EUR
B18: V. | C18: NEPREDVIDENA DELA Nepredvidena dela, ki se obračunajo po dejanski količini vgrajenega materiala in porabljenem času, po potrditvi nadzornika in vpisom dopolnitev/sprememb v gradbeni dnevnik | I18: % | J18: 5 | K18: =ROUND((I16*J18)/100,2) -> 0 | L18: EUR
C20: SKUPAJ Z NEPREDVIDENIMI DELI: | I20: =I16+K18 -> 0 | L20: EUR

Sheet 1-Demontažna dela
B6: POPIS OPREME, MATERIALA IN DEL
B7: Gradbena dela - tehnično varovanje
A10: POSTAVKA | C10: OPIS | D10: ENOTA | E10: OCENJENA | F10: CENA NA | G10: SKUPAJ
A11: No | E11: KOLIČINA | F11: ENOTO (EUR) | G11: (EUR)
B13: I. | C13: Demontažna dela
B15: 1.1 | C15: Demontaža obstoječih klimatksih naprav. | D15: kpl | E15: 1 | G15: =ROUND(E15*F15,2) -> 0
B16: 1.2 | C16: Demontaža obstoječih grelnih naprav. | D16: kpl | E16: 1 | G16: =ROUND(E16*F16,2) -> 0
B17: 1.3 | C17: Odvoz demontiranega materiala na ustrezno deponijo in pridobitev potrdila o ustrezni odstranitvi materiala | D17: kpl | E17: 1 | G17: =ROUND(E17*F17,2) -> 0
A18: SKUPAJ: | G18: =SUM(G15:G17) -> 0

Sheet 2-Ogrevanje
B6: POPIS OPREME, MATERIALA IN DEL
B7: Ogrevanje
A10: POSTAVKA | C10: OPIS | D10: ENOTA | E10: OCENJENA | F10: CENA NA | G10: SKUPAJ
A11: No | E11: KOLIČINA | F11: ENOTO (EUR) | G11: (EUR)
C12: Dobava in montaža
B13: II. | C13: Ogrevanje
B15: 2.1 | C15: Dobava in montaža stropno industrijsko električno sevalo (IR panel) , izdelano iz pocinkane jeklene pločevine bele barve, priloženo s standardnimi montažnimi nosilci. tip: EnergoStrip EE-20 ali njemu enakovredno Q=2,00 kW, U=230 V;
C16: 0.06 DELAVNICA 1 | D16: kpl | E16: 1 | G16: =ROUND(E16*F16,2) -> 0
C17: 0.07 DELAVNICA 2 | D17: kpl | E17: 1 | G17: =ROUND(E17*F17,2) -> 0
C18: 1.05 20kV STIKALIŠČE | D18: kpl | E18: 10 | G18: =ROUND(E18*F18,2) -> 0
B20: 2.2 | C20: Dobava in montaža stensko industrijsko električno sevalo (IR panel) , izdelano iz pocinkane jeklene pločevine bele barve, priloženo s standardnimi montažnimi nosilci. tip: EnergoStrip EE-20 ali njemu enakovredno Q=2,00 kW, U=230 V;
C21: 1.03 KOM. PROSTOR | D21: kpl | E21: 1 | G21: =ROUND(E21*F21,2) -> 0
B23: 2.3 | C23: Električni radiator za ogrevanje z elektronskim termostatom, stenskim nosilcem in priključnim kablom. Zaščita proti pršenju z vodo IP24 in vgrajenim termostatom proti pregretju. tip: BEHA PB6 - 400 ali njemu enakovredno Q = 600W U = 230V
C24: 0.03 PREDPROSTOR WC | D24: kpl | E24: 1 | G24: =ROUND(E24*F24,2) -> 0
A26: SKUPAJ: | G26: =SUM(G15:G25) -> 0

Sheet 3-Hlajenje
B6: POPIS OPREME, MATERIALA IN DEL
B7: Hlajenje
A10: POSTAVKA | C10: OPIS | D10: ENOTA | E10: OCENJENA | F10: CENA NA | G10: SKUPAJ
A11: No | E11: KOLIČINA | F11: ENOTO (EUR) | G11: (EUR)
C12: Dobava in montaža
B13: III. | C13: Hlajenje
B15: 3.1 | C15: 1.02 TK PROSTOR
B17: 3.1.1 | C17: Klimatska naprava - notranja enota
C18: Profesionalna klimatska naprava v stenski izvedbi za uporabo z zunanjimi enotami s hladivom R32. Stenska enota standardne oblike v beli barvi z vgrajenim zračnim filtrom in priloženim IR upravljalnikom.
C19: - tristopenjski ventilator
C20: - samodejni preklop med hlajenjem in ogrevanjem
C21: - samodejni vklop naprave po izgubi električne energije
C22: - motorizirane lamele za usmeritev zraka
C23: - zračni filter
C24: - termostat za odčitavanje dejanske temperature v prostoru
C25: - možna uporaba z WiFi vmesnikom in aplikacijo MELCloud
C26: TEHNIČNI PODATKI:
C27: Nazivna moč: hlajenje: 4.6 (2.3 ~ 5.6) kW // gretje: 5.0 (2.5 ~ 6.6) kW
C28: Pretok zraka: 7.5 - 8.2 - 9.2 - 10.9 m3/min
C29: Nivo hrupa (SPL): 34 - 37 - 40 - 43 dB(A)
... C33: tip: Mitsubishi Electric PKA-M50LAL2 ali enakovredno
D35: kpl | E35: 2 | G35: =ROUND(E35*F35,2) -> 0
B37: 3.1.2 | C37: Klimatska naprava - zunanja enota
C38: Zunanja enota klimatskega sistema v split izvedbi s POWER INVERTER kompresorjem, uparjalnikom ter zračno hlajenim kondenzatorjem. Hladilno sredstvo je okolju prijaznejši R32. Stroj je kompletne izvedbe z vso interno cevno in elektro instalacijo, varnostno ter funkcijsko mikroprocesorsko avtomatiko - vključno z instrumenti za nadzor in kontrolo delovanja. Naprava je namenjena za zunanjo postavitev.
C40: TEHNIČNI PODATKI:
C41: Nazivna moč: hlajenje: 4.6 (2.3 ~ 5.6) kW // gretje: 5.0 (2.5 ~ 7.3) kW
C42: Energetski razred: SEER: 6.4 - A++ // SCOP: 4.1 - A+
C43: Električna priključna moč: hlajenje 1.24 kW // gretje 1.35 kW
C44: Električni priključek: 230V/1F/50Hz // 16A
C45: Nivo hrupa (SPL): hlajenje: 44 dB(A) - gretje: 46 dB(A)
C46: Nivo hrupa (PWL): 65 dB(A)
C47: Medij: R32
C48: Dimenzija priključne instalacije: Cu 6.35/12.7 mm
C49: Max. dolžinska / max. višinska razlika: 50 / 30 m
C50: Območje delovanja: hlajenje od -15°C do +46°C, gretje od -11° do +21°C
C52: tip: Mitsubishi Electric PUZ-ZM50VKA2 ali enakovredno
D54: kpl | E54: 2 | G54: =ROUND(E54*F54,2) -> 0
B56: 3.1.3 | C56: Bakrene cevi, predizolirane z ARMSTRONG AC 9 s fazonskimi kosi, z materialom za lotanje, s tesnilnim in obešalnim materialom, z dodatkom za razrez, po VDI 2035, DIN 18380
C57: Cu 6,35 | D57: m | E57: 30 | G57: =ROUND(E57*F57,2) -> 0
C58: Cu 12,7 | D58: m | E58: 30 | G58: =ROUND(E58*F58,2) -> 0
...

Sheet 4-Ostalo
B6: POPIS OPREME, MATERIALA IN DEL
B7: Ostalo
A10: POSTAVKA | C10: OPIS | D10: ENOTA | E10: OCENJENA | F10: CENA NA | G10: SKUPAJ
A11: No | E11: KOLIČINA | F11: ENOTO (EUR) | G11: (EUR)
B13: IV. | C13: Ostalo
B15: 4.1 | C15: Pregled vgrajene opreme
D16: kpl | E16: 1 | G16: =ROUND(E16*F16,2) -> 0
B18: 4.2 | C18: Priklop vgrajene opreme
D19: kpl | E19: 1 | G19: =ROUND(E19*F19,2) -> 0
B21: 4.3 | C21: Priklop obstoječih inštalacije na novo stanje
D22: kpl | E22: 1 | G22: =ROUND(E22*F22,2) -> 0
B24: 4.4 | C24: Projektantski nadzor
D25: kpl | E25: 1 | G25: =ROUND(E25*F25,2) -> 0
B27: 4.5 | C27: Izdelava navodil za obratovanje in vzdrževanje
D28: kpl | E28: 1 | G28: =ROUND(E28*F28,2) -> 0
B30: 4.6 | C30: Izdelava DZO dokumentacije
D31: kpl | E31: 1 | G31: =ROUND(E31*F31,2) -> 0
B33: 4.7 | C33: Primopredaja objekta
D34: kpl | E34: 1 | G34: =ROUND(E34*F34,2) -> 0
B36: 4.8 | C36: Transporti
D37: kpl | E37: 1 | G37: =ROUND(E37*F37,2) -> 0
B39: 4.9 | C39: Dvižne naprave, podesti in odri
D40: kpl | E40: 1 | G40: =ROUND(E40*F40,2) -> 0
B42: 4.10 | C42: Zavarovanje opreme
D43: kpl | E43: 1 | G43: =ROUND(E43*F43,2) -> 0
B45: 4.11 | C45: Odvoz odpadkov
D46: kpl | E46: 1 | G46: =ROUND(E46*F46,2) -> 0
B48: SKUPAJ: | G48: =SUM(G15:G47) -> 0
