Workbook

Sheet REK. G+O
A2: POPIS DEL
A6: REKAPITULACIJA
A8: GRADBENA DELA
A10: A. | B10: ZUNANJA UREDITEV | F10: ='A. REK. ZU'!$F$17 -> 0
B12: Dodatna in nepredvidena dela: 10% | F12: =0.1*(F10) -> 0
B13: "Dela naročena s strani naročnika, potrebna za dokončanje del."
B15: SKUPAJ brez DDV | F15: =SUM(F10:F12) -> 0

Sheet A. REK. ZU
A2: POPIS DEL
A6: REKAPITULACIJA
A8: A. | B8: ZUNANJA UREDITEV
A10: I. | B10: PRIPRAVLJALNA DELA | F10: ='I. Pripravljalna dela '!$F$14 -> 0
A11: II. | B11: ZEMELJSKA DELA | F11: ='II. Zemeljska dela'!F24 -> 0
A12: III. | B12: ='III. Odvodnjavanje'!B2 -> ODVODNJAVANJE | F12: ='III. Odvodnjavanje'!F14 -> 0
A13: IV. | B13: BETONSKA DELA | F13: ='IV.Betonska in tesarska dela'!F26 -> 0
A14: V. | B14: UTRJENE POVRŠINE | F14: ='V. Utrjene površine'!F14 -> 0
A15: VI. | B15: TUJE STORITVE | F15: ='VI. Tuje storitve'!F11 -> 0
B17: ZUNANJA UREDITEV SKUPAJ | F17: =F10+F11+F12+F13+F14+F15 -> 0

Sheet I. Pripravljalna dela 
A2: PROJEKTANTSKI PREDRAČUN | B2: ZUNANJA UREDITEV
A4: I. | B4: PRIPRAVLJALNA DELA
A6: Poz. | B6: Opis postavke | C6: Enota | D6: Količina | E6: Cena | F6: Vrednost
A8: 1. | B8: Priprava gradbišča z vsemi pripravljanimi in zaključnimi deli, postavitev ograje... (odstranitvijo drevesa, vključno s čiščenjem terena pred gradnjo ter čiščenjem gradbišča po končanih delih, pospravljanje, odstranjevanje naravnih ovir, vsi stroški za zagotavljanje varnosti in zdravja pri delu itd.) | C8: kpl | D8: 1 | F8: =D8*E8 -> 0
A9: 2. | B9: Definiranje višinskih kot med gradnjo (kanalizacija, planumi,…) | C9: kpl | D9: 1 | F9: =D9*E9 -> 0
A10: 3. | B10: Zakoličba raznih komunalnih vodov s strani upravljalcev | C10: kpl | D10: 1 | F10: =D10*E10 -> 0
A11: 4. | B11: Postavitev in kasnejša odstranitev gradbiščne table skladno s pravilnikom o Gradbiščih | C11: kpl | D11: 1 | F11: =D11*E11 -> 0
A12: 5. | B12: Postavitev in kasnejša odstranitev table iz podtročja zdravja in varstva pri delo | C12: kpl | D12: 1 | F12: =D12*E12 -> 0
B14: PRIPRAVLJALNA DELA SKUPAJ | F14: =SUM(F8:F13) -> 0

Sheet II. Zemeljska dela
A2: PROJEKTANTSKI PREDRAČUN | B2: ZEMELJSKA DELA
B4: OPOMBA: Vsa izkopna dela in transporti izkopanih materialov se obračunajo po prostornini izkopane zemljine v raščenem stanju! Vsa nasipna dela se obračunajo po prostornini zemljine v vgrajenem stanju! Pri izvedbi zemeljskih del je obvezna prisotnost geomehanika! Upoštevana so zemeljska dela za potrebe izvedbe ZU in infrastrukture.
A6: Poz. | B6: Opis postavke | C6: Enota | D6: Količina | E6: Cena | F6: Vrednost
A8: 1. | B8: Površinski odriv humusa v debelini 20 cm, deponirati na gradbišču | F8: =D8*E8 -> 0
B9: objekt | C9: m2 | D9: 20.3 | F9: =D9*E9 -> 0
B10: kablovod NN | C10: m2 | D10: 10.56 | F10: =D10*E10 -> 0
B11: Kablovod SN | C11: m2 | D11: 3.2 | F11: =D11*E11 -> 0
A12: 2. | B12: Strojni široki odkop materiala - zemljine IV. Ktg, do globine cca 3,00 m | terasasto, gradbena jama TP, nakladanje in odvoz na trajno deponijo. | C12: m3 | D12: 118.65 | F12: =E12*D12 -> 0
A13: 3. | B13: Strojni izkop jarka za kabelsko kanalizacijo v zemljini III. do IV. Ktg., globina 1.20m. Širina jarka na dnu je cca 1,10m, odlaganje na rob izkopa cca 70%, ostalo odvoz na trajno deponijo koncesionarja. V primeru, da je izkop ustrezna glina, se lahko za zasip uporabio v celoti. Ustreznost oceni pooblaščen geomhanik. | C13: m3 | D13: 69.66 | F13: =E13*D13 -> 0
A14: 4. | B14: Strojni izkop zemljine III. Ktg. Za zunanje diferenčne stopnice iz kote dovozne ceste do kote trotoarja TP. V količino je vključen zkop humusa, nakladanje im odvoz na trajno deponijo | C14: m3 | D14: 2 | F14: =E14*D14 -> 0
A15: 5. | B15: Izkop drenažnega jarka ob peti opornega zidu, zemljina III.ktg., nakladanje in odvoz na trajno deponijo koncesionarja. | C15: m3 | D15: 2 | F15: =E15*D15 -> 0
A16: 6. | B16: Ročni izukop in planiranje planuma za koritnico na vrhu opornega zidu, nakladanje in odvoz na trajno deponijo | C16: m3 | D16: 1.8 | F16: =E16*D16 -> 0
A17: 7. | B17: Kombiniran ročno strojni izkop 50/50 za meteorno kanalizacijo ob in iznad opornega zidu vključno z izkopom za za zbirni jašek v funkciji ponikovalnice oz. zbirnim jaškom za navezavo na obstoječo meteorno odvodnjavanje cestišča. | C17: m3 | D17: 2.2 | F17: =E17*D17 -> 0
A18: 8. | B18: Ureditev in utrditev planuma za montažno TP; Evd=25 Mpa | C18: m2 | D18: 35 | F18: =E18*D18 -> 0
A19: 9. | B19: Izvedba gramozne temeljne grede iz drobljenca 0-32 debeline 30 cm, zbitost EVD 40 Mpa- pod talno ploščo za montažno TP. | C19: m3 | D19: 10.5 | F19: =E19*D19 -> 0
A20: 10. | B20: Zasip kabelskega SN in NN jarka v slojih po 30 cm z nabijanjem strojno do naravne zbitosti- obstoječi material iz roba nasipa | C20: m3 | D20: 44.8 | F20: =E20*D20 -> 0
A21: 11. | B21: Kot tč. 10, le dobava ilovnate zemljine iz stranskih deponij | C21: m3 | D21: 19.2 | F21: =E21*D21 -> 0
A22: 12. | B22: Zasip za objektom s tamponom 0-31- za opornim zidom in ob stopnicah. | C22: m3 | D22: 33.64 | F22: =E22*D22 -> 0
A23: 13 | B23: Nakladanje in odvoz odvečnega materiala na trajno deponijo koncesionarja do 10 km | upoštevati faktor razsutosti | obračun se vrši na podlagi evidenčnih listov | C23: m3 | D23: 50 | F23: =E23*D23 -> 0
B24: ZEMELJSKA DELA SKUPAJ | E24: 1 | F24: =SUM(F8:F23) -> 0

Sheet III. Odvodnjavanje
A2: PROJEKTANTSKI PREDRAČUN | B2: ODVODNJAVANJE
A4: Poz. | B4: Opis postavke | C4: Enota | D4: Količina | E4: Cena | F4: Vrednost
A6: 1. | B6: Dobava in montaža PE drenažne cevi DN160, vključno z geotekstilom in zasipom z drenažnim materialom- območje ob kamniti zložbi in na nivoju temelja Opornega zidu- cev je 2/3 perforirana. | C6: m1 | D6: 8 | F6: =D6*E6 -> 0
A7: 2. | B7: Izvedba meteorne kanalizacije na peščeno podlago, PVC cevi DN 160, SN 4 | C7: m1 | D7: 4 | F7: =D7*E7 -> 0
A8: 3. | B8: Izvedba PEHDjaškov globine do 1,5m, premera DN1000- revizijski | C8: kos | D8: 1 | F8: =D8*E8 -> 0
A9: 4. | B9: Izvedba PEHDjaškov globine do 1,5m, premera DN1000- prelivni z navezavo na ponikabje oz prosti preliv | C9: kos | D9: 1 | F9: =D9*E9 -> 0
A10: 5 | B10: Dobava in vgradnja LTŽ pokrovov nosilnosti 125KN, dimenzioje 60x60 cm, v ceno je potrebno vključiti AB prstan in vgradnjo z cementnomalto. Betonom na licu mesta | C10: kos | D10: 2 | F10: =D10*E10 -> 0
A11: 6. | B11: Dobava in montaža betonske koritnice za odvodnjo pobvršinskih vod dimenzije notranje 30/15 cm kot npr. NIVO-Eco | C11: m1 | D11: 5 | F11: =D11*E11 -> 0
A12: 7. | B12: Dobava in montaža 118/97 mm vključno navezava na meteorno kanalizacijoa kanalete za odvod meteorne vode na koti trotoarja TP kot npr. ACO SELF Euroline | C12: m1 | D12: 5 | F12: =D12*E12 -> 0
B14: ODVODNJAVANJE SKUPAJ | F14: =SUM(F6:F12) -> 0

Sheet IV.Betonska in tesarska dela
A2: PROJEKTANTSKI PREDRAČUN | B2: BETONSKA DELA
A4: Poz. | B4: Opis postavke | C4: Enota | D4: Količina | E4: Cena | F4: Vrednost
A6: 1. | B6: Izvedba mikro AB pilotov ø 40 cm po načrtu GK dolžina cca 5,00m, beton kvalitete C30/37 XC2, armatura 500B. RA na pilot cca 100kg. V ceno je potzrebno zajeti vsa pripravljna in zaključna dela ( dostop, postavitev garniture, čiščenje in umik, … | C6: kos | D6: 6 | F6: =D6*E6 -> 0
A7: 2. | B7: Izdelava temeljnih gred (povezava glav pilotov) in AB plošče TP, iz betona C30/37, XC2 debeline 20 cm in dobava,vgradnja armature po načrtu PZI | C7: m3 | D7: 8.8 | F7: =E7*D7 -> 0
A8: 3. | B8: Izdelava dobava in montaža armature za tč. 2 po načrtu GK, kvaliteeta 500B | F8: =E8*D8 -> 0
B9: RA | C9: kg | D9: 615 | F9: =E9*D9 -> 0
B10: MA | C10: kg | D10: 350 | F10: =E10*D10 -> 0
A11: 4. | B11: Dobava in vgradnja podložnega betona kvalitete C12/15 debeline 8 cm za postavko 2 | C11: m3 | D11: 1.6 | F11: =E11*D11 -> 0
A12: 5. | B12: Dobava in vgradnja betona v zaključni venec nad podpornim kamnitim zidom, beton C30/37, XC2 | F12: =E12*D12 -> 0
B13: beton | C13: m3 | D13: 1.8 | F13: =E13*D13 -> 0
B14: armatura RA, S500B | C14: kg | D14: 150 | F14: =E14*D14 -> 0
A15: 6. | B15: Dobava in vgradnkja podložnega betona kvalitete C12/15 za koritnice in PE jaške | C15: m3 | D15: 1 | F15: =E15*D15 -> 0
A16: 7. | B16: Izdelava podbetona AB stopnic iz dostopne ceste do TP, kvaliteta C12/15 | C16: m3 | D16: 0.6 | F16: =E16*D16 -> 0
A17: 8. | B17: Dobava in vgradnja betona v AB diferenčne stopnice, ptresek 0,12-0,30 m3/m2; kvaliteta betona C30/37, XC2, XF4, bv ceno vključiti armiranje spodnje cone z MA Q335 | C17: m3 | D17: 2 | F17: =E17*D17 -> 0
A18: 9. | B18: Izvedba opornega kamnitega težnostnega zidu z uporabo veziva- cementna malta M10 in polnilnega betona C12/15, širina spodaj cca 1,30m- zgoraj 0,60m, dolžina cca 8,0m. Uporabiti autoktoni kamen kot npr Apnenecm odporen na zmrzal, vwelikost kamnov ≥ 40x40xX cm. | C18: m3 | D18: 26.6 | F18: =E18*D18 -> 0
A19: 10. | B19: Izdelava opaža ( opaž in razopaž), za povezovalne grede pilotov | C19: m2 | D19: 25.6 | F19: =E19*D19 -> 0
A20: 11. | B20: Enostranski opaž in razopaž robatemeljne plošče višine 20 cm | C20: m1 | D20: 18 | F20: =E20*D20 -> 0
A21: 12. | B21: Dvostraski opaž za horizontalno vez nad kamnitim zidom, potč. 4.0 predizmer, RŠ 80 cm z zobom | C21: m2 | D21: 6.4 | F21: =E21*D21 -> 0
A22: 13. | B22: Enostranski opaž roba stopniščne rame diferenčnih stopnic | C22: m1 | D22: 14.2 | F22: =E22*D22 -> 0
A23: 14. | B23: Opaž stopnic diferenčnih stopnic Š=1m, g/h =27/18 | C23: kos | D23: 13 | F23: =E23*D23 -> 0
A24: 15. | B24: Enostranski opaž roba podestov višine 20 cm | C24: m1 | D24: 2.3 | F24: =E24*D24 -> 0
B26: ODVODNJAVANJE SKUPAJ | F26: =SUM(F7:F23) -> 0

Sheet V. Utrjene površine
A2: PROJEKTANTSKI PREDRAČUN | B2: UTRJENE POVRŠINE IN KABELSKA KANALIZACIJA
A4: Poz. | B4: Opis postavke | C4: Enota | D4: Količina | E4: Cena | F4: Vrednost
A6: 1. | B6: Vgradnja in izdelava nevezane nosilne plasti gramoza 0/32 - zmrzlinska greda - v slojih debeline z valjanjem do predpisane nosilnost Ev2 = 80 Mpa, zbitosti 98% po modificiranem postopku po Proctorju (nosilni tamponski drobljenec TD32); Območje pod trotoarjem | C6: m3 | D6: 16.11 | F6: =D6*E6 -> 0
A7: 2. | B7: Nasutje frakcija 4/8, v debelini 5 cm, podlaga za betonske pohodne plošče | C7: m2 | D7: 13.4 | F7: =D7*E7 -> 0
A8: 3. | B8: Dobava in vgradnja betonskih pohodnih plošč, hidrofobirane, dimenzije 400x400 mm | C8: m2 | D8: 13.4 | F8: =D8*E8 -> 0
A9: 4. | B9: Izdelava kabelske kanalizacuije za NN kablovod ; Dobava in vgradnja cevi PEHD 4xDN160 v eni vrsti vključno z gal ščitniki in označitvenimi trakovi . Zasip in planum so vključeni pri zemeljskih delih | C9: m1 | D9: 33 | F9: =D9*E9 -> 0
A10: 5. | B10: Izdelava kabelske kanalizacuije za SN kablovod ; Dobava in vgradnja cevi PEHD 2x4xDN160 v dveh vrstah in 1x Dvojček PEHD DN vključno z gal ščitniki in označitvenimi trakovi . Zasip in planum so vključenih pri zemeljskih delih. | C10: m1 | D10: 12 | F10: =D10*E10 -> 0
A11: 7. | B11: Zatravitev . Razgrnitev zemljine, planiranje in sejanje trave, valjanje oz. otrditev | C11: m2 | D11: 102 | F11: =D11*E11 -> 0
A12: 8. | B12: Izvedba lesene varnostne zaščitne ograje po vzoru ograje TP Duh na Ostrem vrhu, višine 1,20 m iz lesenih tramičev preseka 10/10 cm ali več. Stebričke je potrebno vgraditi v vroče cinkane namenske jeklene čevlje vgrajene v betonsko podlago po navodilih dobavitelja in skladno z gradbeno prakso. Les iglavec, impregniran z namensko zaščito za zunanjo uporabo. | C12: m1 | D12: 7 | F12: =D12*E12 -> 0
F13: =D13*E13 -> 0
B14: UTRJENE POVRŠINE SKUPAJ | F14: =SUM(F6:F13) -> 0

Sheet VI. Tuje storitve
A2: PROJEKTANTSKI PREDRAČUN | B2: TUJE STORITVE
A4: Poz. | B4: Opis postavke | C4: Enota | D4: Količina | E4: Cena | F4: Vrednost
A6: 1. | B6: Nadzor upravljalcev komunalnih vodov | C6: kpl. | D6: 1 | F6: =E6*D6 -> 0
A7: 2. | B7: Projektantski nadzor | C7: h | D7: 6 | F7: =E7*D7 -> 0
A8: 3. | B8: Izdelava geodetskega posnetka izvedenih del | C8: kpl. | D8: 1 | F8: =E8*D8 -> 0
A9: 4. | B9: Izdelava podlag za PID | C9: kpl | D9: 1 | F9: =E9*D9 -> 0
B11: TUJE STORITVE SKUPAJ | F11: =SUM(F5:F10) -> 0
