Workbook
Name armatura: #REF!
Name armatura: #REF!
Name armatura_1: #REF!
Name armatura_2: #REF!
Name barvanje: #REF!
Name baza: [1]elementi!$V$6:$X$16
Name baza_2: #REF!
Name baza_analiza: #REF!
Name baza_jeklo: #REF!
Name baza_temelji: #REF!
Name beton: #REF!
Name beton_rušenje: #REF!
Name beton_rušenje_masa: #REF!
Name CENA: #REF!
Name D_izkop: #REF!
Name datum: #REF!
Name datum_2: #REF!
Name del_plato_izkop: #REF!
Name galavanizirano_jeklo_rušenje: #REF!
Name i: #REF!
Name id_oznaka: #REF!
Name ime_datoteke: #REF!
Name izb_tal_filc: #REF!
Name izb_tal_izkop: #REF!
Name izkop: #REF!
Name izkop_poglobitev: #REF!
Name izkop_rušenje: #REF!
Name jeklo: #REF!
Name jeklo_RB: #REF!
Name jeklo_rušenje: #REF!
Name jeklo_ZELENO: #REF!
Name k_obl: #REF!
Name KOLIC: #REF!
Name konica: #REF!
Name konica_b: #REF!
Name konica_v: #REF!
Name kos_prepust: #REF!
Name kos_žičnica: #REF!
Name kri_1: #REF!
Name kri_2: #REF!
Name L_asfal_rezanje: [2]baza!$C$33
Name L_asfalt_stiki: [2]baza!$C$34
Name L_ograja: [2]baza!$C$3
Name L_robniki_novo: [2]baza!$C$59
Name L_robniki_rušenje: [2]baza!$C$14
Name lestev: #REF!
Name m_arm_do12: #REF!
Name m_arm_nad12: #REF!
Name masa_1000: #REF!
Name masa_1000_v: #REF!
Name masa_1160: #REF!
Name masa_1160_v: #REF!
Name masa_1320: #REF!
Name masa_1320_v: #REF!
Name masa_1490: #REF!
Name masa_1490_v: #REF!
Name masa_1660: #REF!
Name masa_1660_v: #REF!
Name masa_1840: #REF!
Name masa_1840_v: #REF!

Sheet naslovna 1
A35: Investitor: | I35: Gradnja/Objekt:
I36: ANTENSKI STOLP SERDICA
A40: Projektant: | I40: Vrsta načrta:
I41: 2 NAČRT S PODROČJA GRADBENIŠTVA 2/1 Antenski stolp Serdica - gradbena dela
B45: Ime in priimek: | F45: Ident. št.: | I45: Vsebina risbe (dokumenta):
A46: Vodja projektiranja: | B46: Jernej Rebolj, u.d.i.g. | F46: G-2700 | I46: PROJEKTANTSKI POPIS DEL
A48: Pooblaščeni strokovnjak: | B48: Jernej Rebolj, u.d.i.g. | F48: G-2700
A50: Izdelal: | B50: Jernej Rebolj, u.d.i.g. | F50: G-2700 | I50: Številka načrta: | J50: G05/25-PZI | P50: Vrsta proj.: | R50: PZI | T50: Stran/ Strani: | V50: 1/11
A52: Datum izdelave: | B52: 45778 | E52: Merilo: | F52: / | I52: Identifik. oznaka: | O52: 7 | P52: G | Q52: 0 | R52: 1 | S52: . | T52: 2 | U52: 0 | V52: 1

Sheet rekapitualcija
B1: objekt:
B2: ANTENSKI STOLP SERDICA
B9: SKUPNA REKAPITULACIJA
A11: UVOD | B11: UVOD
A13: =popis!A9 -> 1. | B13: =popis!B9 -> PRIPRAVLJALNA DELA | E13: =popis!F15 -> 0
A15: =popis!A17 -> 2. | B15: =popis!B17 -> ZEMELJSKA DELA | E15: =popis!F53 -> 0
A17: =popis!A55 -> 3. | B17: =popis!B55 -> TEMELJ ZA STOLP | E17: =popis!F75 -> 0
A19: =popis!A77 -> 4. | B19: =popis!B77 -> OPORNI ZID | E19: =popis!F99 -> 0
A21: =popis!A101 -> 5. | B21: =popis!B101 -> TALNA PLOŠČA V NAKLONU | E21: =popis!F109 -> 0
A23: =popis!A111 -> 6. | B23: =popis!B111 -> OGRAJA | E23: =popis!F117 -> 0
A25: =popis!A119 -> 7. | B25: =popis!B119 -> ANTENSKI STOLP | E25: =popis!F123 -> 0
A27: =popis!A125 -> 8. | B27: =popis!B125 -> GRADBENA DELA za OZEMLJITVE | E27: =popis!F141 -> 0
A29: =popis!A143 -> 9 | B29: =popis!B143 -> KONTEJNER | E29: =popis!F147 -> 0
B31: SKUPAJ | E31: =SUM(E13:E29) -> 0
B33: Nepredvidena dela | D33: 0.1 | E33: =E31*D33 -> 0
B35: Skupaj vrednost gradbenih del brez DDV: | E35: =E31+E33 -> 0
B37: DDV | D37: 0.22 | E37: =E35*D37 -> 0
B39: Skupaj vrednost gradbenih z DDV: | E39: =E37+E35 -> 0

Sheet popis
B1: Opis postavke: | C1: enota | D1: količina | E1: cena | F1: znesek
A3: 0. | B3: UVOD
B4: Dela je potrebno izvajati po predloženi dokumentaciji in navodilih nadzora. Dela se bodo izvajala po fazah in navodilih investitorja, kar je potrebno upoštevati v cenah!
B5: Pred pripravo ponudbe je za vsa dela je potreben obvezen ogled na objektu!
B6: Pri izkopu mora biti nujno navzoč geomehanik, ki bo ugotovil dejansko nosilnost tal, potrdil predvideno konstrukcijo temelja in določil kvaliteto in višino nasutja/podloge ter predpisal zahtevano trdnost nasutja/podloge!
B7: Vsako opisano delo vsebuje osnovni in pomožni material, prevoz materiala in orodja na objekt, notranje transporte, vse delo, zaključno čiščenje in odstranitev odpadkov po dovršenem delu.
A9: 1. | B9: PRIPRAVLJALNA DELA
A11: 1.1. | B11: Stroški ureditve gradbišča, skladno z zakonodajo, ki ureja varnost in zdravje pri delu na gradbiščih (ograditev gradbišča z onemogočanjem dostopa do gradbišča nepooblaščenim osebam, varnostna tabla, sanitarije, pomožni gradbiščni prostori…) | C11: kpl | D11: 1 | F11: =+D11*E11 -> 0
A13: 1.2. | B13: Stroški označitve gradbišča, skladno z gradbenim zakonom (gradbiščna tabla). | C13: kos | D13: 1 | F13: =+D13*E13 -> 0
B15: =B9&" skupaj:" -> PRIPRAVLJALNA DELA skupaj: | F15: =SUM(F11:F14) -> 0
A17: 2. | B17: ZEMELJSKA DELA
A19: 2.1. | B19: Površinski izkop plodne zemlje - humusa, debeline cca do 30 cm z odlaganjem na stran ali nalaganjen na kamion. | C19: m3 | D19: 15 | F19: =+D19*E19 -> 0
A21: 2.2. | B21: Strojni izkop terena za izvedbo temelja in pasovnih temeljev ob obstoječim objektom (izkop v III do IV. ktg), z odlaganjem na stran ali nalaganjen na kamion. | C21: m3 | D21: 50 | F21: =+D21*E21 -> 0
A23: 2.3. | B23: Odvoz izkopane plodne zemljine na stalno deponijo do 10 km. | C23: m3 | D23: =80%*D19 -> 12 | F23: =+D23*E23 -> 0
A25: 2.4. | B25: Odvoz izkopane ostale zemljine na stalno deponijo do 10 km. | C25: m3 | D25: =80%*D21 -> 40 | F25: =+D25*E25 -> 0
A27: 2.5. | B27: Strojni površinski izkop terena za izvedbo začasne dostopne poti ob obstoječim objektom (izkop v III do IV. ktg), debeline cca do 30 cm, z odlaganjem na stran za kasnejšo ponovno uporabo. | C27: m3 | D27: =30*3*0.3 -> 27 | F27: =+D27*E27 -> 0
A29: 2.6. | B29: Planiranje in utrjevanje dna izkopa za temelji, do točnosti +- 1 cm. | C29: m2 | D29: 25 | F29: =+D29*E29 -> 0
A31: 2.7. | B31: Dobava in polaganje geotekstila pred izvedbo tamponskega nasutja za začasno dostopno pot, skupaj z vsemi potrebnimi deli in materialom. V ceni na enoto upoštevati vse preklope in zavihke po navodilu proizvajalca. | C31: m2 | D31: =30*(3+2*0.2) -> 102 | F31: =+D31*E31 -> 0
A33: 2.8. | B33: Nabava, dobava in vgradnja tamponskega nasutja granulacije 0/64 (greda/stena), ki mora biti zbito do Evd ≥ 40 MPa oziroma Ev2 ≥ 80 MPa. Nasutje z gredo se izvede v celotnem izkopu, od točkovnega temelja stolpa naprej. Zasip in utrjevanje se izvaja po plasteh debeline maksimalno 30cm. | C33: m3 | D33: 24 | F33: =+D33*E33 -> 0
A35: 2.9. | B35: Dobava, razgrinjanje, planiranje in utrjevanje tamponskega nasutja granulacije 0/32mm, v debelini 20 cm pod talno ploščo, ki mora biti zbito do Evd ≥ 40 MPa oziroma Ev2 ≥ 80 MPa. | C35: m3 | D35: 2.5 | F35: =+D35*E35 -> 0
A37: 2.10. | B37: Dobava, razgrinjanje, utrjevanje tamponskega nasutja granulacije 0/32mm, v debelini cca 30 cm za izvedbo začasne dostopne poti, skupaj z vsemi potrebnimi deli. | C37: m3 | D37: =D27 -> 27 | F37: =+D37*E37 -> 0
A39: 2.11. | B39: Izvedba planuma na zgornji koti tampona v predvidenem naklonu in v točnosti +- 1 cm. | C39: m2 | D39: 18 | F39: =+D39*E39 -> 0
A41: 2.12. | B41: Zasip ob temeljih z izkopanim materialom deponiranim na začasni deponiji, komplet z dovozom, raztiranjem in planiranjem ter utrjevanjem po slojih do 30 cm, do predpisane utrditve. | C41: m3 | D41: 12 | F41: =+D41*E41 -> 0
A43: 2.13. | B43: Odstranitev tamponskega nasutja od začasne dostopne poti, skupaj z nakladanjem na prevozno sredstvo in odvozom na stalno deponijo, ki si jo priskrbi izvajalec, komplet z vsemi stroški na deponiji. | C43: m3 | D43: =D27 -> 27 | F43: =+D43*E43 -> 0
A45: 2.14. | B45: Odstranitev geotekstila od začasne dostopne poti, skupaj z nakladanjem na prevozno sredstvo in odvozom na stalno deponijo, ki si jo priskrbi izvajalec, komplet z vsemi stroški na deponiji. | C45: m2 | D45: 100 | F45: =+D45*E45 -> 0
A47: 2.15. | B47: Zasip/nasutje po odstranitvi začasne dostopne poti, debeline cca 30 cm z izkopanim materialom deponiranim na začasni deponiji, komplet z dovozom, raztiranjem in planiranjem ter utrjevanjem, skupaj z vsemi potrebnimi deli. | C47: m3 | D47: 30 | F47: =+D47*E47 -> 0
A49: 2.16. | B49: Presejanje in dovoz plodne zemlje - humusa, pripeljanega iz začasne deponije, skupaj z razstiranjem, uvaljanjem in vsemi potrebnimi deli. | C49: m3 | D49: 43 | F49: =(D49*E49) -> 0
A51: 2.17. | B51: Zatravitev humusiranih ravnih površin in brežin s posejanjem travne mešanice, zalivanje z vodo in rahlo uvaljanje. | C51: m2 | D51: 144 | F51: =(D51*E51) -> 0
B53: =B17&" skupaj:" -> ZEMELJSKA DELA skupaj: | F53: =SUM(F19:F52) -> 0
A55: 3. | B55: TEMELJ ZA STOLP
A57: 3.1. | B57: Dobava, izdelava in ročna montaža srednje zahtevne armature iz betonskega jekla: B 500B palice (SIST EN 10080 in SIST EN 1992-1-1). Armatura različnih presekov. | C57: kg | D57: 540 | F57: =+D57*E57 -> 0
A59: 3.2. | B59: Dobava in vgrajevanje betona v nearmirane konstrukcije preseka nad 0,08 do 0,12 m3/m2-m, skupaj z vsemi pomožnimi deli in prenosi do mesta vgraditve: podložni beton temelja ~ beton C 12/15, X0 ~ debelina 10 cm | C59: m3 | D59: 1 | F59: =+D59*E59 -> 0
A61: 3.3. | B61: Dobava in vgrajevanje betona v armirane konstrukcije preseka nad 0,30 m3/m2-m, skupaj z vsemi pomožnimi deli in prenosi do mesta vgraditve: beton za peto temelja ~ beton C 20/25, XC2 ~ zaščitni sloj 4 cm | C61: m3 | D61: 4 | F61: =+D61*E61 -> 0
A63: 3.4. | B63: Dobava in vgrajevanje betona v armirane konstrukcije preseka nad 0,30 m3/m2-m, skupaj z vsemi pomožnimi deli in prenosi do mesta vgraditve: beton za nastavek temelja ~ beton C 30/37, XC24, XF2 ~ zaščitni sloj 4 cm | C63: m3 | D63: 2.5 | F63: =+D63*E63 -> 0
A65: 3.5. | B65: Opaž roba podložnega betona, opaženje, razopaženje in čiščenje opaža: ~ opaž višine 10 cm | C65: m | D65: 10.5 | F65: =+D65*E65 -> 0
A67: 3.6. | B67: Opaž pete temelja; opaženje, razopaženje in čiščenje opaža: ~nevidne betonske površine | C67: m2 | D67: 7 | F67: =+D67*E67 -> 0
A69: 3.7. | B69: Opaž nastavka temelja; opaženje, razopaženje in čiščenje opaža: ~ vidne betonske površine (cca 30 %) ~ trikotne letvice na vidnih robovih so zajete v drugi postavki | C69: m2 | D69: 6.5 | F69: =+D69*E69 -> 0
A71: 3.8. | B71: Dobava in vstavljanje/pritrjevanje trikotnih letev na opaž, kjer so prosti robovi betonskih elementov. Trikotne letve so dimenzije 2x2 cm; opažanje, razopažanje in čiščenje. ~vidne površine | C71: m | D71: 7.5 | F71: =+D71*E71 -> 0
A73: 3.9. | B73: Kompletna vgradnja sider v temeljni nastavek pred betoniranjem, po projektnem načrtu, skupaj z vsemi potrebnimi deli in materialom. ~ sidra so upoštevani v postavki stolpa ~ sidra dobavi na gradbišče izvajalec stolpa | C73: kos | D73: 4 | F73: =+D73*E73 -> 0
B75: =B55&" skupaj:" -> TEMELJ ZA STOLP skupaj: | F75: =SUM(F57:F74) -> 0
A77: 4. | B77: OPORNI ZID
A79: 4.1. | B79: Dobava, izdelava in ročna montaža srednje zahtevne armature iz betonskega jekla: B 500B palice (SIST EN 10080 in SIST EN 1992-1-1). Armatura različnih presekov. | C79: kg | D79: 380 | F79: =+D79*E79 -> 0
A81: 4.2. | B81: Dobava in vgrajevanje betona v nearmirane konstrukcije preseka nad 0,08 do 0,12 m3/m2-m, skupaj z vsemi pomožnimi deli in prenosi do mesta vgraditve: podložni beton pasovnega temelja ~ beton C 12/15, X0 ~ debelina 10 cm | C81: m3 | D81: 1.5 | F81: =+D81*E81 -> 0
A83: 4.3. | B83: Dobava in vgrajevanje betona v armirane konstrukcije preseka nad 0,30 m3/m2-m, skupaj z vsemi pomožnimi deli in prenosi do mesta vgraditve: beton za pasovni temelj ~ beton C 20/25, XC2 ~ zaščitni sloj 3 cm | C83: m3 | D83: 2.5 | F83: =+D83*E83 -> 0
A85: 4.4. | B85: Dobava in vgrajevanje betona v armirane konstrukcije preseka od 0,12 do 0,20 m3/m2-m, skupaj z vsemi pomožnimi deli in prenosi do mesta vgraditve: beton za oporni zid ~ beton C 30/37, XC24, XF2 ~ zaščitni sloj 3 cm | C85: m3 | D85: 2.5 | F85: =+D85*E85 -> 0
A87: 4.5. | B87: Opaž roba podložnega betona, opaženje, razopaženje in čiščenje opaža: ~ opaž višine 10 cm | C87: m | D87: 35 | F87: =+D87*E87 -> 0
A89: 4.6. | B89: Opaž pasovnega temelja; opaženje, razopaženje in čiščenje opaža: ~ dvostranski opaž ~ nevidne betonske površine | C89: m2 | D89: 10 | F89: =+D89*E89 -> 0
A91: 4.7. | B91: Opaž opornega zidu; opaženje, razopaženje in čiščenje opaža: ~ debelina zidu 20 in 25 cm ~ dvostranski opaž ~ vidne betonske površine ~ trikotne letvice na vidnih robovih so zajete v drugi postavki | C91: m2 | D91: 28 | F91: =+D91*E91 -> 0
A93: 4.8. | B93: Dobava in vstavljanje/pritrjevanje trikotnih letev na opaž, kjer so prosti robovi betonskih elementov. Trikotne letve so dimenzije 2x2 cm; opažanje, razopažanje in čiščenje. ~vidne površine | C93: m | D93: 43 | F93: =+D93*E93 -> 0
A95: 4.9. | B95: Kompletna dobava in vgradnja PEHD cevi 2xfi 75 od elektro omarice do podpornega zidu: ~ strojni izkop jarka do globine 1,0 m, ~ dobava in vgradnja posteljice iz peščenega materiala 0/16, ~ vgradnja PEHD cevi fi 75 po zahtevah elektro distributerja, ~ obsip cevi s peščenm materiala 0/16 v višin 10 cm nad temnom cevi, ~ vgradnja valjanca (dobava v drugi postavki), ~ dobava in vgradnja elektro traku, ~ zasip z utrditvijo z izkopanim materialom. | C95: m | D95: 8 | F95: =+D95*E95 -> 0
A97: 4.10. | B97: Kompletna dobava in vgradnja PEHD cevi 2xfi 75: ~ uvlačenje skozi armaturi podpornega zidu in pod temeljno ploščo pred betoniranjem | C97: m | D97: 4 | F97: =+D97*E97 -> 0
B99: =B77&" skupaj:" -> OPORNI ZID skupaj: | F99: =SUM(F79:F98) -> 0
A101: 5. | B101: TALNA PLOŠČA V NAKLONU
A103: 5.1. | B103: Dobava, izdelava in ročna montaža srednje zahtevne armature iz betonskega jekla: B 500B palice in B 500A mreže (SIST EN 10080 in in SIST EN 1992-1-1). Armatura različnih presekov. | C103: kg | D103: 290 | F103: =+D103*E103 -> 0
A105: 5.2. | B105: Dobava in vgrajevanje betona v armirane konstrukcije preseka od 0,12 do 0,20 m3/m2-m, skupaj z vsemi pomožnimi deli in prenosi do mesta vgraditve: beton za talno ploščo, plošča v projektiranem naklonu: ~ beton C 30/37, XC24, XF2, ~ zaščitni sloj 3 cm, ~ površino plošče se zagladi. | C105: m3 | D105: 2 | F105: =+D105*E105 -> 0
A107: 5.3. | B107: Kompletna izvedba dilatacije plošče po obodu z ostalimi konstrukcijskimi elementi, izvedena skladno z zahtevami proizvajalca, skupaj z vsemi potrebnimi deli in materialom: ~ dilatacijska izolacija, višine 15 cm, debeline 1 cm, ~ penasta vrvica. ~ trajnoelastičen kit odporen na zunanje vplive- | C107: m | D107: 20.5 | F107: =+D107*E107 -> 0
B109: =B101&" skupaj:" -> TALNA PLOŠČA V NAKLONU skupaj: | F109: =SUM(F103:F108) -> 0
A111: 6. | B111: OGRAJA
A113: 6.1. | B113: Kompletna dobava in montaža tipske panelne ograje z lesenim polnilom in z vijačenjem stebrov ograje v armiranobetonski zid, višine 2,03 m, kot npr. Ograjni sistemi Klančnik, skupaj z vsemi potrebnimi deli in materialom. | C113: m2 | D113: 34 | F113: =+D113*E113 -> 0
A115: 6.2. | B115: Kompletna dobava in montaža tipskih vrat v izgledu kot panelna ograja z lesenim polnilom in z vijačenjem stebrov vrat v armiranobetonski zid, dimenzije 90x200 cm, kot npr. Ograjni sistemi Klančnik, skupaj z vsemi potrebnimi deli in materialom. | C115: kos | D115: 1 | F115: =+D115*E115 -> 0
B117: =B111&" skupaj:" -> OGRAJA skupaj: | F117: =SUM(F113:F116) -> 0
A119: 7. | B119: ANTENSKI STOLP
A121: 7.1. | B121: Kompletna izdelava, dobava in montaža jeklene pocinkane konstrukcije antenskega stolpa, s sidri (po detajlu v projektu), s pohodnima podestoma, skupaj z vsem spojnim in veznim materialom ter vsemi potrebnimi deli. ~ Izvedbeni razred EXC 2 ~ konstrukcijsko jeklo S355J2, ~ vijaki kvalitete 8.8, obliko SIST EN ISO 4017. | C121: kg | D121: 1050 | F121: =+D121*E121 -> 0
B123: =B119&" skupaj:" -> ANTENSKI STOLP skupaj: | F123: =SUM(F120:F122) -> 0
A125: 8. | B125: GRADBENA DELA za OZEMLJITVE
A127: 8.1. | B127: Strojni izkop jarka za ozemljitve (III. ktg) z odmetom materiala na rob izkopa ter ročnim planiranjem dna kabelskega jarka: - dimenzij 0,4 × 0,6 m | C127: m3 | D127: 16 | F127: =+D127*E127 -> 0
A129: 8.2. | B129: Dobava, razvoz po trasi, izvedba in teptanje ilovnate plasti pri zasipu ozemljila. | C129: m3 | D129: 5 | F129: =+D129*E129 -> 0
A131: 8.3. | B131: Strojni zasip jarka za ozemljitve z utrjevanjem po plasteh 20 cm in s končnim planiranjem. | C131: m3 | D131: 11 | F131: =+D131*E131 -> 0
A133: 8.4. | B133: Dobava in polaganje ozemljitvenega vodnika: - tračno ozemljilo Fe-Zn 25×4 mm | C133: m | D133: =24+2*20+4*3+2*3 -> 82 | F133: =+D133*E133 -> 0
A135: 8.5. | B135: Dobava in polaganje ozemljitvenega vodnika: - Cu 16 mm (za ozemljitev stebričkov ograje). | C135: m | D135: =9*2 -> 18 | F135: =+D135*E135 -> 0
A137: 8.6. | B137: Dobava in montaža ozemljitvenega materiala: - križna sponka Rf 60×60 mm (ocena). | C137: kos | D137: 22 | F137: =+D137*E137 -> 0
A139: 8.7. | B139: Ostala drobna dela in material. | C139: kos | D139: 1 | F139: =+D139*E139 -> 0
B141: =B125&" skupaj:" -> GRADBENA DELA za OZEMLJITVE skupaj: | F141: =SUM(F127:F140) -> 0
A143: 9 | B143: KONTEJNER
A145: 9.1. | B145: Dobava in montaža, pritrjevanje na ploščo, kontejnerja po specifikaciji - glej Specifikacija kontejnerja, št. 7G01.103. | C145: kpl | D145: 1 | F145: =+D145*E145 -> 0
B147: =B143&" skupaj:" -> KONTEJNER skupaj: | F147: =SUM(F145:F146) -> 0
