Workbook
Name Print_Titles: 'I. Pripravljalna dela ZU'!$6:$6
Name Print_Titles: 'II. Zemeljska'!$7:$7
Name Print_Titles: 'III. Kanalizacija'!$6:$6
Name Print_Titles: 'IV. Tuje storitve'!$6:$6

Sheet C. REK. ZU
A2: POPIS DEL
A6: REKAPITULACIJA
A9: I. | B9: ='[1]I. Pripravljalna dela ZU'!B2 -> PRIPRAVLJALNA DELA | F9: ='I. Pripravljalna dela ZU'!F24 -> 0
A10: II. | B10: ='II. Zemeljska'!B2 -> ZEMELJSKA DELA | F10: ='II. Zemeljska'!F32 -> 0
A11: III. | B11: ='[1]II. Kanalizacija'!B2 -> KANALIZACIJA | F11: ='III. Kanalizacija'!F61 -> 0
A12: IV. | B12: ='[1]IV. Tuje storitve'!B2 -> TUJE STORITVE | F12: ='IV. Tuje storitve'!F14 -> 0
B14: CESTNA INFRASTRUKTURA SKUPAJ | F14: =SUM(F9:F12) -> 0
B16: Dodatna in nepredvidena dela: 10 % | F16: =F14*0.1 -> 0
B17: "Dela naročena s strani naročnika, potrebna za dokončanje del."
B20: SKUPAJ | F20: =F14+F16 -> 0
C21: 22% DDV: | F21: =0.22*F20 -> 0
C23: SKUPAJ Z DDV: | F23: =F20+F21 -> 0

Sheet I. Pripravljalna dela ZU
A2: I. | B2: PRIPRAVLJALNA DELA
A6: Poz. | B6: Opis postavke | C6: Enota | D6: Količina | E6: Cena | F6: Vrednost
A8: 1. | B8: Priprava gradbišča z vsemi pripravljalnimi in zaključnimi deli (postavitev gradbiščnega kontejnerja, gradbiščne sanitarije, vključno s čiščenjem gradbišča po končanih delih, pospravljanje, odstranjevanje naravnih ovir, vsi stroški za zagotavljanje varnosti in zdravja pri delu, itd) | C8: kpl | D8: 1 | F8: =D8*E8 -> 0
A10: 2. | B10: Definiranje višinskih kot med gradnjo | C10: kpl | D10: 1 | F10: =D10*E10 -> 0
A12: 3. | B12: Zakoličba komunalnih vodov s strani upravljalcev (fekalna kanalizacija, plinovod, vročevod, vodovod, elektro vod, TK vodi, javna razsvetljava) | C12: kpl | D12: 1 | F12: =D12*E12 -> 0
F13: =D13*E13 -> 0
A14: 4. | B14: Zavarovanje obstoječih komunalnih vodov v območju gradbene jame - ocena | C14: kpl | D14: 1 | F14: =D14*E14 -> 0
A16: 5. | B16: Rezanje asfalta debeline do 10 cm | C16: m1 | D16: 41.2 | F16: =D16*E16 -> 0
A18: 6. | B18: Rušenje asfalta (do 10 cm), z nakladanjem in transportom ruševin na trajno deponijo koncesionarja do 10 km | C18: m2 | D18: 1248.3 | F18: =D18*E18 -> 0
A20: 7. | B20: Rušenje betonskih robnikov, vključno z obbetonom, nakladanjem in odvozom na trajno deponijo koncesionarja do 10 km | C20: m1 | D20: 68 | F20: =D20*E20 -> 0
F21: =D21*E21 -> 0
A22: 8. | B22: Rušenje betonske plošče (do 20 cm), z nakladanjem in transportom ruševin na trajno deponijo koncesionarja do 10 km | C22: m2 | D22: 56.2 | F22: =D22*E22 -> 0
B24: RUŠITVE IN PRIPRAVLJALNA DELA SKUPAJ | F24: =SUM(F8:F23) -> 0

Sheet II. Zemeljska
A2: II. | B2: ZEMELJSKA DELA
B5: OPOMBA: Vsa izkopna dela in transporti izkopanih materialov se obračunajo po prostornini izkopane zemljine v raščenem stanju! Vsa nasipna dela se obračunajo po prostornini zemljine v vgrajenem stanju! Pri izvedbi zemeljskih del je obvezna prisotnost geomehanika!
A7: Poz. | B7: Opis postavke | C7: Enota | D7: Količina | E7: Cena | F7: Vrednost
A8: A | B8: IZKOPI
A9: 1. | B9: Površinski odriv humusa v debelini 30 cm, deponirati na gradbišču za ponovno vgradnjo po končanih delih | C9: m3 | D9: 48 | F9: =E9*D9 -> 0
A11: 2. | B11: Strojni široki odkop zrnate zemljine - zemljina III. ktg in mešanega gradbenega odpada do globine cca 0,6 m, po navodilih geomehanika I vključno s strojnim nakladanjem in odvozom na deponijo | C11: m3 | D11: 652.3 | F11: =D11*E11 -> 0
A13: B | B13: PLANUM TEMELJNIH TAL
A14: 1. | B14: Planiranje planuma z natančnostjo +- 0,03 m z utrjevanjem in izdelavo predpisanih nagibov po predhodnih geomehanskih meritvah in potrditvi geomahenika | C14: m2 | D14: 1253.1 | F14: =D14*E14 -> 0
A16: C | B16: LOČILNE, DRENAŽNE IN FILTRSKE PLASTI
A17: 1. | B17: Dobava in vgradnja drenažnofilterske plasti iz polsti natezne trdnost vzd./preč. > 14/14 kN/m, 200g/m2,, raztezek vzd./preč. > 30/30%, dinamični prebod < 30mm, prebojna trdnost CBR > 2000N, preko dna gradbene jame, gramatura po geomehanikovih zahtevah, preklop min. 20 cm. | C17: m2 | D17: 1480.5 | F17: =D17*E17 -> 0
A19: D | B19: NOSILNE PLASTI
A20: 1. | B20: Dobava, vgradnja in izdelava nevezane nosilne plasti gramoza 0/64 - zmrzlinska greda, v debelini 30 cm - z valjanjem do predpisane nosilnost Ev2 = 80 Mpa, zbitosti 98% po modificiranem postopku po Proctorju. | C20: m3 | D20: 376.5 | F20: =D20*E20 -> 0
A22: 2. | B22: Dobava, vgradnja in izdelava nevezane nosilne plasti iz tamponskega drobljenca TD22 v debelini 30 cm z valjanjem do predpisane nosilnosti Ev2 = 120 Mpa, zgoščenosti 98% po modificiranem postopku po Proctorju ter planiranje z natančnostjo ± 1,0 cm. | C22: m3 | D22: 248.5 | F22: =D22*E22 -> 0
A24: E | B24: BREŽINE IN ZELENICE
A25: 1. | B25: Razstiranje humusa, debeline 30 cm, uporabi se material iz gradbiščne deponije, v kolikor material ni primeren za ponovno uporabo je v ceno potrebno vključiti dobavo materiala | C25: m3 | D25: 40.4 | F25: =D25*E25 -> 0
A27: 2. | B27: Zatravitev s semenom, 60 g semena na m2, vključno z vsem potrebnim materialom in delom | C27: m2 | D27: 134.7 | F27: =D27*E27 -> 0
A29: F | B29: OSTALO
A30: 1. | B30: Nakladanje in odvoz odvečnega humusa na trajno deponijo koncesionarja do 10 km | upoštevati faktor razsutosti | obračun se vrši na podlagi evidenčnih listov | C30: m3 | D30: 7.6 | F30: =D30*E30 -> 0
B32: ZEMELJSKA DELA SKUPAJ | F32: =SUM(F9:F31) -> 0

Sheet III. Kanalizacija
A2: III. | B2: KANALIZACIJA
A6: Poz. | B6: Opis postavke | C6: Enota | D6: Količina | E6: Cena | F6: Vrednost
A7: A | B7: PREDDELA
A8: 1. | B8: Zakoličba osi meteorne kanalizacije z oznako jaškov, lovilcev olj in ostalih elementov kanalizacijskega sistema | C8: m1 | D8: 50 | F8: =D8*E8 -> 0
A10: B | B10: ZEMELJSKA DELA
A11: 1. | B11: Strojni širok izkop obstoječega tamponskega materiala v debelini cca 60 cm, vključeni so vsi jarki za kanalizacijske kanale, jaški, lovilec olj, usedalnik, ponikovalno polje, …I z deponiranjem na gradbišču za ponovno vgradnjo | C11: m3 | D11: 118 | F11: =E11*D11 -> 0
A13: 2. | B13: Strojni široki odkop ostalega materiala - gramoza 0/64, zemljine III. ktg in mešanega gradbenega odpada do globine cca 3,00 m, vključeni so vsi jarki za meteorne kanalizacijske kanale, jaški, lovilec olj, ponikovalno polje I po navodilih geomehanika, z deponiranjem na gradbišču za ponovno vgradnjo | C13: m3 | D13: 187 | F13: =D13*E13 -> 0
A15: 3. | B15: Planiranje in nabijanje dna jarka z natančnostjo ±2,0 cm do predpisane zbitosti v naklonu po projektu, vključeni so vsi jaški, kanali, lovilci olj, … | C15: m2 | D15: 126 | F15: =D15*E15 -> 0
A17: 4. | B17: Zasip bokov cevi in temena z naravnim prodom granulacije 0-16, vključno z dobavo in transportom materiala | C17: m3 | D17: 14 | F17: =D17*E17 -> 0
A19: 5. | B19: Izvedba peščene posteljice ponikovalnega polja v debelini 5 cm ter zasip ponikovalnega polja s prodniki granulacije 2/8 mm v debelini 10 cm | vključno z dobavo in transportom materiala | C19: m3 | D19: 9 | F19: =D19*E19 -> 0
A21: 6. | B21: Zasip jaškov, lovilcev olj, usedalnikov in ponikalnega polja z gramoznim materialom granulacije 0-31 mm ustrezne zbitosti v širini najmanj 50 cm od sten jaškov | zgoščenost najmanj 97% po SPP, vključno z dobavo in transportom materiala | C21: m3 | D21: 51 | F21: =D21*E21 -> 0
A23: 7. | B23: Zasip kanalizacije z izkopanim materialom III. kategorije z nabijanjem v slojih po 20 cm, zasipni material je deponiran ob robu izkopa. V območju asfaltiranih površin je potrebno zasipe izvesti s 40 cm zmrzlinsko odpornega kamnitega materiala (TD63) in 20 cm tamponskega drobljenca (TD32) - sestava voziščne konstrukcije. V primeru, da izkopani material ni primeren za zasipe je potrebno v ceno vključiti drobljenec 0-31 iz zunanjih virov | C23: m3 | D23: 174 | F23: =D23*E23 -> 0
A25: C | B25: POVRŠINSKO ODVODNJAVANJE
A26: 1. | B26: Izdelava asfaltne mulde širine š=0,50 m enake debeline in sestave asfalta kot vozišče | C26: m1 | D26: 29 | F26: =D26*E26 -> 0
A28: D | B28: KANALIZACIJSKE CEVI
A29: 1. | B29: Dobava in montaža PVC kanalskih cevi, kompletno z vodotesno obdelavo stikov, dobavo in montažo vseh fazonskih komadov in pripravo ležišča. Vključno z dobavo in izvedbo podložnih betonov, polnega obbetoniranja cevi pod asfaltiranimi površinami oz. dobavo in vgradnjo peščene posteljice pod zelenimi površinami. | F29: =D29*E29 -> 0
B30: PVC 160/SN8 (peščena posteljica) | C30: m1 | D30: 9 | F30: =D30*E30 -> 0
B31: PVC 160/SN8 (obbetonirano) | C31: m1 | D31: 21.7 | F31: =D31*E31 -> 0
B32: PVC 200/SN8 (obbetonirano) | C32: m1 | D32: 10.5 | F32: =D32*E32 -> 0
B33: PVC 250/SN8 (obbetonirano) | C33: m1 | D33: 2.5 | F33: =D33*E33 -> 0
A35: E | B35: KANALIZACIJSKI OBJEKTI
A36: 1. | B36: Izdelava podbetonov za jaške, usedalnike in lovilce olj iz betona C12/15 debeline cca. 10 cm | C36: m3 | D36: 1.5 | F36: =D36*E36 -> 0
A38: 2. | B38: Dobava in vgradnja vodotesnega PE cestnega požiralnika s peskolovom Ø50 cm, globine 1,2 m z LTŽ rešetko D400, kompletno z izdelavo AB venca iz betona C25/30 ter obdelavo priključkov, vključno z dobavo in transportom potrebnega materiala | C38: kom | D38: 5 | F38: =E38*D38 -> 0
A40: 3. | B40: Dobava in vgradnja vodotesnega PE peskolova Ø50 cm, globine 1,2 m z izvedbo bočnega vtoka v robniku, kompletno z izdelavo AB venca iz betona C25/30 ter obdelavo priključkov, vključno z dobavo in transportom potrebnega materiala | C40: kom | D40: 3 | F40: =D40*E40 -> 0
A42: 4. | B42: Dobava in vgradnja vodotesnih PE jaškov Ø60 cm, do globine 1,00 m s pokrovom LTŽ D400, kompletno z izdelavo AB venca iz betona C25/30 ter obdelavo priključkov | C42: kom | D42: 3 | F42: =D42*E42 -> 0
A44: 5. | B44: Dobava in vgradnja vodotesnih PE jaškov Ø80 cm, do globine 2,00 m s pokrovom LTŽ D400, kompletno z izdelavo AB venca iz betona C25/30 ter obdelavo priključkov | C44: kom | D44: 1 | F44: =D44*E44 -> 0
A46: 32. | B46: Dobava in vgradnja koalescentnega lovilca olj z usedalnikom s pretokom Q=30l/s in usedalnikom volumna 3000l l kot npr. ACO OLEOPATOR C-FST, vgradnja po navodilih izbranega proizvajalca, čistilni razred SIST EN 858 - 1 in 858 -2, dotočna in iztočna cev DN250, material AB, globine 2,44 m, z LTŽ pokrovom (D400), vključno z vsemi fazonskimi deli in obdelavo priključkov. Dobava in vgradnja po navodilih dobavitelja. | C46: kom | D46: 1 | F46: =D46*E46 -> 0
A48: 10. | B48: Dobava in vgradnja modularnega sistema zadrževanja padavinskih vod ACO Stormbrixx HD, višine 1,22 m, širine 3 blokov (3,6 m) in dolžine 15 blokov (9,0 m), vključno s kontrolnimi priključki, kontrolnimi bloki, modularnimi elementi za izvelavo jaška, LTŽ pokrovi, AB venci, geotekstil za notranjo in zunanjo zaščito in vsemi preostalimi fazonskimi elementi in obdelavo priključkov | C48: kom | D48: 1 | F48: =D48*E48 -> 0
A50: 11. | B50: Višinska prilagoditev pokrovov obstoječih revizijskih jaškov fekalne kanalizacije na novo višino terena. Vključno z izdelavo ležišča pokrova. | C50: kom | D50: 4 | F50: =D50*E50 -> 0
A52: F | B52: OSTALO
A53: 1. | B53: Čiščenje in pregled kanalizacijskih cevi | C53: m1 | D53: 50 | F53: =D53*E53 -> 0
A55: 2. | B55: Preizkus tesnosti kanalizacijskega omrežja s pridobitvijo poročila o preizkusu | C55: kpl | D55: 1 | F55: =D55*E55 -> 0
A57: 3. | B57: Pregled kanalizacijskih cevi s kamero in izdelava posnetka izvedenih del | C57: kpl | D57: 1
A59: 4. | B59: Nakladanje in odvoz odvečnega materiala na trajno deponijo koncesionarja do 10 km | upoštevati faktor razsutosti | obračun se vrši na podlagi evidenčnih listov | C59: m3 | D59: =D11+D13-D23 -> 131 | F59: =D59*E59 -> 0
B61: KANALIZACIJA SKUPAJ | F61: =SUM(F8:F60) -> 0

Sheet IV. Tuje storitve
A2: IV. | B2: TUJE STORITVE
A6: Poz. | B6: Opis postavke | C6: Enota | D6: Količina | E6: Cena | F6: Vrednost
A8: 1. | B8: Geotehnični nadzor (meritve zbitosti, varovanje gradbene jame..) | C8: kpl | D8: 1 | F8: =D8*E8 -> 0
A10: 2. | B10: Nadzor upravljalcev komunalnih vodov | C10: kpl | D10: 1 | F10: =D10*E10 -> 0
A12: 3. | B12: Geodetski posnetek izvedenih del | C12: kpl | D12: 1 | F12: =D12*E12 -> 0
B14: TUJE STORITVE SKUPAJ | F14: =SUM(F8:F13) -> 0
