Workbook
Name Print_Titles: 'I. PREDDELA'!$6:$6
Name Print_Titles: 'II. ODSTRANITVENA DELA'!$12:$12
Name Print_Titles: 'III. SANACIJSKA DELA'!$7:$7

Sheet SPLOŠNE ZAHTEVE IN DOLOČILA
B2: SPLOŠNA NAVODILA
B4: SPLOŠNO: Vsi projekti z načrti in vsemi grafičnimi prilogami, kot tudi ves tekstovni del, vsa poročila in vsi opisi ter sheme so sestavni del tega popisa del in jih mora ponudnik obvezno upoštevati pri sami izdelavi ponudbe. Navedene načrte, grafične priloge, ves tekstualni del, vsa poročila, vsa poročila in vsi opisi ter sheme mora ponudnik upoštevati tudi če se besedilo popisa ne sklicuje na konkretne sheme.
B5: UKREPI ZA VARSTVO PRI DELU: Vsi potrebni varnostni ukrepi in zaščite v smislu Zakona o varnosti in zdravja pri delu ter Pravilnika o listinah za sredstva pri delu, ki veljajo pri izvajanju navedenih del.
B6: TRANSPORTI TER DELOVNI REŽIM: Vsi notranji in zunanji vertikalni in horizontalni transporti do začasnih in stalnih deponij ter vsa pripravljalna, pomožna in zaključna dela pri posameznih postavkah. (tudi, če to ni posebej navedeno v posameznih postavkah). Odpadni in izkopani material se deponira na deponije, katere morajo imeti upravna dovoljenja za deponiranje posameznih vrst materiala. Ponudnik izbere lokacije posameznih deponij v skladu s tem popisom in v cenah za E.M. upošteva vse stroške deponiranja in transporta. Prikazane količine v tem popisu so v raščenem ali vgrajenem stanju. Posametni koeficienti razrahljivosti morajo biti upoštevani že v ceni za enoto mere in se posebej ne obračunavajo v količinah.
B7: KVALITETA MATERIALOV IN OPREME: Vgrajeni material in oprema mora ustrezati veljavnim normativom in predpisanim standardom, ter ustrezati kvaliteti določeni z veljavno zakonodajo ter predmetnim projektom. Ponudnik to dokaže s predložitvijo ustreznih izjav o ustreznosti, garancijskih listov in CE certifikatov pred samim vgrajevanjem.Pridobitev teh listin mora biti vkalkulirana v cenah po enoti. Projektna in tehnična dokumentacija v celoti je sestavni del tega popisa.
B8: TEHNIČNE ZAHTEVE: V kolikor v poziciji ni navedeno drugače , veljajo kot kriteriji enakovrednosti, kot za primer navedenim zvedbam vse tehnične specifikacije za posamezne elemente ali pa za sistem , ki je opisan - naveden v tehničnih podlogah proizvajalca, katerega sistem je naveden kot primer načina izvedbe in doseganja kvalitete.
B9: ZAŠČITA GRADBIŠČA IN TEHNIKE: V času izdelave objekta morajo biti vsi vgrajeni materiali kot tudi začasno deponiran material na delovišču in skladiščih zaščiteni pred fizičnimi poškodbami, dežjem, mrazom in hudim vetrom ter ostalimi škodljivimi vremenskimi pogoji.
B10: PRIPRAVLJALNA IN ZAKLJUČNA DELA: V popisu morajo biti v vseh cenah za enoto mere vkalkulirana popolnoma vsa pripravljalna, pomožna in zaključna dela, ki pripadajo k posamezni postavki in so potrebna za nemoteno izvajanje del!
B11: IZBIRA MATERIALOV IN OPREME: Materiali, ki so opremljeni s citatom: "kot na primer ali enakovredno" za ponudnika niso obvezni! Ponudnik lahko ponuja druge artikle, material in opremo, vendar samo pod pogojem, da izpolnjuje navedene kriterije, parametre in lastnosti, ki se v posamezni postavki ali splošni opombi od določenega artikla, opreme ali materiala zahtevajo! Vse vgrajene materiale in opremo, ki kakor koli odstopajo od popisa; ter vse delavniške načrte mora predhodno (pred izvedbo ali vgrajevanjem) obvezno potrditi odgovorni projektant oziroma odgovorni vodja projekta ter nadzornik!
B12: POGOJI PROJEKTA: Pri izvajanju GOI del je obvezno upoštevati vse detajle in navodila projekta, opise posameznih materialov, naprav in opreme. Vse navedeno je vgrajevati po navodilih izbranega proizvajalca in po predhodni potrditvi projektanta in nadzornika.
B13: CENA ZA ENOTO: V vsaki ceni po enoti je potrebno zajeti vse za gotove montirane in finalno obdelane izdelke - kot kompleten izdelek v skladu s projektom, brez dodatnih del za izvedbo posamezne postavke, kompletno z izdelavo vse potrebne izvedbene delavniške in montažne tehnične dokumentacije ter detajlov izvedbe. Vse rešitve je potrebno uskladiti s OVP oziroma pridobiti potrditev s strani OVP in nadzornika. POZOR: V primeru da posamezne postavke v popisu ne zajemajo celotnega opisa potrebnega za funkcionalno dokončanje postavke, mora ponudnik izvedbo le tega vključiti v ceno na enoto!

Sheet REKAPITULACIJA
A2: Tehnična specifikacija
A6: Obnova Nadzorništva Lendava
A8: REKAPITULACIJA
A11: I. | B11: ='I. PREDDELA'!B4 -> PRIPRAVLJALNA DELA | F11: ='I. PREDDELA'!F24 -> 0
A12: II. | B12: ='II. ODSTRANITVENA DELA'!B4 -> ODSTRANITVENA DELA | F12: ='II. ODSTRANITVENA DELA'!F48 -> 0
A13: III. | B13: ='III. SANACIJSKA DELA'!B4 -> SANACIJSKA DELA | F13: ='III. SANACIJSKA DELA'!F116 -> 0
B15: Dodatna in nepredvidena dela: ocenjeno 5 % | F15: =SUM(F11:F13)*0.05 -> 0
B16: "Dela naročena s strani naročnika, potrebna za dokončanje del."
B18: SKUPAJ | F18: =SUM(F11:F13,F15) -> 0
C19: 22% DDV: | F19: =F18*0.22 -> 0
C21: SKUPAJ Z DDV: | F21: =F18+F19 -> 0

Sheet I. PREDDELA
A2: A. | B2: GRADBENA DELA
A4: I. | B4: PRIPRAVLJALNA DELA
A6: Poz. | B6: Opis postavke | C6: Enota | D6: Količina | E6: Cena | F6: Vrednost
A8: =A4 -> I. | B8: =B4 -> PRIPRAVLJALNA DELA
A10: 1. | B10: Postavitev gradbiščne table skladno s pravilnikom o gradbiščih ; Ur. l. RS 55/08 in 54/09- popr. | C10: kpl | D10: 1 | F10: =D10*E10 -> 0
A12: 2. | B12: Ureditev gradbišča skladno z Varnostnim načrtom in Pravilnikom o gradbiščih Ur.l.RS 55/2008 (popr. 54/2009), ki obsega naslednja dela: - postavitev gradbiščne ograje - postavitev gradbiščnih kontejnerjev - omarica prve pomoči - gasilnik - gradbiščni el. priključek skupaj z ozemlitvijo in meritvami - postavitev kemičnega WC-ja na gradbišču - dobava in namestitev varnnostnih znakov in opozorilnih tabel po zahtevah varnostnega načrta in koordinatorja. | C12: kpl | D12: 1 | F12: =D12*E12 -> 0
A14: 3. | B14: Pospravljanje in čiščenje gradbišča med gradnjo in po končani gradnji ter odvoz odpadkov na trajno deponijo. | C14: kpl | D14: 1 | F14: =D14*E14 -> 0
A16: 4. | B16: Prestavitev in zaščita notranje opreme v času izvedbe del. | C16: kpl | D16: 1 | F16: =D16*E16 -> 0
A18: 5. | B18: Dobava, montaža in demontaža delovnih cevnih fasadnih odrov iz kovinskih cevi višine do 8,0 m. Upoštevati je enkratno postavitev za čas, ki je potreben za vsa dela na fasadi. | C18: m2 | D18: 320 | F18: =D18*E18 -> 0
A20: 6. | B20: Dobava in montaža delovnih premičnih odrov za vsa dela v notranjosti objekta. Odri višine do 6m. | C20: kpl | D20: 1 | F20: =D20*E20 -> 0
A22: 7. | B22: Projektantski nadzor. | C22: kpl | D22: 1 | F22: =D22*E22 -> 0
B24: =CONCATENATE(B8," ","SKUPAJ") -> PRIPRAVLJALNA DELA SKUPAJ | F24: =SUM(F10:F23) -> 0

Sheet II. ODSTRANITVENA DELA
A2: A. | B2: GRADBENA DELA
A4: II. | B4: ODSTRANITVENA DELA
B6: Pred izdelavo ponudbe je obvezen ogled lokacije objekta in projektne dokumentacije. Izvajalec je dolžan pri sestavi ponudbe upoštevati grafične in tekstualne dele projekta. V primeru tiskarskih napak in neskladij v projektu je dolžan na to opozoriti projektanta pred oddajo ponudbe. Pri rušitvenih delih je potrebno upoštevati Pravilnik o ravnanju z gradbenimi odpadki, kar pomeni, da je potrebno ruševine na gradbišču ločevati in ločeno odajati pooblaščenim prevzemnikom. Izvajalec mora Investitorju na koncu gradnje predati vse prevzemne liste (potrdila) o primoredaji ruševin. Enotne cene morajo upoštevati vsa opravila in stroške za kompletno izvedbo posamezne postavke (izvedbo rušitve s potrebnimi varnostnimi podporami, iznos ruševin na gradbiščno deponijo, nakladanje naprevozno sredstvo in odvoz pooblaščenemu prevzemniku ruševin).
A12: Poz. | B12: Opis postavke | C12: Enota | D12: Količina | E12: Cena | F12: Vrednost
A14: =A4 -> II. | B14: =B4 -> ODSTRANITVENA DELA
A16: 1. | B16: Demontaža obstoječih oken. V ceni postavke upoštevati tudi iznos iz objekta (vertikalni in horizontalni prenosi), sortiranje materiala, nalaganje na prevozno sredstvo, odvoz na deponijo in plačilo nadomestila na deponiji.
A17: 1.1. | B17: OKNO-I, velikosti 174×199 cm | C17: kom | D17: 4 | F17: =D17*E17 -> 0
A18: 1.2. | B18: OKNO-II, velikosti 138×78 cm | C18: kom | D18: 8 | F18: =D18*E18 -> 0
A19: 1.3. | B19: OKNO-III, velikosti 88×78 cm | C19: kom | D19: 4 | F19: =D19*E19 -> 0
A21: 2. | B21: Demontaža obstoječih pločevinastih okenskih polic deb. 0,65 mm; skladno z napredovanjem del in z vsemi prenosi, nalaganjem na prevozno sredstvo in odvoz na stalno deponijo ter plačilom takse. Točne mere preveriti na licu mesta.
A22: 2.1. | B22: - Okno O-I, l=199 cm | C22: m1 | D22: 9 | F22: =D22*E22 -> 0
A23: 2.2. | B23: - Okno O-II, l=78 cm | C23: m1 | D23: 7.5 | F23: =D23*E23 -> 0
A24: 2.3. | B24: - Okno O-III, l=78 cm | C24: m1 | D24: 4.5 | F24: =D24*E24 -> 0
A26: 3. | B26: Demontaža obstoječih notranjih vrat. V ceni postavke upoštevati tudi iznos iz objekta (vertikalni in horizontalni prenosi), sortiranje materiala, nalaganje na prevozno sredstvo, odvoz na deponijo in plačilo nadomestila na deponiji.Točne mere preverite na licu mesta.
A27: 3.1. | B27: VRATA-1, velikosti 290×83 cm | C27: kom | D27: 3 | F27: =D27*E27 -> 0
A28: 3.2. | B28: VRATA-2, velikosti 290×143 cm | C28: kom | D28: 1 | F28: =D28*E28 -> 0
A30: 4. | B30: Odstranitev notranjih talnih oblog in nizkostenskih obrob. V ceni postavke upoštevati tudi iznos iz objekta (vertikalni in horizontalni prenosi), sortiranje materiala, nalaganje na prevozno sredstvo, odvoz na deponijo in plačilo nadomestila na deponiji. Obračun po površini prostorov. Točne mere vzeti na licu mesta.
A31: 4.1. | B31: PVC talna obloga v predprostoru | C31: m2 | D31: 20 | F31: =D31*E31 -> 0
A32: 4.2. | B32: PVC talna obloga v obeh pisarnah | C32: m2 | D32: 40 | F32: =D32*E32 -> 0
A34: 5. | B34: Odstranitev sekundarne kritine. V ceni postavke upoštevati tudi iznos iz objekta (vertikalni in horizontalni prenosi), sortiranje materiala, nalaganje na prevozno sredstvo, odvoz na deponijo in plačilo nadomestila na deponiji. Obračun po površini prostora. | C34: m2 | D34: 240 | F34: =D34*E34 -> 0
A36: 6. | B36: Pregled stanja obstoječih špirovcev in eventualna zamenjava dotrajanih delov (zjaeto v sanacijskih del). | C36: kpl | D36: 1 | F36: =D36*E36 -> 0
A38: 7. | B38: Odstranitev razsvetljave v garaži. V ceni postavke upoštevati tudi iznos iz objekta, sortiranje materiala, nalaganje na prevozno sredstvo, odvoz na deponij. | C38: kom | D38: 9 | F38: =D38*E38 -> 0
A40: 8. | B40: Odstranitev pranih plošč ob objektu. V ceni postavke upoštevati prenos in deponiranje na gradbiščni deponiji za ponovno montiranje. | C40: m2 | D40: 35 | F40: =D40*E40 -> 0
A42: 9. | B42: Odstranitev tlakovcev ob vhodu v objekt. V ceni postavke upoštevati prenos in deponiranje na gradbiščni deponiji za ponovno montiranje. | C42: m2 | D42: 2 | F42: =D42*E42 -> 0
A44: 10. | B44: Odstranitev obstoječih desk napušča. V ceni postavke upoštevati tudi sortiranje materiala, nalaganje na prevozno sredstvo, odvoz na deponijo in plačilo nadomestila na deponiji. Obračun po površini prostora. Točne mere preveriti na licu mesta. | C44: m2 | D44: 150 | F44: =D44*E44 -> 0
A46: 11. | B46: Odstranitev strešne kritine vhodnega vetrolova. V ceni postavke upoštevati tudi sortiranje materiala, nalaganje na prevozno sredstvo, odvoz na deponijo in plačilo nadomestila na deponiji. Obračun po površini prostora. Točne merer preveriti na licu mesta. | C46: m2 | D46: 12 | F46: =D46*E46 -> 0
B48: =CONCATENATE(B14," ","SKUPAJ") -> ODSTRANITVENA DELA SKUPAJ | F48: =SUM(F17:F47) -> 0

Sheet III. SANACIJSKA DELA
A2: A. | B2: GRADBENA DELA
A4: III. | B4: SANACIJSKA DELA
A7: Poz. | B7: Opis postavke | C7: Enota | D7: Količina | E7: Cena | F7: Vrednost
B9: ZEMELJSKA DELA
A11: 1. | B11: Strojni odkop zemljine III. ktg. okrog objekta do globine 1 m in širine do 50 cm, za namen vgraditve HI in drenaže. | C11: m3 | D11: 41 | F11: =D11*E11 -> 0
A13: 2. | B13: Strojni odkop izkop jarka za meteorno kanalizacijo v zemljini III. ktg do globine 1 m in širine do 1 m. | C13: m3 | D13: 20 | F13: =D13*E13 -> 0
A15: 3. | B15: Planiranje in nabijanje dna jarka z natančnostjo ±2,0 cm do predpisane zbitosti v naklonu po projektu. | C15: m2 | D15: 20 | F15: =D15*E15 -> 0
A17: 4. | B17: Zasip kanalizacije z izkopani materialom III. ktg. z nabijanjem v slojih po 20 cm, zasipni material je deponiran ob robu izkopa - v primeru, da izkopani material ni primeren za zasipe, je potrebno v ceno vključiti drobljenec 0-31 iz zunanjih virov. | C17: m3 | D17: 20 | F17: =D17*E17 -> 0
A19: 5. | B19: Zasip jarka z izkopanim materialom III. ktg. z nabijanjem, za vgradnjo HI in drenaže | C19: m3 | D19: 41 | F19: =D19*E19 -> 0
A21: =A16 -> 0 | B21: KANALIZACIJSKA DELA
A23: 1. | B23: Dobava in montaža PVC kanalskih cevi, kompletno z vodotesno obdelavo stikov, dobavo in montažo vseh fazonskih komadov in pripravo ležišča. Vključno z dobavo in vgradnjo peščene posteljice.
B24: PVC 110/SN8 (peščena posteljica) | C24: m1 | D24: 21 | F24: =D24*E24 -> 0
A26: 2. | B26: Dobava in vgradnja PE peskolova Ø50 cm, do globine 1 - 1,5m, s pokrovom LTŽ A15, kompletno z izdelavo AB venca iz betona C25/30 ter obdelavo priključkov. | C26: kom | D26: 2 | F26: =D26*E26 -> 0
A28: 3. | B28: Planiranje in nabijanje dna jarka z natančnostjo ±2,0 cm do predpisane zbitosti v naklonu po projektu. | C28: m2 | D28: 20 | F28: =D28*E28 -> 0
A30: 4. | B30: Dobava in vgradnja PVC revizijskega jaška Ø50 cm do globine 1 - 1,5 m, s pokrovom LTŽ A15, kompletno z izdelavo AB venca iz betona C25/30 ter obdelavo priključkov. | C30: kom | D30: 1 | F30: =D30*E30 -> 0
B32: ZIDARSKA DELA
A34: 1. | B34: Izdelava vertikalne hidroizolacije zunanjih vkopanih sten: | C34: m2 | D34: 82 | F34: =D34*E34 -> 0
A35: - | B35: čiščenje in izravnava s fino mikroarmirano malto
A36: - | B36: izvedba prednamaza npr. Ibitol HS, povprečna poraba 0,30 kg/m2
A37: - | B37: vgradnja dveh slojev polimet-bitumenskega varilnega traku deb. 5mm s poliestrskim filcem (kot npr. Fragmat Izotekt P5 plus polno navarjen). Preklop min. 10 cm
A38: - | B38: izvedba toplote izolacije in mehanske zaščite vertikalne hidroizolacije iz ekstrudiranega poliestirena XPS (SIST EN 13164), debeline 5,00 cm. Gladke plošče s stopničastimi preklopi lepljene na hidroizolacijo s PUR enokomponentnim lepilom
A39: - | B39: izvedba dodatne zaščite toplotne izolacije vertikalne hidroizolacije z dobavo in polaganjem HDPE čepaste folije. Polaganje po sistemu, da so čepki obrnjeni proti steni kar omogoča pravilno odvajanje oziroma dreniranje vode
A41: 2. | B41: Izvedba drenaže okoli objekta iz perforirane visokokvalitetne PVC cevi DN110 mm vključno s polaganje filca in izvedbo drenažnega nasutja nasutja iz rečnega prodca frakcije 16- 32 mm. V ceni zajeti tudi izvedbo betonske posteljice ter priklop drenaže na meteorno kanalizacijo. | C41: kpl | D41: 1 | F41: =D41*E41 -> 0
A43: 3. | B43: Dobava in vgradnja sekundarne kritine - paroprepustne folije (kot npr. Knauf Insulation Homeseal LDS 0,04) fizična zaščita vgrajene toplotne izolacije na strešni konstrukciji objekta. Vgradnja po detajlih in navodilih proizvajalca. Komplet z vsemi pomožnimi deli, materialom in prenosi. | C43: m2 | D43: 240 | F43: =D43*E43 -> 0
A45: 4. | B45: Dobava in vgradnja izolacijskega materiala iz mineralne volne za toplotno izolacijo poševne strehe deb. 26 cm, izvedba na način iz notranje strani, vgradnja izolacije med leseno konstrukcijo ostrešja (med špirovci) in dodatna vgradnja pod špirovci. Vgradnja po detajlih in navodilih proizvajalca. Komplet z vsemi pomožnimi deli, materialom in prenosi. | C45: m2 | D45: 240 | F45: =D45*E45 -> 0
A46: - | B46: Vgradnja prvega sloja toplotne izolacije med špirovci z izolacijskim filcem iz mineralne steklene volne Knauf Insulation Ecose, razred odziva na ogenj A1 po SIST EN 13501-1, toplotna prevodnost λd = 0,032 W/mK, npr. Knauf Insulation UNIFIT 032, debelina izolacije 16 cm glede na višino špirovca, da se zapolni celoten prostor med špirovci, izolacija se vgrajuje tesno brez večjih reg s cca 2 cm nadmere glede na razmik med sosednjima špirovcema
A47: - | B47: Vgradnja drugega sloja toplotne izolacije pod špirovci; pod špirovci se najprej namesti kovinsko podkonstrukcijo, med katero se vgradi izolacijski filc iz mineralne steklene volne Knauf Insulation Ecose, razred odziva na ogenj A1 po SIST EN 13501-1, toplotna prevodnost λd = 0,032 W/mK, npr. Knauf Insulation UNIFIT 032, debelina izolacije 10 cm
A48: - | B48: Vgradnja parne zapore (kot npr. Knauf Insulation Homeseal LDS 100), na obstoječo podeskano strešno konstrukcijo. Vgradnja po sistemu tesnosti - zlepljeni vsi spoji, preklopi, preboji, po detajlih in navodilih proizvajalca. Folijo je obvezno potrebno polepiti na preklopnih spojih, ki naj bodo širine min. 10 cm, z enostranskim lepilnim trakom širine 60 mm, npr. Homeseal LDS Soliplan. Komplet z vsemi pomožnimi deli, čiščenje, materialom in prenosi. Obračun po m2.
A50: 5. | B50: Dobava in vgradnja stropne obloge poševne strehe iz mavčno-kartonskih ognjeodpornih plošč, deb. 15 mm na tipski dvonivojski kovinski podkonstrukciji. Obdelava stikov med mavčnimi ploščami - fugiranje (bandažiranje) v kakovosti Q2 | C50: m2 | D50: 240 | F50: =D50*E50 -> 0
A52: 6. | B52: Zidarska pomoč obrtnikom in instalaterjem in razna druga manjša dela. | C52: kpl | D52: 1 | F52: =D52*E52 -> 0
B54: KROVSKO-KLEPARSKA DELA
A56: 1. | B56: Izdelava obloge napušča z montažno kovinsko podkonstrukcijo, pritrjeno v ostrešje objekta. Na podkonstrukcijo se pritrdijo OSB plošče. | C56: m2 | D56: 150 | F56: =D56*E56 -> 0
A58: 2. | B58: Dobava in montaža novega pločevinastega napušča objekta v antracit sivi barvi oz. po izboru investitorja. | C58: m2 | D58: 105 | F58: =D58*E58 -> 0
A60: 3. | B60: Dobava in montaža nove strešne kritine vetrolovna, z vsem pomožnim,pritrdilnim materilom, zidnimi obrobami in zaključki. | C60: m2 | D60: 12 | F60: =D60*E60 -> 0
A62: 4. | B62: Dobava in montaža žlebov in odtočnih vertikal vertolova, ter navezava na peskolove. | C62: m1 | D62: 15 | F62: =D62*E62 -> 0
A64: 5. | B64: Obnova lesenega ostrešja. Premaz z insekticidnim in fungicidnim premazom, nanosom impregnacije lesa ter 2x barvanjem oz. do popolnega prekritja osnovne podlage | C64: kpl | D64: 1 | F64: =D64*E64 -> 0
A66: =A65 -> 0 | B66: SUHOMONTAŽNA DELA
A68: 1. | B68: Izdelava, dobava in montaža mavčno kartonske stene. Predelna stena d = 125 mm, enojna kovinska podkonstrukcija d = 75 mm, obojestranska dvoslojna obloga z mavčnimi ploščami d = 12,5 mm, samonosna izolacija d = 50 mm, zvočna izolativnost Rw = 52 dB, bandažirano v kakovosti Q2, višina stene do 3,20 m Izvedba po navodilih in detajlu proizvajalca. Fugiranje mavčnih plošč v kvaliteti Q2! Vključiti slikanje s kvalitetno belo barvo - disperzijska barva ( 2x ). Vključno z oajčitvamenimi profili vratne odprtine. | C68: m2 | D68: 30 | F68: =D68*E68 -> 0
A70: =A69 -> 0 | B70: STAVBNO POHIŠTVO
A72: 1. | B72: Kompletna dobava in montaža okna O-1: - dvokrilno okno, dim. 174/199 cm - okvir in krilo: večkomorni PVC okvir s prekinjenim toplotnim mostom, barva po izboru investitorja, - zasteklitev: 2 slojno izolativno steklo (Ug=min 1,1 W/m2K), z zvočno izolacijo stekla Rw =32dB - odpiranje: krilo in ventus, - okovje: klasično - okenske police: PVC polica, bela (po izboru investitorja) - oprema: PVC kljuka (barva po izboru investitorja) - opombe: montaža na zidani parapet; podane so zidarske odprtine, vse mere preveriti na objektu, obvezni atesti v skladu z zakonodajo, v ponudbi je potrebno zajeti ves potreben material, RAL vgradnja po navodilih dobavitelja. Glej sheme PZI! | C72: kom | D72: 4 | F72: =D72*E72 -> 0
...
