Workbook

Sheet REK. G+O
A2: POPIS DEL
A6: REKAPITULACIJA
B10: GRADBENA DELA in EI DELA | F10: ='A. REK. ZU'!F14 -> 0
B12: Dodatna in nepredvidena dela: 10% | F12: =0.1*(F10) -> 0
B13: "Dela naročena s strani naročnika, potrebna za dokončanje del."
B15: SKUPAJ: | F15: =SUM(F10,F12) -> 0

Sheet A. REK. ZU
A2: POPIS DEL
A6: REKAPITULACIJA
A9: I. | B9: PRIPRAVLJALNA DELA | F9: ='I. Pripravljalna dela ZU'!F22 -> 0
A10: II. | B10: KANALIZACIJA | F10: ='II. Zemeljska dela'!F31 -> 0
A11: III. | B11: UTRJENE POVRŠINE | F11: ='III. Utrjene površine'!F22 -> 0
A12: IV. | B12: TUJE STORITVE | F12: ='IV. Tuje storitve'!F16 -> 0
A13: V. | B13: EI DELA | F13: ='V. EI Dela'!F50 -> 0
B14: SKUPAJ | F14: =SUM(F9:F13) -> 0

Sheet I. Pripravljalna dela ZU
A2: A. | B2: ZUNANJA UREDITEV
A4: I. | B4: PRIPRAVLJALNA DELA
A6: Poz. | B6: Opis postavke | C6: Enota | D6: Količina | E6: Cena | F6: Vrednost
A8: 1. | B8: Rezanje asfalta debeline do 10 cm | C8: m1 | D8: 21 | F8: =D8*E8 -> 0
F9: =D9*E9 -> 0
A10: 2. | B10: Rezkanje asfalta za preklope med starim in novim asfaltom, za obrabno plast v debelini 3 cm in širini 50 cm | C10: m1 | D10: 21 | F10: =D10*E10 -> 0
A12: 3. | B12: Varovanje gradbene jame | C12: kpl | D12: 1 | F12: =D12*E12 -> 0
F13: =D13*E13 -> 0
A14: 4 | B14: Rušenje asfalta do 9 cm, z nakladanjem in transportom ruševin na trajno deponijo koncesionarja do 10 km | C14: m2 | D14: 26 | F14: =D14*E14 -> 0
F15: =D15*E15 -> 0
A16: 5. | B16: Definiranje višinskih kot med gradnjo (kanalizacije, planumi,…) | C16: kpl | D16: 1 | F16: =D16*E16 -> 0
F17: =D17*E17 -> 0
A18: 6. | B18: Zakoličba raznih komunalnih vodov s strani upravljalcev | C18: kpl. | D18: 1 | F18: =D18*E18 -> 0
F19: =D19*E19 -> 0
A20: 7. | B20: Pregled kanalizacijskega omrežja s kamero pred in po izvedbi del, vključno z izdajo poročila (tiskano in na digitalnem mediju) | C20: kpl. | D20: 1 | F20: =D20*E20 -> 0
B22: PRIPRAVLJALNA DELA SKUPAJ | F22: =SUM(F8:F21) -> 0

Sheet II. Zemeljska dela
A2: II. | B2: ZEMELJSKA DELA
B4: OPOMBA: Vsa izkopna dela in transporti izkopanih materialov se obračunajo po prostornini izkopane zemljine v raščenem stanju! Vsa nasipna dela se obračunajo po prostornini zemljine v vgrajenem stanju! Pri izvedbi zemeljskih del je obvezna prisotnost geomehanika! Upoštevana so zemeljska dela za potrebe izvedbe ZU in infrastrukture.
A6: Poz. | B6: Opis postavke | C6: Enota | D6: Količina | E6: Cena | F6: Vrednost
A8: 1. | B8: Ozki izkop obstoječega tamponskega materiala v debelini cca 50. cm, z deponiranjem na gradbišču za ponovno vgradnjo. | C8: m3 | D8: 12 | F8: =E8*D8 -> 0
A10: 2. | B10: Široki odkop ostalega materiala - zemljine III. ktg in mešanega gradbenega odpada do globine 3,50 m, z nakladanjem na prevozno sredstvo in odvoz na trajno deponijo | upoštevati faktor razsutosti | C10: m3 | D10: 60 | F10: =D10*E10 -> 0
A12: 3. | B12: Planiranje in nabijanje dna jarka z natančnostjo ±2,0 cm do predpisane zbitosti v naklonu po projektu | C12: m2 | D12: 10 | F12: =D12*E12 -> 0
A14: 4. | B14: Dobava in polaganje PVC DN200 SN8 cevi kompletno z vodotesno obdelavo stikov, dobavo in montažo vseh fazonskih komadov in pripravo ležišča:
A15: a. | B15: podložni beton in polno obbetoniranje | C15: m1 | D15: 1 | F15: =D15*E15 -> 0
A17: 5. | B17: Odstranitev separatorja olj z integriranim usedalnikom cevi Ø240 cm, globine 3,00 m, z LTŽ pokrovom (D400), vključno z nakladanjem in odvoz na trajno deponijo | C17: kom | D17: 1 | F17: =D17*E17 -> 0
A19: 6. | B19: Izdelava podbetonov za lovilec olj iz betona C12/15 debeline cca. 15 cm | C19: m3 | D19: 2 | F19: =D19*E19 -> 0
A21: 7. | B21: Dobava in vgradnja separatorja olj z integriranim usedalnikom cevi Ø147,5 cm, globine 2,17 m, z LTŽ pokrovom (D400), kompletno z izdelavo AB venca C25/30 in obdelavo priključkov - glej detajl vgradnje (kot npr. ACO Oleopator C-FST 10l/s, 1000 l) | C21: kom. | D21: 1 | F21: =D21*E21 -> 0
F22: =D22*E22 -> 0
A23: 8. | B23: Zasip bokov cevi in temena z naravnim prodom granulacije 8-16, vključno z dobavo in transportom materiala | C23: m3 | D23: 0.5 | F23: =E23*D23 -> 0
A25: 9. | B25: Zasip lovilca olj z usedalnikom z gramoznim materialom granulacije 0-31 mm ustrezne zbitosti v širini najmanj 50 cm od sten jaškov | zgoščenost najmanj 97% po SPP, vključno z dobavo in transportom materiala | C25: m3 | D25: 26 | F25: =E25*D25 -> 0
A27: 10. | B27: Zasip kanalizacije z izkopanim materialom III. kategorije z nabijanjem v slojih po 20 cm, zasipni material je deponiran ob robu izkopa - v primeru, da izkopani material ni primeren za zasipe je potrebno v ceno vključiti drobljenec 0-31 iz zunanjih virov | C27: m3 | D27: 24 | F27: =D27*E27 -> 0
A29: 11. | B29: Nakladanje in odvoz odvečnega materiala na trajno deponijo koncesionarja do 10 km | upoštevati faktor razsutosti | obračun se vrši na podlagi evidenčnih listov | C29: m3 | D29: 36 | F29: =D29*E29 -> 0
B31: ZEMLJSKA DELA SKUPAJ | F31: =SUM(F8:F30) -> 0

Sheet III. Utrjene površine
A2: III. | B2: UTRJENE POVRŠINE
A4: Poz. | B4: Opis postavke | C4: Enota | D4: Količina | E4: Cena | F4: Vrednost
A6: 1. | B6: Planum naravnih temeljnih tal z utrjevanjem in izdelava predpisanih nagibov | C6: m2 | D6: 26 | F6: =D6*E6 -> 0
A8: 2. | B8: Dobava in vgradnja drenažnofilterske plasti iz polsti 200 g/m2, natezne trdnost vzd./preč. > 14/14 kN/m, raztezek vzd./preč. > 30/30%, dinamični prebod < 30mm, prebojna trdnost CBR > 2000N, preko dna gradbene jame, gramatura po geomehanikovih zahtevah, preklop min. 20 cm; | C8: m2 | D8: 23 | F8: =D8*E8 -> 0
A10: 3. | B10: Vgradnja in izdelava nevezane nosilne plasti gramoza 0/64 - zmrzlinska greda - v slojih debeline z valjanjem do predpisane nosilnost Ev2 = 80 Mpa, zbitosti 98% po modificiranem postopku po Proctorju - uporabiti material iz gradbiščne deponije (v primeru, da izkopani material ni primeren za zasipe je potrebno v ceno vključiti material iz zunanjih virov) | C10: m3 | D10: 5 | F10: =D10*E10 -> 0
A12: 4. | B12: Dobava, vgradnja in izdelava nevezane nosilne plasti iz tamponskega drobljenca TD32 v debelini 30 cm z valjanjem do predpisane zbitosti Me = 100 Mpa ter planiranje z natančnostjo ± 1,0 cm - uporabiti | C12: m3 | D12: 8 | F12: =D12*E12 -> 0
A14: 5. | B14: Pobrizg stika na obstoječem asfaltu z bitumensko emulzijo | C14: m1 | D14: 21 | F14: =D14*E14 -> 0
A16: 6. | B16: Premaz kontaktnih površin prstanov LTŽ jaškov | C16: kom | D16: 1 | F16: =D16*E16 -> 0
F17: =D17*E17 -> 0
A18: 8. | B18: Izdelava, dovoz in strojno vgrajevanje bitumenske nosilne plasti AC22 BASE 50/70 A3, v debelini 5 cm, vključno z vsem potrebnim materialom, po vzorcu obstoječega asfalta | C18: m2 | D18: 26 | F18: =D18*E18 -> 0
F19: =D19*E19 -> 0
A20: 9. | B20: Izdelava, dovoz in strojno vgrajevanje bitumenske obrabne plasti AC8 SURF 50/70 A3, v debelini 3 cm, vključno z vsem potrebnim materialom, po vzorcu obstoječega asfalta | C20: m2 | D20: 26 | F20: =D20*E20 -> 0
F21: =D21*E21 -> 0
B22: UTRJENE POVRŠINE SKUPAJ | F22: =SUM(F6:F21) -> 0

Sheet IV. Tuje storitve
A2: IV. | B2: TUJE STORITVE
A4: Poz. | B4: Opis postavke | C4: Enota | D4: Količina | E4: Cena | F4: Vrednost
A6: 1. | B6: Nadzor upravljalcev komunalnih vodov | C6: kpl. | D6: 1 | F6: =D6*E6 -> 0
A8: 2. | B8: Meritve zbitosti | C8: kpl. | D8: 1 | F8: =D8*E8 -> 0
A10: 3. | B10: Projektantski nadzor | C10: kpl. | D10: 1 | F10: =E10*D10 -> 0
A12: 4. | B12: Izdelava geodetskega posnetka izvedenih del | C12: kpl. | D12: 1 | F12: =E12*D12 -> 0
A14: 5. | B14: PID | C14: kpl. | D14: 1 | F14: =E14*D14 -> 0
B16: TUJE STORITVE SKUPAJ | F16: =SUM(F5:F14) -> 0

Sheet V. EI Dela
A1: 4. | B1: POPIS DEL IN MATERIALA RTP KOROŠKA VRATA
A3: Poz. | B3: Opis postavke | C3: EM | D3: kol. | E3: cena/EM | F3: znesek
E4: [EUR] | F4: [EUR]
A5: 1. | B5: Kombinirani ročno/strojni (30/70%) izkop in zasip kabelskega jarka v (zasip-nabijanje v plasteh po 20 cm) zemljini III. - V. kat. dim 0,4 × 1,0m, obbetoniranje cevi stigmafleks 80 (beton C8/10, 1 cev) ter ponovni zasip in planiranje | C5: m3 | D5: 3 | F5: =D5*E5 -> 0
A7: 2. | B7: Rezanje asfalta debeline do 10 cm | C7: m | D7: 10 | F7: =D7*E7 -> 0
A9: 3. | B9: Rezkanje asfalta za preklope med starim in novim asfaltom, za obrabno plast v debelini 3 cm in širini 50 cm | C9: m | D9: 10 | F9: =D9*E9 -> 0
A11: 4. | B11: Rušenje asfalta do 9 cm, z nakladanjem in transportom ruševin na trajno deponijo koncesionarja do 10 km | C11: m2 | D11: 5 | F11: =D11*E11 -> 0
A13: 5. | B13: Priprava jarka za polaganje cevi v plast kamenja okrog oljne jame transformatorjev | C13: m | D13: 10 | F13: =D13*E13 -> 0
A15: 6. | B15: Dobava in polaganje fleksibilne instalacijske cevi, kot npr. STIGMAFLEX Ø80, od lovilca olj in oljne jame do obstoječe kabelske kanalete | C15: m | D15: 20 | F15: =D15*E15 -> 0
A17: 7. | B17: Dobava in polaganje fleksibilne instalacijske cevi, kot npr. STIGMAFLEX Ø80, od lovilca olj do oljne jame s podložnim betonom in polnim obbetoniranjem | C17: m | D17: 10 | F17: =D17*E17 -> 0
A19: 8. | B19: Nakladanje in odvoz odvečnega materiala na trajno deponijo koncesionarja do 10 km | upoštevati faktor razsutosti | obračun se vrši na podlagi evidenčnih listov | C19: kpl | D19: 1 | F19: =D19*E19 -> 0
A21: 9. | B21: Dobava, vgradnja in izdelava nevezane nosilne plasti iz tamponskega drobljenca TD32 v debelini 30 cm z valjanjem do predpisane zbitosti Me = 100 Mpa ter planiranje z natančnostjo ± 1,0 cm | C21: m3 | D21: 5 | F21: =D21*E21 -> 0
A23: 10. | B23: Pobrizg stika na obstoječem asfaltu z bitumensko emulzijo | C23: m1 | D23: 10 | F23: =D23*E23 -> 0
A25: 11. | B25: Izdelava, dovoz in strojno vgrajevanje bitumenske nosilne plasti AC22 BASE 50/70 A3, v debelini 5 cm, vključno z vsem potrebnim materialom, po vzorcu obstoječega asfalta | C25: m2 | D25: 5 | F25: =D25*E25 -> 0
A27: 12. | B27: Izdelava, dovoz in strojno vgrajevanje bitumenske obrabne plasti AC8 SURF 50/70 A3, v debelini 3 cm, vključno z vsem potrebnim materialom, po vzorcu obstoječega asfalta | C27: m2 | D27: 5 | F27: =D27*E27 -> 0
A29: 13. | B29: Dobava in polaganje kabla NYCY 2×0,75mm2 v cev ali po kabelskih policah z obojestranskim priključevanjem | C29: m | D29: 110 | F29: =D29*E29 -> 0
A31: 14. | B31: Dobava in polaganje kabla po objektu po kabelskih policah z obojestranskim priključevanjem
B32: - NYCY-J 5×1,5 | C32: m | D32: 25 | F32: =D32*E32 -> 0
B33: - NYCY-J 3×2,5 | C33: m | D33: 45 | F33: =D33*E33 -> 0
A35: 15. | B35: Dobava in montaža kabelskega kanala NIK 40×40mm | C35: m | D35: 2 | F35: =D35*E35 -> 0
A37: 16. | B37: Kabelski konektor za spoj med kablom senzorja in signalnim kablom speljanim v komandni prostor NYCY 2×0,75mm2 | C37: kos | D37: 2 | F37: =D37*E37 -> 0
A39: 17. | B39: Dobava, montaža dvorednega 2×12 modulov nadometnega inšatalacijskega razdelilnika s prozornimi vratci | C39: kos | D39: 1 | F39: =D39*E39 -> 0
A41: 18. | B41: Dobava, montaža in ožičenje opreme v novem razdelilniku: - 2 kos alarmna naparava za oljno jamo in lovilec olj, tip iDOil-D30, Labkotec, - ostali drobni spojni in vezni material | C41: kpl | D41: 1 | F41: =D41*E41 -> 0
A43: 19. | B43: Dobava, montaža in ožičenje opreme v obstoječi omari izmeničnega razvoda v RTP: - 2 kos pomožni rele 2×CO kontakt, s tuljavo 110V DC - ostali drobni spojni in vezni material | C43: kpl | D43: 1 | F43: =D43*E43 -> 0
A45: 20. | B45: Dobava in vgraditev senzorjev v oljno jamo za dvig gladine vode: - idOil-LIQ, Labkotec | C45: kos | D45: 2 | F45: =D45*E45 -> 0
A47: 21. | B47: Dobava in vgraditev senzorjev v oljno jamo za dvig gladine olja: - idOil-OIL, Labkotec | C47: kos | D47: 1 | F47: =D47*E47 -> 0
A49: 22. | B49: Izvedba električnih meritev za jakotočno instalacijo in izdaja merilnih protokolov | C49: kpl. | D49: 1 | F49: =D49*E49 -> 0
B50: SKUPAJ: | F50: =SUM(F5:F49) -> 0
