Workbook

Sheet  REK.
A2: POPIS DEL
A7: REKAPITULACIJA
A9: I. | B9: ='I. Preddela'!B5 -> PRIPRAVLJALNA IN ZAKLJUČNA DELA | C9: ='I. Preddela'!F27 -> 0
A10: II. | B10: ='II. Rušitvena dela'!B5 -> RUŠITVENA DELA | C10: ='II. Rušitvena dela'!F15 -> 0
A11: III. | B11: ='III. Ograja'!B5 -> PANELNA OGRAJA + ALU POLNILA | C11: ='III. Ograja'!F25 -> 0
B12: Skupaj I+II+III | C12: =SUM(C9:C11) -> 0
B13: Dodatna in nepredvidena dela: 10 % | C13: =0.1*C12 -> 0
B15: SKUPAJ | C15: =SUM(C12:C13) -> 0

Sheet I. Preddela
A1: A. | B1: GRADBENA DELA
A3: Poz. | B3: Opis postavke | C3: Enota | D3: Količina | E3: Cena | F3: Vrednost
A5: I. | B5: PRIPRAVLJALNA IN ZAKLJUČNA DELA
A7: 1. | B7: Geodetska zakoličba trase in komunalnih vodov ter višinska zakoličba ograje pred izvedbo del ter vse ostale geodetske storitve tekom gradnje | C7: kpl | D7: 1 | F7: =D7*E7 -> 0
A9: 2. | B9: Izdelava Varnostnega načrta ter nadzor VPD | C9: kpl | D9: 1 | F9: =D9*E9 -> 0
A11: 3. | B11: Ureditev gradbišča z vsemi spremljajočimi deli, izdelava, dobava, montaža, vzdrževanje v času gradnje in odstranitev po koncu gradnje, izvedba skladno z varnostnim načrtom. | C11: kpl | D11: 1 | F11: =D11*E11 -> 0
A13: 4. | B13: Dobava in montaža gradbiščne panelne ograje, kompletno z podstavki/sidranjem v tla, vključno z amortizacijo. Natančna izvedba po dogovoru z naročnikom. | C13: m1 | D13: 250 | F13: =D13*E13 -> 0
A15: 5. | B15: Delna zapora ceste (Elaborat zapore in izvedba delne zapore s prometnimi znaki) | C15: kpl | D15: 1 | F15: =D15*E15 -> 0
A17: 6. | B17: Izdelava PID projekta vključno z vnašanjem sprememb v PZI. | C17: kpl | D17: 1 | F17: =D17*E17 -> 0
A19: 7. | B19: Geodetski posnetek po končanih delih | C19: kpl | D19: 1 | F19: =D19*E19 -> 0
A21: 8. | B21: Projektantski nadzor | C21: kpl | D21: 1 | F21: =D21*E21 -> 0
A23: 9. | B23: Humuziranje, zatravitev | C23: kpl | D23: 1 | F23: =D23*E23 -> 0
A25: 10. | B25: Pospravljanje in čiščenje gradbišča med in po končanih delih | C25: kpl | D25: 1 | F25: =D25*E25 -> 0
B27: PRIPRAVLJALNA IN ZAKLJUČNA DELA SKUPAJ | F27: =SUM(F7:F25) -> 0

Sheet II. Rušitvena dela
A1: A. | B1: GRADBENA DELA
A3: Poz. | B3: Opis postavke | C3: Enota | D3: Količina | E3: Cena | F3: Vrednost
A5: II. | B5: RUŠITVENA DELA
A7: 1. | B7: Odstranitev obstoječe ograje (mreža in betonski del) višine cca. 250 cm vključno s temelji ter transportom materiala na stalno deponijo in plačilom vseh stroškov deponije. Odstranjevalna dela skladno z varnostnim načrtom. | C7: m1 | D7: 216.5 | F7: =D7*E7 -> 0
A9: 2. | B9: Odstranitev obstoječega rastja in dreves - v obsegu, potrebnem za nemoteno izvedbo del in sicer v celoti na zunanji strani ter v pasu 5m na notranji strani ograje. Dela zajemajo strojno sekanje grmičevja z zlaganjem na kupe, ter strojno sekanje dreves z odsekavanjem vej in razrezom na transportno dolžino. Vključno z vsemi zaščitnimi in dodatnimi deli ter odvozom na deponijo, predajo pooblaščenemu prevzemniku in plačilom taks. | C9: kpl | D9: 1 | F9: =D9*E9 -> 0
A11: 3. | B11: Sanacija obstoječih kamnitih zložb - z visokotlačnim pranjem, čiščenjem stikov in fugiranjem s cememntno malto v razmerju 1:2. (4 kamnite zložbe dimenzij 2,5 m x 0,5 m x 4 m) | C11: kpl | D11: 1 | F11: =D11*E11 -> 0
A13: 4. | B13: Ostala dela - premik obstoječe opreme, kolutov, zaščita predmetov | C13: kpl | D13: 1 | F13: =D13*E13 -> 0
B15: RUŠITVENA DELA SKUPAJ | F15: =SUM(F7:F14) -> 0

Sheet III. Ograja
A1: A. | B1: GRADBENA DELA
A3: Poz. | B3: Opis postavke | C3: Enota | D3: Količina | E3: Cena | F3: Vrednost
A5: III. | B5: PANELNA OGRAJA + ALU POLNILA
A7: 1. | B7: Strojni izkop za pasovne temelje ograje globine do 90 cm in širine 150 cm po celotni trasi. Izkop v zemljini III. - IV. ktg. Globino izkopa določiti na licu mesta z predhodno višinsko zakoličbo celotne trase ograje. V ceni upoštevati ročni izkop na mestu komunalnih vodov,prečkanj itd.. | C7: m3 | D7: 300 | F7: =D7*E7 -> 0
A9: 2. | B9: Zasip z izkopanim materialom in ročno planiranje ter strojno utrjevanje dna jarka s komprimiranjem do zbitosti 97% SPP | C9: m3 | D9: 173.5 | F9: =D9*E9 -> 0
A11: 3. | B11: Nakladanje in odvoz viškov izkopanega materiala III. in IV. kategorije na trajno deponijo koncesionarja do razdalje 10 km (upoštevati faktor razsutosti F=1,25 | C11: m3 | D11: 160 | F11: =D11*E11 -> 0
A13: 4. | B13: Dobava in vgradnja nearmiranega betona C12/15; podložni beton pasovnih temeljev, debeline 10 cm. | C13: m3 | D13: =(0.6*0.1*216.5)*1.1 -> 14.289 | F13: =D13*E13 -> 0
A15: 5. | B15: Dobava, montaža, demontaža in čiščenje dvostranskega opaža vertikalnih površin pasovnih temeljev z vsem potrebnim pritrjevanjem in opiranjem. | C15: m2 | D15: =1.3*216.5*2 -> 562.9 | F15: =D15*E15 -> 0
A17: 6. | B17: Dobava in izdelava pasovnih temeljev ograje - beton C30/37 PVII XC2,XF3 spremenljive višine 80-120 cm pod terenom in 20 cm parapetnega nastavka nad terenom. Vključno z vsemi potrebnimi dodatnimi, zaščitnimi in zaključnimi deli. Vsi vidni robovi morajo biti posneti (letvice dim. 3 x 3 cm). | C17: m3 | D17: =0.4*1.3*216.5 -> 112.58 | F17: =D17*E17 -> 0
A19: 7. | B19: Dobava, krivljenje, polaganje in vezanje rebraste armature B500B Količine so ocenjene! | C19: kg | D19: =D17*110 -> 12383.8 | F19: =D19*E19 -> 0
A21: 8. | B21: Dobava in motaža kovinske panelne ograje, širina panela 250 cm, višino panela prilagoditi na licu mesta (max. 3,50 m od kote terena-po dogovoru z investitorjem), premer žice min 5 mm, velikost okenc max. 50 x 200 mm, stebrički 60/40 mm privijačeni na betonske temelje ter vsem pritrdilnim in montažnim materialom. Panel elektrovarjen iz jeklenih palic, vroče cinkan in prašno barvan z UV odporno barvo po izboru investitorja (npr. antracit siva RAL 7016). Izvedba po navodilih proizvajalca (kot npr. Kočevar). Krajne panele dimenzijsko prilagoditi na licu mesta. Pred naročilom obvezno preveriti mere na licu mesta! | C21: m1 | D21: 153 | F21: =D21*E21 -> 0
A23: 9. | B23: Dobava in motaža ALU ograje s polnili, širina panela 250 - 500 cm, višino panela prilagoditi na licu mesta (max. 3,50 m od kote terena - po dogovorju z invetistorjem), vključno s stebrički ter vsem pritrdilnim in montažnim materialom. Barva in logotip po izboru investitorja. Izvedba po navodilih proizvajalca (kot npr. Mastnak). Krajne panele dimenzijsko prilagoditi na licu mesta. Pred naročilom obvezno preveriti mere na licu mesta! | C23: m1 | D23: 55 | F23: =D23*E23 -> 0
B25: PANELNA OGRAJA + ALU POLNILA SKUPAJ | F25: =SUM(F6:F24) -> 0
