Workbook

Sheet REKAPITULACIJA
A2: POPIS DEL
A6: SKUPNA REKAPITULACIJA
A9: A. | B9: ='REK G.'!B8 -> GRADBENA DELA | F9: ='REK G.'!F15 -> 0
B10: Dodatna in nepredvidena dela: 5 % | F10: =SUM(F8:F9)*0.05 -> 0
B12: SKUPAJ | F12: =SUM(F8:F9,F10) -> 0

Sheet REK G.
A2: POPIS DEL
A6: REKAPITULACIJA
A8: A. | B8: ='I. PREDDELA'!B2 -> GRADBENA DELA
A10: I. | B10: ='I. PREDDELA'!B8 -> PRIPRAVLJALNA DELA | F10: ='I. PREDDELA'!F32 -> 0
A11: II. | B11: ='II. ZEMELJSKA DELA'!B20 -> ZEMELJSKA DELA | F11: ='II. ZEMELJSKA DELA'!F44 -> 0
A12: III. | B12: ='III. ODVODNJAVANJE'!B8 -> ODVODNJAVANJE | F12: ='III. ODVODNJAVANJE'!F27 -> 0
A13: IV. | B13: ='[1]IV. ASFALTERSKA DELA'!B4 -> ASFALTERSKA DELA | F13: ='IV. ASFALTERSKA DELA'!F20 -> 0
B15: SKUPAJ | F15: =SUM(F10:F13) -> 0

Sheet I. PREDDELA
A2: A. | B2: GRADBENA DELA
A4: I. | B4: PRIPRAVLJALNA DELA
A6: Poz. | B6: Opis postavke | C6: Enota | D6: Količina | E6: Cena | F6: Vrednost
A8: =A4 -> I. | B8: =B4 -> PRIPRAVLJALNA DELA
A10: 1. | B10: Priprava gradbišča z vsemi pripravljanimi in zaključnimi deli (vključno s čiščenjem gradbišča po končanih delih, pospravljanje, odstranjevanje naravnih ovir, vsi stroški za zagotavljanje varnosti in zdravja pri delu itd.) | C10: PA | D10: 1 | E10: 0 | F10: =D10*E10 -> 0
A12: 2. | B12: Zakoličba osi kanalizacije z oznako jaškov In ostalih elementov kanalizacijskega sistema | C12: m1 | D12: 70 | E12: 0 | F12: =D12*E12 -> 0
A14: 3. | B14: Rezanje asfalta debeline do 10 cm | C14: m1 | D14: 10 | E14: 0 | F14: =D14*E14 -> 0
A16: 4. | B16: Rezkanje asfalta za preklope med starim in novim asfaltom, za obrabno plast v debelini 3 cm in širini 50 cm | C16: m1 | D16: 10 | E16: 0 | F16: =D16*E16 -> 0
A18: 5. | B18: Rušenje asfalta (8 cm), z nakladanjem in transportom ruševin na trajno deponijo koncesionarja do 10 km | C18: m2 | D18: 90 | E18: 0 | F18: =D18*E18 -> 0
A20: 6. | B20: Rušitev in odstranitev obstoječe greznice z nakladanjem in odvozom na deponijo. | C20: kos | D20: 1 | E20: 0 | F20: =D20*E20 -> 0
A22: 7. | B22: Rušenje, nakladanje in odvoz betonskih robnikov | C22: m1 | D22: 4 | E22: 0 | F22: =D22*E22 -> 0
A24: 8. | B24: Definiranje višinskih kot med gradnjo (kanalizacije, jaški, planumi,…) | C24: kpl | D24: 1 | E24: 0 | F24: =D24*E24 -> 0
A26: 9. | B26: Zakoličba raznih komunalnih vodov s strani upravljalcev | C26: kpl | D26: 1 | E26: 0 | F26: =D26*E26 -> 0
A28: 10. | B28: Izdelava varnostnega načrta v fazi izvedbe | C28: kpl | D28: 1 | E28: 0 | F28: =D28*E28 -> 0
A30: 11. | B30: Projektantski nadzor | C30: kpl | D30: 1 | E30: 0 | F30: =D30*E30 -> 0
B32: =CONCATENATE(B8," ","SKUPAJ") -> PRIPRAVLJALNA DELA SKUPAJ | F32: =SUM(F10:F30) -> 0

Sheet II. ZEMELJSKA DELA
A2: A. | B2: GRADBENA DELA
A4: II. | B4: ZEMELJSKA DELA
B6: OPOMBA: Vsa izkopana dela in transporti izkopanih materialov se obračunajo po prostornini izkopane zemljine v raščenem stanju! Vsa nasipna dela se obračunajo po prostornini zemljine v vgrajenem stanju! .
A18: Poz. | B18: Opis postavke | C18: Enota | D18: Količina | E18: Cena | F18: Vrednost
A20: =A4 -> II. | B20: =B4 -> ZEMELJSKA DELA
A21: 1. | B21: Odstranitev humusa v območju zelenic v globini 20 cm, deponirati na gradbišču in ponovno vgraditi po končanih gradbenih delih ter ponovna zatravitev | C21: m2 | D21: 200 | E21: 0 | F21: =D21*E21 -> 0
A23: 2. | B23: Izkop jarka za kanalizacijo v terenu III. kategorije z odmetom na stran ali nakladanjem | vključeni so vsi jaški in kanali cevi..|v ceni upoštevati eventualno razpiranje jarka | C23: m3 | D23: 50 | E23: 0 | F23: =D23*E23 -> 0
A25: 3. | B25: Široki odkop ostalega materiala - zemljine III. ktg do globine 5,00 m za ponikovalnice | upoštevati faktor razsutosti | C25: m3 | D25: 230 | E25: 0 | F25: =D25*E25 -> 0
A27: 4. | B27: Planiranje in nabijanje dna jarka z natančnostjo ±2,0 cm do predpisane zbitosti v naklonu po projektu, vključeni so vsi jaški, kanali,… | C27: m2 | D27: 80 | E27: 0 | F27: =D27*E27 -> 0
A29: 5. | B29: Izdelava podbetonov za jaške iz betona C12/15 debeline cca. 10 cm | C29: m3 | D29: 1 | E29: 0 | F29: =D29*E29 -> 0
A31: 6. | B31: Zasip bokov cevi in temena z naravnim prodom granulacije 8-16, vključno z dobavo in transportom materiala | C31: m3 | D31: 10 | E31: 0 | F31: =D31*E31 -> 0
A33: 7. | B33: Zasip jaškov z gramoznim materialom granulacije 0-31 mm ustrezne zbitosti v širini najmanj 50 cm od sten jaškov | zgoščenost najmanj 97% po SPP, vključno z dobavo in transportom materiala | C33: m3 | D33: 10 | E33: 0 | F33: =D33*E33 -> 0
A35: 8. | B35: Zasip ponikovalnic do višine vtokov z dobro propustnim prodno peščenim materialom granulacije 16-31 mm ustrezne zbitosti v širini najmanj 50 cm od sten jaškov | zgoščenost najmanj 97% po SPP, vključno z dobavo in transportom materiala | C35: m3 | D35: 80 | E35: 0 | F35: =D35*E35 -> 0
A37: 9. | B37: Zasip kanalizacije z izkopanim materialom III.-IV ktg z nabijanjem v slojih po 20 cm, zasipni material je deponiran ob robu izkopa. V primeru da izkopani material ni primeren za zasipe je potrebno v ceno vključiti droblejenec 0-31 iz zunanjih virov. | C37: m3 | D37: 130 | E37: 0 | F37: =D37*E37 -> 0
A39: 10. | B39: Zasip jame odstranjene greznice z izkopanim materialom III.-IV ktg z nabijanjem v slojih po 20 cm, zasipni material je deponiran ob robu izkopa. V primeru da izkopani material ni primeren za zasipe je potrebno v ceno vključiti drobljenec 0-31 iz zunanjih virov. | C39: m3 | D39: 15 | E39: 0 | F39: =D39*E39 -> 0
A41: 11. | B41: Nakladanje in odvoz viška izkopanega materiala III. ktg na trajno deponijo do razdalje 10 km | upoštevati faktor razsutosti | C41: m3 | D41: 135 | E41: 0 | F41: =D41*E41 -> 0
A43: 12. | B43: Dodatek za ročni izkop zaradi obstoječih komunalnih vodov in kinete | C43: kpl. | D43: 1 | E43: 0 | F43: =D43*E43 -> 0
B44: =CONCATENATE(B20," ","SKUPAJ") -> ZEMELJSKA DELA SKUPAJ | F44: =SUM(F21:F43) -> 0

Sheet III. ODVODNJAVANJE
A2: A. | B2: GRADBENA DELA
A4: III. | B4: ODVODNJAVANJE
A6: Poz. | B6: Opis postavke | C6: Enota | D6: Količina | E6: Cena | F6: Vrednost
A8: =A4 -> III. | B8: =B4 -> ODVODNJAVANJE
A10: 1. | B10: Dobava in polaganje PVC kanalskih cevi, stiki so tesnjeni z gumi tesnili. Cevi se polno obbetonirajo pod površinami s težkim prometom, preostalo obsip s peskom.
B11: PVC DN 160/SN8 (obsip) | C11: m1 | D11: 52 | E11: 0 | F11: =D11*E11 -> 0
B12: PVC DN 160/SN8 (obbeton.) | C12: m1 | D12: 5 | E12: 0 | F12: =D12*E12 -> 0
B13: PVC DN 250/SN8 (obsip) | C13: m1 | D13: 7 | E13: 0 | F13: =D13*E13 -> 0
A15: 2. | B15: Dobava in vgradnja vodotesnih PE revizijskih jaškov Ø80 cm, do globine 2,00 m z LTŽ pokrovom (3× B125, 1× D400), kompletno z izdelavo AB venca iz betona C25/30 ter obdelavo priključkov | C15: kom | D15: 4 | E15: 0 | F15: =D15*E15 -> 0
A17: 3. | B17: Dobava in vgradnja vodotesnih PE revizijskih jaškov Ø100 cm, do globine 3,00 m z LTŽ pokrovom (1× B¸125), kompletno z izdelavo AB venca iz betona C25/30 ter obdelavo priključkov | C17: kom | D17: 1 | E17: 0 | F17: =D17*E17 -> 0
A19: 4. | B19: Izdelava ponikovalnice iz perforiranih betonskih cevi Ø200 cm, do globine 4,00 m z LTŽ pokrovom Ø60 B125, kompletno z izdelavo AB venca C25/30 in obdelavo priključkov (PO) | C19: kos | D19: 3 | E19: 0 | F19: =D19*E19 -> 0
A21: 5. | B21: Blindiranje obstoječih cevi padavinske kanalizacije v jaških. | C21: kos | D21: 2 | E21: 0 | F21: =D21*E21 -> 0
A23: 6. | B23: Čiščenje in pregled kanalizacijskih cevi | C23: m1 | D23: 64 | E23: 0 | F23: =D23*E23 -> 0
A25: 7. | B25: Preizkus tesnosti kanalizacijskega omrežja s pridobitvijo poročila o preizkusu | C25: kpl. | D25: 1 | E25: 0 | F25: =D25*E25 -> 0
B27: =CONCATENATE(B8," ","SKUPAJ") -> ODVODNJAVANJE SKUPAJ | F27: =SUM(F10:F26) -> 0

Sheet IV. ASFALTERSKA DELA
A2: A. | B2: GRADBENA DELA
A4: IV. | B4: ASFALTERSKA DELA
B6: OPOMBA: Pri izvedbi prekopov je potrebno v celoti upoštevati: tehnične specifikacije za javne ceste TSC 08.512:2005.
A8: Poz. | B8: Opis postavke | C8: Enota | D8: Količina | E8: Cena | F8: Vrednost
A10: =A4 -> IV. | B10: =B4 -> ASFALTERSKA DELA
A12: 1. | B12: Priprava planuma na območju porušenega asfalta za ponovno asfaltiranje - utrditev zasipov nad kanali na Ev2≥100 - planiranje na natančnost po TS. spec. | C12: m2 | D12: 25 | E12: 0 | F12: =D12*E12 -> 0
A14: 2. | B14: Premaz stikov obstoječih asfaltnih površin z bitumenskim premazom pred asfaltiranjem | C14: m1 | D14: 10 | E14: 0 | F14: =D14*E14 -> 0
A16: 3. | B16: Dobava in polaganje asfalta v sistemu 8 cm AC22 BASE in 4 cm AC11 SURF merjeno v valjanem - komprimiranem stanju. Asfalt je položen v projektiranih padcih. Obračun od 1,0 m2 kompletno izdelanega asfalta. | C16: m2 | D16: 25 | E16: 0 | F16: =D16*E16 -> 0
A18: 4. | B18: Dobava in vgradnja betonskih robnikov 15×100×24,5 cm, vključno z obbetoniranjem in vsem ostalim potrebnim delom ter materialom | C18: m1 | D18: 4 | E18: 0 | F18: =D18*E18 -> 0
B20: =CONCATENATE(B10," ","SKUPAJ") -> ASFALTERSKA DELA SKUPAJ | F20: =SUM(F12:F19) -> 0
