Workbook
Name OLE_LINK1: 'PRVA STRAN'!$C$15

Sheet PRVA STRAN
A2: POPIS DEL | E2: PP | F2: P
A6: Osnovni podatki o projektni dokumentaciji
A9: Investitor: | C9: ELEKTRO MARIBOR d.d.
C10: Vetrinjska ulica 2
C11: 2000 Maribor
A13: Vrsta projektne dokumentacije: | C13: PZI
A15: Objekt: | C15: ENERGETSKA INFRASTRUKTURA RTP BREG
A18: Za gradnjo: | C18: Investicijska vzdrževalna dela
A20: Številka projekta: | C20: 21/2018
A22: Številka načrta: | C22: 21/2018 – GK
A24: Kraj in datum izdelave načrta: | C24: Maribor, april 2018
A26: Pripravil: | C26: Darko Tešić, mag. inž. grad
A28: Projektant:

Sheet REKAPITULACIJA
A2: ='PRVA STRAN'!A2:C5 -> POPIS DEL | E2: P
A6: SKUPNA REKAPITULACIJA
A9: A. | B9: ='REK G.'!B8 -> GRADBENA DELA | F9: ='REK G.'!F18 -> 0
B11: Dodatna in nepredvidena dela: 10 % | F11: =SUM(F8:F10)*0.1 -> 0
B12: "Dela naročena s strani naročnika, potrebna za dokončanje del."
B14: SKUPAJ | F14: =SUM(F8:F10,F11) -> 0
C15: 22% DDV: | F15: =F14*0.22 -> 0
C17: SKUPAJ Z DDV: | F17: =F14+F15 -> 0

Sheet REK G.
A2: ='PRVA STRAN'!A2:C5 -> POPIS DEL
A6: REKAPITULACIJA
A8: A. | B8: ='I. PREDDELA'!B2 -> GRADBENA DELA
A10: I. | B10: ='I. PREDDELA'!B8 -> PRIPRAVLJALNA DELA | F10: ='I. PREDDELA'!F20 -> 0
A11: II. | B11: ='II. RUŠITVE'!B5 -> RUŠITVENA DELA | F11: ='II. RUŠITVE'!F21 -> 0
A12: III. | B12: ='III. ZEMELJSKA DELA'!B4 -> ZEMELJSKA DELA | F12: ='III. ZEMELJSKA DELA'!F33 -> 0
A13: IV. | B13: ='IV. ODVODNJAVANJE'!B4 -> ODVODNJAVANJE | F13: ='IV. ODVODNJAVANJE'!F19 -> 0
A14: V. | B14: ='V. ASFALTERSKA DELA'!B4 -> ASFALTERSKA DELA | F14: ='V. ASFALTERSKA DELA'!F18 -> 0
A15: VI. | B15: ='VI. EI dela'!B4 -> ELEKTROINŠTALACIJSKA DELA | F15: ='VI. EI dela'!F33 -> 0
B16: Nepredvidena dela 10% | F16: =SUM(F10:F15)*0.1 -> 0
B18: SKUPAJ | F18: =SUM(F10:F16) -> 0

Sheet I. PREDDELA
A2: A. | B2: GRADBENA DELA
A4: I. | B4: PRIPRAVLJALNA DELA
A6: Poz. | B6: Opis postavke | C6: Enota | D6: Količina | E6: Cena | F6: Vrednost
A8: =A4 -> I. | B8: =B4 -> PRIPRAVLJALNA DELA
A10: 1. | B10: Priprava gradbišča z vsemi pripravljanimi in zaključnimi deli (vključno s čiščenjem gradbišča po končanih delih, pospravljanje, odstranjevanje naravnih ovir, vsi stroški za zagotavljanje varnosti in zdravja pri delu itd.) | C10: PA | D10: 1 | E10: 0 | F10: =D10*E10 -> 0
A12: 2. | B12: Zakoličba raznih komunalnih vodov s strani upravljalcev | C12: kpl | D12: 1 | E12: 0 | F12: =D12*E12 -> 0
A14: 3. | B14: Izdelava varnostnega načrta v fazi izvedbe | C14: kpl | D14: 1 | E14: 0 | F14: =D14*E14 -> 0
A16: 4. | B16: Projektantski nadzor | C16: kpl | D16: 1 | E16: 0 | F16: =D16*E16 -> 0
A18: 5. | B18: Geodetski posnetek izvedenega stanja in vnos v kataster | C18: kpl | D18: 1 | E18: 0 | F18: =D18*E18 -> 0
B20: =CONCATENATE(B8," ","SKUPAJ") -> PRIPRAVLJALNA DELA SKUPAJ | F20: =SUM(F10:F19) -> 0

Sheet II. RUŠITVE
A2: A. | B2: GRADBENA DELA
A5: II. | B5: RUŠITVENA DELA
B7: SPLOŠNO: 1. Rušenja, izsekavanja in dolbenja morajo biti izvršena strokovno, na način ki je predpisan v posamezni postavki del. 2. V normi rušenj, izsekavanj in dolbenj je zajeto: a) izdelava po opisu v vsaki posamezni postavki; b) vsa pomožna dela po opisu tč.2 splošnih določil GNG 3.000. 3. Obračun se izvrši po opisu v posamezni postavki. 4. V ceno po enoti so vključeni vsi stroški za ravnanje in odlaganje gradbenih odpadkov skladno z veljavno zakonodajo. Količine so računane v raščenem stanju, v ceno po enoti mora biti vključeno t.i. nasuto stanje.
A9: Poz. | B9: Opis postavke | C9: Enota | D9: Količina | E9: Cena | F9: Vrednost
A11: =A5 -> II. | B11: =B5 -> RUŠITVENA DELA
A13: 1. | B13: Vrtanje lukenj skozi obstoječo AB steno deb. 15 cm (vodno s kronskim diamantnim svedrom) ø100 mm. V ceno je vključeno nakladanje in odvoz ruševin na deponijo koncesionarja. V ceno vključiti dobavo in montažo gumi tesnila za tesnitev cevi tlačnega voda. | C13: kos | D13: 1 | E13: 0 | F13: =D13*E13 -> 0
A15: 2. | B15: Rezanje obstoječega asfalta debeline 6 + 3 cm za potrebe rušenja asfalta | širine 2 m | C15: m1 | D15: 30 | E15: 0 | F15: =D15*E15 -> 0
A17: 3. | B17: Rušenje asfalta debeline 6+3 cm in v širini 2 m, nakladanje in odvoz na trajno deponijo | C17: m2 | D17: 28 | E17: 0 | F17: =D17*E17 -> 0
A19: 4. | B19: Odstranitev in ponovno polaganje betonskih robnikov | C19: kpl | D19: 1 | E19: 0 | F19: =D19*E19 -> 0
B21: =CONCATENATE(B11," ","SKUPAJ") -> RUŠITVENA DELA SKUPAJ | F21: =SUM(F13:F20) -> 0

Sheet III. ZEMELJSKA DELA
A2: A. | B2: GRADBENA DELA
A4: III. | B4: ZEMELJSKA DELA
B6: OPOMBA: Obračun izvršenih količin predstavlja neto izkopane količine v raščenem stanju. Odvoz izkopanega materiala je upoštevati s faktorjem razstiranja (1,25). Izkop gradbene jame mora biti izveden na način, ki ustreza kvaliteti in lastnosti zemljin (glej geotehnično poročilo). Dno gradbene jame mora biti izvedeno ravno s točnostjo ±3 cm na dolžini letve 3,00 m. Za nasipavanje mora biti uporabljen izbran čisti gramozni material. Zasipavanje izvajati v slojih, z utrjevanjem vsakega sloja posebej tako, da je posedanje materiala zmanjšano na minimum. Modul utrjevanja nasipa je odvisen od predvidenih površinskih obremenitev. Nasip mora imeti tudi funkcijo drenažnega sloja, da se prepreči zbiranje vode v področju ukopanih zidov in temeljev. Lokacijo deponije za nasipni material določiti z načrtom "Organizacija gradbišča". Ves odvečni material transportirati izven gradbišča na trajno deponijo. Izvajalec je dolžan pri sestavi ponudbe (in izvajanju del) upoštevati vse grafične in tekstualne dele projekta (PGD, PZI). V primeru tiskarskih napak in neskladij v projektu je dolžan na to opozoriti projektanta pred oddajo ponudbe. Ponudnik je dolžan pri ponudbi upoštevati vse povezane stroške, ki so potrebni za tehnično pravilno izvedbo del, ki jih ponuja v izvedbo. Dejansko potrebne module zbitosti določi geomehanik. Enotna cena mora vsebovati: · vsa potrebna pripravljalna dela za zemeljska dela, · vse potrebne transporte do mesta vgrajevanja, · vse potrebno delo, · vsa potrebna pomožna sredstva na objektu kot so lestve, odri, · usklajevanje z osnovnim načrtom in posvetovanje s projektantom, · povračilo eventualne škode povzročene ostalim izvajalcem, · čiščenje in odvoz odvečnega materiala v stalno deponijo, · plačilo komunalnih prispevkov za stalno deponijo, . vzdrževanje čistoče transportnih poti po katerih potekajo transporti materialov v okviru zemeljskih del.
A17: Poz. | B17: Opis postavke | C17: Enota | D17: Količina | E17: Cena | F17: Vrednost
A19: =A4 -> III. | B19: =B4 -> ZEMELJSKA DELA
A21: 1. | B21: Odstranitev humusa v območju zelenic v globini 20 cm, deponirati na gradbišču in ponovno vgraditi po končanih gradbenih delih ter ponovna zatravitev | C21: m2 | D21: 22 | E21: 0 | F21: =D21*E21 -> 0
A23: 2. | B23: Izkop jarka za kanalizacijo v terenu III-IV kategorije z odmetom na stran ali nakladanjem | vključeni so vsi jaški, kanali cevi in signalnih kablov…..|v ceni upoštevati eventualno razpiranje jarka | C23: m3 | D23: 32.4 | E23: 0 | F23: =D23*E23 -> 0
A25: 3. | B25: Planiranje in nabijanje dna jarka z natančnostjo ±2,0 cm do predpisane zbitosti v naklonu po projektu, vključeni so vsi jaški, kanali,… | C25: m2 | D25: 19.8 | E25: 0 | F25: =D25*E25 -> 0
A27: 4. | B27: Zasip kanalizacije po izvedbi obbetoniranja PEHD cevi. Zasip se izvede s tamponskim gramozom drobljene frakcije 0-32mm, zagotoviti zbitost Evd2=100 Mpa; Ev2/Ev1 ≤ 2,2 (gornji sloj pred ponovnim asfaltiranjem) | C27: m3 | D27: 19.5 | E27: 0 | F27: =D27*E27 -> 0
A29: 5. | B29: Zasip kanalizacije z izkopanim materialom III.-IV ktg z nabijanjem v slojih po 30 cm, zasipni material je deponiran ob robu izkopa. V primeru da izkopani material ni primeren za zasipe je potrebno v ceno vključiti droblejenec 0-32 mm iz zunanjih virov. | C29: m3 | D29: 12.9 | E29: 0 | F29: =D29*E29 -> 0
A31: 6. | B31: Dodatek za ročni izkop zaradi obstoječih komunalnih vodov | C31: kpl. | D31: 1 | E31: 0 | F31: =D31*E31 -> 0
B33: =CONCATENATE(B19," ","SKUPAJ") -> ZEMELJSKA DELA SKUPAJ | F33: =SUM(F21:F32) -> 0

Sheet IV. ODVODNJAVANJE
A2: A. | B2: GRADBENA DELA
A4: IV. | B4: ODVODNJAVANJE
A6: Poz. | B6: Opis postavke | C6: Enota | D6: Količina | E6: Cena | F6: Vrednost
A8: =A4 -> IV. | B8: =B4 -> ODVODNJAVANJE
A10: 1. | B10: Strojno vgrajevanje betona - obbetoniranje kabelske kanalizacije nearmirane konstrukcije preseka od 0.3-0.5 m3/m-m beton iz naravne frakcije | beton C 16/20 - plastičnost primerna za obbetoniranje | C10: m3 | D10: 0.35 | E10: 0 | F10: =D10*E10 -> 0
A12: 2. | B12: Dobava in polaganje PVC kanalskih cevi, stiki so tesnjeni z gumi tesnili. Cevi se polno obbetonirajo pod površinami s težkim prometom, preostalo obsip s peskom.
B13: PEHD DN 80/SN8 - tlačni vod | C13: m1 | D13: 20 | E13: 0 | F13: =D13*E13 -> 0
A15: 3. | B15: Dobava in vgradnja potopne črpalke s plovcem za črpanje odvečne vode iz AB jaška ob objektu, po detajlu proizvajalca. V ceni predvideti ves dodaten potreben material. | C15: kom | D15: 1 | E15: 0 | F15: =D15*E15 -> 0
A17: 4. | B17: Preizkus tesnosti kanalizacijskega omrežja s pridobitvijo poročila o preizkusu | C17: kpl | D17: 1 | E17: 0 | F17: =D17*E17 -> 0
B19: =CONCATENATE(B8," ","SKUPAJ") -> ODVODNJAVANJE SKUPAJ | F19: =SUM(F10:F18) -> 0

Sheet V. ASFALTERSKA DELA
A2: A. | B2: GRADBENA DELA
A4: V. | B4: ASFALTERSKA DELA
A6: Poz. | B6: Opis postavke | C6: Enota | D6: Količina | E6: Cena | F6: Vrednost
A8: =A4 -> V. | B8: =B4 -> ASFALTERSKA DELA
A10: 1. | B10: Premazovanje obstoječih stikov z namensko bitumensko emulzijo (stari stiki asfalta,…) | C10: m1 | D10: 26.4 | E10: 0 | F10: =D10*E10 -> 0
A12: 2. | B12: Rezkanje asfalta debeline 3 cm in širine 40 cm. | C12: m1 | D12: 26.4 | E12: 0 | F12: =D12*E12 -> 0
A14: 3. | B14: Izvedba nosilne plasti asfalta AC22 base debeline 6 cm | C14: m2 | D14: 28.5 | E14: 0 | F14: =D14*E14 -> 0
A16: 4. | B16: Izvedba obrabne plasti asfalta AC11 surf debeline 3 cm | C16: m2 | D16: 54.85 | E16: 0 | F16: =D16*E16 -> 0
B18: =CONCATENATE(B8," ","SKUPAJ") -> ASFALTERSKA DELA SKUPAJ | F18: =SUM(F10:F17) -> 0

Sheet VI. EI dela
A4: VI. | B4: ELEKTROINŠTALACIJSKA DELA
A6: Poz. | B6: Opis postavke | C6: Enota | D6: Količina | E6: Cena | F6: Vrednost
A8: 1. | B8: Dobava in polaganje fleksibilne instalacijske cevi, kot npr. STIGMAFLEX Ø80, od lovilca olj do obstoječega jaška | C8: m | D8: 20 | E8: 0 | F8: =D8*E8 -> 0
A10: 2. | B10: Dobava in polaganje vroče cinkanih kabelskih polic PK50 komplet s pokrovom, nosilcem in montažnim materialom od oljne jame do obstoječe kabelske trase | C10: m | D10: 10 | E10: 0 | F10: =D10*E10 -> 0
A12: 3. | B12: Dobava in polaganje kabla NYY-J 5×4mm2 v po kabelskih policah z obojestranskim priključevanjem | C12: m | D12: 40 | E12: 0 | F12: =D12*E12 -> 0
A14: 4. | B14: Dobava in polaganje kabla NYCY-J 3×2,5mm2 v cev ali po kabelskih policah z obojestranskim priključevanjem | C14: m | D14: 160 | E14: 0 | F14: =D14*E14 -> 0
A16: 5. | B16: Dobava in polaganje kabla NYCY-J 7×1,5mm2 po kabelskih policah z obojestranskim priključevanjem | C16: kos | D16: 40 | E16: 0 | F16: =D16*E16 -> 0
A18: 6. | B18: Dobava, montaža in ožičenje opreme v obstoječi omari izmeničnega razvoda =NE+LR v RTP: - 2 kos alarmna naparava za lovilce olj, tip LAL-SRW, Aco passavant, - 2 kos pomožni rele 110V DC, z min. dvema preklopnima kontaktoma, - 3 polni inštalacijski odklopnik C16A/3, 10kA, s pomožnimi kontakti 2×NC, - 20kos vrstne sponke VS6 - ostali drobni spojni in vezni material | C18: kpl | D18: 1 | E18: 0 | F18: =D18*E18 -> 0
A20: 7. | B20: Dobava in vgraditev senzorjev v oljno jamo ali lovilec olj za dvig gladine vode: - NVF-104/34-PF, Aco passavant | C20: kos | D20: 2 | E20: 0 | F20: =D20*E20 -> 0
A22: 8. | B22: Dobava in vgraditev senzorjev v lovilec olj za dvig gladine olja: - KVF-104-PF, Aco passavant | C22: kos | D22: 1 | E22: 0 | F22: =D22*E22 -> 0
A24: 9. | B24: Dobava, montaža in ožičenje krmilne omarice črpališča | C24: kpl | D24: 1 | E24: 0 | F24: =D24*E24 -> 0
A26: 10. | B26: Izvedba galvanskih povezav za izenačitev potencialov vseh kovinskih mas, kabelskih polic, kovinskih konstrukcij ter vseh ostalih kovinskih elementov…(ocena) | C26: kpl | D26: 1 | E26: 0 | F26: =D26*E26 -> 0
A28: 11. | B28: Tesnenje obstoječih prebojev skozi stene na mejah požarnih celic oz. sektorjev z ognjeodpornimi masami (certifikat) | C28: kpl | D28: 1 | E28: 0 | F28: =D28*E28 -> 0
A30: 12. | B30: Izvedba električnih meritev za jakotočno instalacijo in izdaja merilnih protokolov | C30: kpl. | D30: 1 | E30: 0 | F30: =D30*E30 -> 0
B33: =CONCATENATE(B23," ","SKUPAJ") -> SKUPAJ | F33: =SUM(F8:F32) -> 0
