Workbook
Name rocno: 'PREDRAČUN NNO 1'!#REF!
Name rocno: 'PREDRAČUN NNO 3'!#REF!
Name rocno: #REF!
Name rocno: #REF!
Name strojno: 'PREDRAČUN NNO 1'!#REF!
Name strojno: 'PREDRAČUN NNO 3'!#REF!
Name strojno: #REF!
Name strojno: #REF!

Sheet Rekapitulacija
A1: REKAPITULACIJA STROŠKOV INVESTICIJE
A2: PZI 829/16 R3-712/1331 Žihlava - Rogoznica,
B3: II. etapa skozi Podvince km 18,456 - 19,760 v dolžini 1304m
B5: Opis dela: | C5: Vrednost €
A6: I. | B6: Cestna dela:
A7: 1 | B7: Rekonstrukcija reg. ceste R3-712/1331 od km 18,456 do km 19,760 skozi Podvince; cesta, stopnišča, parapetni zidovi z žičnimi ograjami in cestni požiralniki | C7: ='predračun cesta'!G117 -> 0
A8: 2 | B8: Izgradnja pločnikov in površine za ločene poti | C8: ='predračun KPZ'!G84 -> 0
A9: 3 | B9: Izgradnja avtobusnih postajališč | C9: ='predračun AP'!G72 -> 0
A10: 4 | B10: Ureditev priključnih stranskih cest | C10: ='predračun SC'!G66 -> 0
A11: 5 | B11: Promet | C11: =predračun_prom!G53 -> 0
A12: 6 | B12: Meteorna kanalizacija | C12: ='PREDRAČUN METEORNA'!F144 -> 0
A13: 7 | B13: Odvodnja zalednih vod
A14: 7.1 | B14: Odvodnik 1 (P62-54, prepust v P54+odvodni kanal) | C14: ='PREDRAČUN ODV1'!E51 -> 0
A15: 7.2 | B15: Odvodnik 2 (P62-73, prepust v P73+ odvodni kanal) | C15: ='PREDRAČUN ODV2'!E56 -> 0
A16: 7.3 | B16: Odvodnik 3 (P73-78, prepust v P78+ kanal v priključni cesti + odvodni kanal) | C16: ='PREDRAČUN ODV3'!E54 -> 0
A17: 7.4 | B17: Odvodnik 4 (P78 - 85, prepust v P84 + kanal v priključni cesti + odvodni kanal | C17: ='PREDRAČUN ODV4'!E51 -> 0
A18: 7.5 | B18: Odvodnik 5 (P85 - 106, prepust v P96+ prepust pod potjo) | C18: ='PREDRAČUN ODV5'!E51 -> 0
A19: 7.6 | B19: Odvodnik 6 (P110-115 s prepustom pod skupno površino | C19: ='PREDRAČUN ODV6'!E36 -> 0
A20: 7.7 | B20: Odvodnik 7 (P96 s prepustom pod obstoječo JP | C20: ='PREDRAČUN ODV7'!E31 -> 0
B21: Odvodnja zalednih vod tč. 7 skupaj
A23: II. | B23: Vodovod
A24: 8 | B24: Izgradnja vodovoda | C24: ='PREDRAČUN VODOVOD'!F139 -> 0
A26: III. | B26: Električne inštalacije in elektro oprema
A27: 9.1 | B27: Cestna razsvetljava (DRSI) | C27: ='predračun CR (DRSI)'!#REF! -> #REF!
A28: 9.2 | B28: Cestna razsvetljava (občina) | C28: ='predračun CR (obcina)'!#REF! -> #REF!
A29: 10 | B29: Križanja Elektro vodov | C29: ='PREDRAČUN NNO 1'!F35+#REF!+'PREDRAČUN NNO 3'!F26 -> #REF!
A31: IV. | B31: Telekomunikacije
A32: 11 | B32: KRS | C32: =#REF! -> #REF!
A33: 12 | B33: TK | C33: =#REF! -> #REF!
A35: V. | B35: Komunalna kanalizacija
A36: 13 | B36: Komunalna kanalizacija | C36: ='PREDRAČUN FEKALNA N0'!E92+'PREDRAČUN FEKALNA N1'!E87 -> 0
A38: 25 | B38: Zapora ceste (skladno z opombo) | C38: 0
A39: 26 | B39: Dodatna in nepredvidena dela 10% | C39: =SUM(C7:C38)*10% -> #REF!
B41: Skupaj brez DDV | C41: =SUM(C7:C39) -> #REF!
B42: 22% DDV | C42: =C41*0.22 -> #REF!
B43: SKUPAJ | C43: =C41+C42 -> #REF!
B48: SPLOŠNO:
B49: Dela je izvajati po projektni dokumentaciji, v skladu z veljavnimi tehničnimi predpisi ,
B50: normativi in standardi ob upoštevanju zahtev iz varstva pri delu.
B51: V enotnih cenah morajo biti zajeti vsi stroški po Splošnih tehničnih pogojih.
B53: Opomba: Vsa rušenja vključujejo odvoz na ustrezno deponijono deponijo
B54: Vsi odstranjeni materiali vključujejo odvoz na ustrezno deponijo s plačilom prispevka,
B55: Vsi vgrajeni materiali vključujejo tudi dobavo
B56: V enotni ceni finega asfalta je potrebno zajeti tudi pobrizg z bitumensko emulzijo
B57: (0,5kg/m2), dilaplast in čiščenje vozišča
B58: Vsi pokrovi jaškov vključujejo dobavo z AB obročem.
B59: Izkopi globlji od 1,0 m morajo vključevati tudi razpiranje
B61: Opozorilo:
B62: V ponudbo pod tč. VIII je potrebno vračunati strošek zapore ceste za ves čas gradnje (vključno z izdelavo eleborata zapore, začasnimi obvozi, pridobitvijo dovoljenja za zaporo s taksami, ter izvedba zapore s strani upravljavca ceste), izdelavo varnostnega načrta, TEE ter organizacijo gradbišča v skladu z varnostnim načrtom, zavarovanje prometa in usposobitev obvozov za ves čas gradnje, čiščenje in močenje cestišča v času gradnje (VSAJ 5-KRAT DNEVNO), pospravljanje gradbišča. Vse gradbene odpadke je potrebno odpeljati na ustrezno deponijo (vključeno v ceno odstranitve!) in nadzoru predložiti evidenčne liste ravnanja z gradbenimi odpadki. Dokumentacija za prevzem objekta je strošek izvajalca zato je v ponudbo potrebno vračunati tudi izdelavo dokumentacije za prevzem del (vse 2X: dokazila o zanesljivosti objekta, BCP, PID, vris komunalnih vodov v podzemni kataster).

Sheet predračun cesta
A1: Projekt: PODVINCI CESTA
A2: Postavka | B2: Normativ | C2: Opis postavke | D2: Enota | E2: Količina | F2: Cena za enoto | G2: Količina
C4: 1 CESTNA DELA
C6: 1.1 PREDDELA | G6: =SUM(G9:G32) -> 0
C8: 1.1.1 Geodetska dela
A9: 0001 | B9: S 1 1 121 | C9: Obnova in zavarovanje zakoličbe osi trase ostale javne ceste v ravninskem terenu | D9: KM | E9: 1.24004 | G9: =E9*F9 -> 0
A10: 0002 | B10: S 1 1 221 | C10: Postavitev in zavarovanje prečnega profila ostale javne ceste v ravninskem terenu | D10: KOS | E10: 62 | G10: =E10*F10 -> 0
A11: 0003 | B11: S 1 1 651 | C11: Posnetek obstoječega objekta | D11: URA | E11: 35 | G11: =E11*F11 -> 0
A12: 0004 | B12: S 1 1 311 | C12: Postavitev in zavarovanje profilov za zakoličbo objekta s površino do 50 m2 | D12: KOS | E12: 1 | G12: =E12*F12 -> 0
C14: 1.1.2 Čiščenje terena
A15: 0001 | B15: S 1 2 421 | C15: Porušitev in odstranitev kanalizacije iz cevi s premerom do 40 cm | D15: M1 | E15: 60 | G15: =E15*F15 -> 0
A16: 0002 | B16: S 1 2 343 | C16: Porušitev in odstranitev tlakovanega vozišča iz kock s stranico 13 do 18 cm | D16: M2 | E16: 60 | G16: =E16*F16 -> 0
A17: 0003 | B17: S 1 2 411 | C17: Porušitev in odstranitev prepusta iz cevi s premerom do 60 cm | D17: M1 | E17: 48 | G17: =E17*F17 -> 0
A18: 0004 | B18: S 1 2 382 | C18: Rezanje asfaltne plasti s talno diamantno žago, debele 6 do 10 cm | D18: M1 | E18: 125.93 | G18: =E18*F18 -> 0
A19: 0005 | B19: S 1 2 142 | C19: Odstranitev grmovja in dreves z debli premera do 10 cm ter vej na gosto porasli površini - strojno | D19: M2 | E19: 322.7 | G19: =E19*F19 -> 0
A20: 0006 | B20: S 1 2 161 | C20: Odstranitev panja s premerom 11 do 30 cm z odvozom na deponijo na razdaljo do 100 m | D20: KOS | E20: 645.2 | G20: =E20*F20 -> 0
A21: 0007 | B21: S 1 2 374 | C21: Rezkanje in odvoz asfaltne krovne plasti v debelini nad 10 cm | D21: M2 | E21: 4 | G21: =E21*F21 -> 0
A22: 0008 | B22: S 1 2 291 | C22: Porušitev in odstranitev ograje iz žične mreže | D22: M2 | E22: 321.8 | G22: =E22*F22 -> 0
A23: 0009 | B23: S 1 2 297 | C23: Porušitev in odstranitev ograje iz .......................... | D23: M3 | E23: 20.63 | G23: =E23*F23 -> 0
A24: 0010 | B24: S 1 2 292 | C24: Porušitev in odstranitev ograje iz lesenih letev | D24: M2 | E24: 67.9 | G24: =E24*F24 -> 0
A25: 0011 | B25: S 1 2 381 | C25: Rezanje asfaltne plasti s talno diamantno žago, debele do 5 cm | D25: M1 | E25: 59.4 | G25: =E25*F25 -> 0
A26: 0012 | B26: S 1 2 323 | C26: Porušitev in odstranitev asfaltne plasti v debelini nad 10 cm | D26: M2 | E26: 2783 | G26: =E26*F26 -> 0
A27: 0013 | B27: S 1 2 391 | C27: Porušitev in odstranitev robnika iz cementnega betona | D27: M1 | E27: 101.2 | G27: =E27*F27 -> 0
C29: 1.1.3 Ostala preddela
B31: S 1 3 311 | C31: Organizacija gradbišča - postavitev začasnih objektov | D31: KOS | E31: 0.5 | G31: =E31*F31 -> 0
A32: 0003 | B32: S 1 3 312 | C32: Organizacija gradbišča - odstranitev začasnih objektov | D32: KOS | E32: 0.5 | G32: =E32*F32 -> 0
C34: 1.2 ZEMELJSKA DELA | G34: =SUM(G37:G63) -> 0
C36: 1.2.1 Izkopi
B37: S 2 1 114 | C37: Površinski izkop plodne zemljine - 1. kategorije - strojno z nakladanjem | D37: M3 | E37: 486.13 | G37: =E37*F37 -> 0
A38: 0002 | B38: S 2 1 224 | C38: Široki izkop vezljive zemljine - 3. kategorije - strojno z nakladanjem | D38: M3 | E38: 5274.27 | G38: =E38*F38 -> 0
A39: 0003 | B39: S 2 1 223 | C39: Široki izkop vezljive zemljine - 3. kategorije - strojno z odrivom do 100 m | D39: M3 | E39: 597 | G39: =E39*F39 -> 0
A40: 0004 | B40: S 2 1 314 | C40: Izkop vezljive zemljine/zrnate kamnine - 3. kategorije za temelje, kanalske rove, prepuste, jaške in drenaže, širine do 1,0 m in globine do 1,0 m - strojno, planiranje dna ročno | D40: M3 | E40: 43.6 | G40: =E40*F40 -> 0
C42: 1.2.2 Planum temeljnih tal
A43: 0001 | B43: S 2 2 112 | C43: Ureditev planuma temeljnih tal vezljive zemljine - 3. kategorije | D43: M2 | E43: 15133.7 | G43: =E43*F43 -> 0
C45: 1.2.3 Ločilne, drenažne in filtrske plasti ter delovni plato
A46: 0001 | B46: S 2 3 311 | C46: Dobava in vgraditev geotekstilije za ločilno plast (po načrtu), natezna trdnost do 12 kN/m2 | D46: M2 | E46: 11094 | G46: =E46*F46 -> 0
C48: 1.2.4 Nasipi, zasipi, klini, posteljica in glinasti naboj
A49: 0001 | B49: S 2 4 118 | C49: Izdelava nasipa iz zrnate kamnine - 3. kategorije z dobavo iz gramoznice | D49: M3 | E49: 2519.5 | G49: =E49*F49 -> 0
A50: 0002 | B50: S 2 4 461 | C50: Izdelava posteljice v debelini plasti do 50 cm iz zrnate kamnine - 3. kategorije | D50: M3 | E50: 5126.1 | G50: =E50*F50 -> 0
A51: 0003 | B51: S 2 4 111 | C51: Vgraditev nasipa iz vezljive zemljine - 3. kategorije | D51: M3 | E51: 699.36 | G51: =E51*F51 -> 0
C53: 1.2.5 Brežine in zelenice
A54: 0001 | B54: S 2 5 112 | C54: Humuziranje brežine brez valjanja, v debelini do 15 cm - strojno | D54: M2 | E54: 3000.11 | G54: =E54*F54 -> 0
A55: 0002 | B55: S 2 5 132 | C55: Humuziranje zelenice brez valjanja, v debelini do 15 cm - strojno | D55: M2 | E55: 1025.13 | G55: =E55*F55 -> 0
A56: 0003 | B56: S 2 5 142 | C56: Humuziranje zelenice z valjanjem, v debelini do 15 cm - strojno | D56: M2 | E56: 766 | G56: =E56*F56 -> 0
A57: 0004 | B57: S 2 5 151 | C57: Doplačilo za zatravitev s semenom | D57: M2 | E57: 4791.24 | G57: =E57*F57 -> 0
G58: =E58*F58 -> 0
C59: 1.2.9 Prevozi, razprostiranje in ureditev deponij materiala
A60: 0001 | B60: S 2 9 153 | C60: Odlaganje odpadnega asfalta na komunalno deponijo | D60: T | E60: 602 | G60: =E60*F60 -> 0
A61: 0002 | B61: S 2 9 152 | C61: Odlaganje odpadne zmesi zemljine in kamnine | D61: T | E61: 9011 | G61: =E61*F61 -> 0
A62: 0003 | B62: S 2 9 154 | C62: Odlaganje odpadnega cementnega betona na komunalno deponijo | D62: T | E62: 129.5 | G62: =E62*F62 -> 0
A63: 0004 | B63: S 2 9 117 | C63: Prevoz materiala na razdaljo nad 5000 do 7000 m | D63: T | E63: 10716.5 | G63: =E63*F63 -> 0
C65: 1.3 VOZIŠČNE KONSTRUKCIJE | G65: =SUM(G68:G87) -> 0
C67: 1.3.1 Nosilne plasti
A68: 0001 | B68: S 3 1 132 | C68: Izdelava nevezane nosilne plasti enakomerno zrnatega drobljenca iz kamnine v debelini 21 do 30 cm | D68: M3 | E68: 2747.5 | G68: =E68*F68 -> 0
A69: 0002 | B69: S 3 1 642 | C69: Izdelava nosilne plasti bituminizirane zmesi AC 32 base B 50/70 A3 v debelini 8 cm | D69: M2 | E69: 8335 | G69: =E69*F69 -> 0
C71: 1.3.2 Obrabne plasti
A72: 0001 | B72: S 3 2 591 | C72: Cišcenje utrjene/odrezkane površine podlage pred pobrizgom z bitumenskim vezivom | D72: M2 | E72: 8335 | G72: =E72*F72 -> 0
A73: 0002 | B73: S 3 2 563 | C73: Pobrizg podlage z bitumensko emulzijo 0,6 kg/m2 | D73: M2 | E73: 8335 | G73: =E73*F73 -> 0
A74: 0003 | B74: S 3 2 273 | C74: Izdelava obrabne in zaporne plasti bituminizirane zmesi AC 11 surf B 50/70 A3 v debelini 4 cm | D74: M2 | E74: 8335 | G74: =E74*F74 -> 0
C76: 1.3.4 Tlakovane obrabne plasti
A77: 0001 | B77: S 3 4 1221 | C77: Izdelava tlakovane obrabne plasti - mozaika iz tlakovcev iz karbonatne kamnine velikosti 8/8/8 cm, stiki zapolnjeni s cementno malto | D77: M2 | E77: 100 | G77: =E77*F77 -> 0
A78: 0002 | B78: S 3 4 912 | C78: Izdelava podložne plasti za tlakovano obrabno plast iz cementne malte | D78: M2 | E78: 99 | G78: =E78*F78 -> 0
C80: 1.3.5 Robni elementi vozišč
A81: 0001 | B81: S 3 5 214 | C81: Dobava in vgraditev predfabriciranega dvignjenega robnika iz cementnega betona s prerezom 15/25 cm | D81: M1 | E81: 1603.65 | G81: =E81*F81 -> 0
A82: 0002 | B82: S 3 5 277 | C82: Dobava in vgraditev dvignjenega vtočnega robnika s prerezom 15/25 cm iz ......... | D82: M1 | E82: 6 | G82: =E82*F82 -> 0
A83: 0003 | B83: S 3 5 235 | C83: Dobava in vgraditev predfabriciranega pogreznjenega robnika iz cementnega betona s prerezom 15/25 cm | D83: M1 | E83: 382.23 | G83: =E83*F83 -> 0
A84: 0004 | B84: S 3 5 275 | C84: Dobava in vgraditev dvignjenega vtočnega robnika s prerezom 15/25 cm iz cementnega betona | D84: M1 | E84: 42 | G84: =E84*F84 -> 0
A85: 0005 | B85: S 3 5 298 | C85: Dobava in vgraditev predfabriciranega zavojnega robnika iz cementnega betona z izmerami 15/35/50 cm | D85: KOS | E85: 101.7 | G85: =E85*F85 -> 0
C86: 1.3.6 Bankine
A87: 0001 | B87: S 3 6 134 | C87: Izdelava bankine iz drobljenca, široke nad 1,00 m | D87: M3 | E87: 897.3 | G87: =E87*F87 -> 0
C89: 1.4 ODVODNJAVANJE | G89: =SUM(G92:G108) -> 0
C91: 1.4.1 Površinsko odvodnjavanje
A92: 0001 | B92: S 4 1 231 | C92: Utrditev jarka s kanaletami na stik iz cementnega betona, dolžine 100 cm in notranje širine dna kanalete 30 cm, na podložni plasti iz zmesi zrn drobljenca, debeli 10 cm | D92: M1 | E92: 19.5 | G92: =E92*F92 -> 0
A93: 0002 | B93: S 4 1 125 | C93: Utrditev dna v debelini 30 cm z mačjimi glavami | D93: M3 | E93: 352.36 | G93: =E93*F93 -> 0
C95: 1.4.2 Globinsko odvodnjavanje - drenaže
A96: 0001 | B96: S 4 2 114 | C96: Izdelava vzdolžne in prečne plitve drenaže globine do 1,0 m, na planumu izkopa, z gibljivimi plastičnimi cevmi premera 15 cm | D96: M1 | E96: 780.974 | G96: =E96*F96 -> 0
C98: 1.4.4 Jaški
A99: 0001 | B99: S 4 4 122 | C99: Izdelava jaška iz cementnega betona, krožnega prereza s premerom 50 cm, globokega 1,0 do 1,5 m | D99: KOS | E99: 55 | G99: =E99*F99 -> 0
A100: 0002 | B100: S 4 4 822 | C100: Izdelava jaška iz polietilena, krožnega prereza, premer 40 cm, globine nad 1 do 2 m | D100: KOS | E100: 40 | G100: =E100*F100 -> 0
A101: 0003 | B101: S 4 4 822 | C101: Dobava in vgraditev rešetke iz duktilne litine z nosilnostjo 50 kN, krožnega prereza s premerom 450 mm | D101: KOS | E101: 9 | G101: =E101*F101 -> 0
A102: 0004 | B102: S 4 4 961 | C102: Dobava in vgraditev pokrova iz duktilne litine z nosilnostjo 250 kN, krožnega prereza s premerom 500 mm | D102: KOS | E102: 42 | G102: =E102*F102 -> 0
C104: 1.4.5 Prepusti
A105: 0001 | B105: S 4 5 112 | C105: Izdelava prepusta krožnega prereza iz cevi iz cementnega betona s premerom 40 cm | D105: M1 | E105: 8 | G105: =E105*F105 -> 0
A106: 0002 | B106: S 4 5 114 | C106: Izdelava prepusta krožnega prereza iz cevi iz cementnega betona s premerom 60 cm | D106: M1 | E106: 9.6 | G106: =E106*F106 -> 0
A107: 0003 | B107: S 4 5 211 | C107: Izdelava vtočne ali iztočne glave prepusta krožnega prereza iz cementnega betona premera 40 cm | D107: KOS | E107: 2 | G107: =E107*F107 -> 0
A108: 0004 | B108: S 4 5 213 | C108: Izdelava poševne vtočne ali iztočne glave prepusta krožnega prereza iz cementnega betona s premerom 60 cm | D108: KOS | E108: 4 | G108: =E108*F108 -> 0
E111: REKAPITULACIJA faza ll
C113: 1.1 PREDDELA | G113: =G6 -> 0
C114: 1.2 ZEMELJSKA DELA | G114: =G34 -> 0
C115: 1.3 VOZIŠČNE KONSTRUKCIJE | G115: =G65 -> 0
C116: 1.4 ODVODNJAVANJE | G116: =G89 -> 0
C117: skupaj brez DDV | G117: =SUM(G113:G116) -> 0
C118: DDV 22% | G118: =G117*22% -> 0
C119: skupaj z DDV | G119: =SUM(G117:G118) -> 0

Sheet predračun_prom
A1: Projekt:829prom R3-712/1331 skozi naselje Podvinci PROMETNA OPREMA
A2: Postavka | B2: Normativ | C2: Opis postavke | D2: Enota | E2: Količina | F2: Cena za enoto | G2: Količina
C4: 1.1 PREDDELA | G4: =G8 -> 0
C6: 1.1.3 Ostala preddela
A8: 0001 | B8: S 1 3 221 | C8: Ureditev začasnega obvoza v času gradnje po projektni dokumentaciji | D8: DNI | E8: 60 | G8: =E8*F8 -> 0
C10: 1.6 OPREMA CEST | G10: =SUM(G13:G45) -> 0
C12: 1.6.1 Pokončna oprema cest
A13: 0001 | B13: S 6 1 132 | C13: Izdelava temelja iz cementnega betona C 12/15, globine 100 cm, premera 30 cm | D13: KOS | E13: 33 | G13: =E13*F13 -> 0
A14: 0002 | B14: S 6 1 214 | C14: Dobava in vgraditev stebrička za prometni znak iz vroče cinkane jeklene cevi s premerom 64 mm, dolge 2000 mm | D14: KOS | E14: 2 | G14: =E14*F14 -> 0
A15: 0003 | B15: S 6 1 215 | C15: Dobava in vgraditev stebrička za prometni znak iz vroče cinkane jeklene cevi s premerom 64 mm, dolge 2500 mm | D15: KOS | E15: 3 | G15: =E15*F15 -> 0
A16: 0004 | B16: S 6 1 216 | C16: Dobava in vgraditev stebrička za prometni znak iz vroče cinkane jeklene cevi s premerom 64 mm, dolge 3000 mm | D16: KOS | E16: 3 | G16: =E16*F16 -> 0
A17: 0005 | B17: S 6 1 217 | C17: Dobava in vgraditev stebrička za prometni znak iz vroče cinkane jeklene cevi s premerom 64 mm, dolge 3500 mm | D17: KOS | E17: 18 | G17: =E17*F17 -> 0
A18: 0006 | B18: S 6 1 218 | C18: Dobava in vgraditev stebrička za prometni znak iz vroče cinkane jeklene cevi s premerom 64 mm, dolge 4000 mm | D18: KOS | E18: 8 | G18: =E18*F18 -> 0
A19: 0007 | B19: S 6 1 219 | C19: Dobava in vgraditev stebrička za prometni znak iz vroče cinkane jeklene cevi s premerom 64 mm, dolge 4500 mm | D19: KOS | E19: 2 | G19: =E19*F19 -> 0
A20: 0008 | B20: S 6 1 246 | C20: Dobava in vgraditev stebrička za prometni znak iz ....................... cevi s premerom / stranico ......... mm, dolge 3000 mm | D20: KOS | E20: 6 | G20: =E20*F20 -> 0
A21: 0009 | B21: S 6 1 249 | C21: Dobava in vgraditev stebrička za prometni znak iz ....................... cevi s premerom / stranico ......... mm, dolge 4500 mm | D21: KOS | E21: 9 | G21: =E21*F21 -> 0
A22: 0010 | B22: S 6 1 442 | C22: Dobava in pritrditev trikotnega prometnega znaka, podloga iz aluminijaste pločevine, znak z odsevno folijo 1. vrste, dolžina stranice a = 900 mm | D22: KOS | E22: 2 | G22: =E22*F22 -> 0
A23: 0011 | B23: S 6 1 451 | C23: Dobava in pritrditev trikotnega prometnega znaka, podloga iz aluminijaste pločevine, znak z odsevno folijo 2. vrste, dolžina stranice a = 600 mm | D23: KOS | E23: 2 | G23: =E23*F23 -> 0
A24: 0011 | B24: S 6 1 452 | C24: Dobava in pritrditev trikotnega prometnega znaka, podloga iz aluminijaste pločevine, znak z odsevno folijo 2. vrste, dolžina stranice a = 900 mm | D24: KOS | E24: 3 | G24: =E24*F24 -> 0
B25: S 6 1 641 | C25: Dobava in pritrditev okroglega prometnega znaka, podloga iz aluminijaste pločevine, znak z odsevno folijo 1. vrste, premera 400 mm | D25: KOS | E25: 1 | G25: =E25*F25 -> 0
B26: S 6 1 641 | C26: Dobava in pritrditev okroglega prometnega znaka, podloga iz aluminijaste pločevine, znak z odsevno folijo 2. vrste, premera 400 mm | D26: KOS | E26: 8 | G26: =E26*F26 -> 0
A27: 0012 | B27: S 6 1 642 | C27: Dobava in pritrditev okroglega prometnega znaka, podloga iz aluminijaste pločevine, znak z odsevno folijo 1. vrste, premera 600 mm | D27: KOS | E27: 14 | G27: =E27*F27 -> 0
A28: 0013 | B28: S 6 1 652 | C28: Dobava in pritrditev okroglega prometnega znaka, podloga iz aluminijaste pločevine, znak z odsevno folijo 2. vrste, premera 600 mm | D28: KOS | E28: 15 | G28: =E28*F28 -> 0
A29: 0014 | B29: S 6 1 721 | C29: Dobava in pritrditev prometnega znaka, podloga iz aluminijaste pločevine, znak z ............ barvo-folijo ....... vrste, velikost do 0,10 m2 | D29: KOS | E29: 11 | G29: =E29*F29 -> 0
A30: 0015 | B30: S 6 1 722 | C30: Dobava in pritrditev prometnega znaka, podloga iz aluminijaste pločevine, znak z ............ barvo-folijo ....... vrste, velikost od 0,11 do 0,20 m2 | D30: KOS | E30: 6 | G30: =E30*F30 -> 0
A31: 0016 | B31: S 6 1 723 | C31: Dobava in pritrditev prometnega znaka, podloga iz aluminijaste pločevine, znak z ............ barvo-folijo ....... vrste, velikost od 0,21 do 0,40 m2 | D31: KOS | E31: 19 | G31: =E31*F31 -> 0
A32: 0017 | B32: S 6 1 724 | C32: Dobava in pritrditev prometnega znaka, podloga iz aluminijaste pločevine, znak z ............ barvo-folijo ....... vrste, velikost od 0,41 do 0,70 m2 | D32: KOS | E32: 1 | G32: =E32*F32 -> 0
A33: 0018 | B33: S 6 1 725 | C33: Dobava in pritrditev prometnega znaka, podloga iz aluminijaste pločevine, znak z ............ barvo-folijo ....... vrste, velikost od 0,71 do 1,00 m2 | D33: KOS | E33: 3 | G33: =E33*F33 -> 0
C35: 1.6.2 Označbe na voziščih
A36: 0001 | B36: N 6 1 1 | C36: Izdelava debeloslojne epoksidne prevleke SIGNO-cds-GRIP na kolesarski stezi v območju križišča na vozišču. Prevleka debeline 3-5 mm iz pigmentiranega epoksidnega veziva (ca3,0kg/m2) in obarvanega kremenčevega peska (granulacija 0,7-1,2 mm, RAL 3020) | D36: M2 | E36: 106.4 | G36: =E36*F36 -> 0
A37: 0002 | B37: S 6 2 122 | C37: Izdelava tankoslojne vzdolžne označbe na vozišču z enokomponentno belo barvo, vključno 250 g/m2 posipa z drobci / kroglicami stekla, strojno, debelina plasti suhe snovi 250 mikrometra, širina črte 12 cm | D37: M1 | E37: 1178 | G37: =E37*F37 -> 0
A38: 0003 | B38: S 6 2 252 | C38: Doplačilo za izdelavo prekinjenih vzdolžnih označb na vozišču, širina črte 12 cm | D38: M1 | E38: 293 | G38: =E38*F38 -> 0
A39: 0004 | B39: S 6 2 121 | C39: Izdelava tankoslojne vzdolžne označbe na vozišču z enokomponentno belo barvo, vključno 250 g/m2 posipa z drobci / kroglicami stekla, strojno, debelina plasti suhe snovi 250 mikrometra, širina črte 10 cm | D39: M1 | E39: 3304 | G39: =E39*F39 -> 0
A40: 0005 | B40: S 6 2 251 | C40: Doplačilo za izdelavo prekinjenih vzdolžnih označb na vozišču, širina črte 10 cm | D40: M1 | E40: 168 | G40: =E40*F40 -> 0
A41: 0006 | B41: S 6 2 168 | C41: Izdelava tankoslojne prečne in ostalih označb na vozišču z enokomponentno belo barvo, vključno 250 g/m2 posipa z drobci / kroglicami stekla, strojno, debelina plasti suhe snovi 250 mikrometra, površina označbe nad 1,5 m2 | D41: M2 | E41: 225.6 | G41: =E41*F41 -> 0
A42: 0007 | B42: S 6 2 224 | C42: Izdelava tankoslojne prečne in ostalih označb na vozišču z enokomponentno rumeno barvo, vključno 250 g/m2 posipa z drobci / kroglicami stekla, strojno, debelina plasti suhe snovi 200 mikrometra, površina označbe nad 1,5 m2 | D42: M2 | E42: 37.8 | G42: =E42*F42 -> 0
C44: 1.6.3 Oprema za vodenje prometa
A45: 0001 | B45: S 6 3 122 | C45: Dobava in postavitev plastičnega smernika s polnim prerezom, dolžina 1200 mm, z odsevnikom iz umetne snovi | D45: KOS | E45: 29 | G45: =E45*F45 -> 0
C49: REKAPITULACIJA | E49: REKAPITULACIJA faza ll
C51: 1.1 PREDDELA | G51: =G4 -> 0
C52: 1.6 OPREMA CEST | G52: =G10 -> 0
C53: skupaj brez DDV | G53: =SUM(G51:G52) -> 0
C54: DDV 22% | G54: =G53*22% -> 0
C55: skupaj z DDV | G55: =SUM(G53:G54) -> 0

Sheet predračun AP
A1: Projekt:829+A.P PODVINCI-AVT.POSTAJA
A2: Postavka | B2: Normativ | C2: Opis postavke | D2: Enota | E2: Količina | F2: Cena za enoto | G2: Količina
C4: 1 CESTNA DELA
C6: 1.1 PREDDELA | G6: =SUM(G9:G17) -> 0
C8: 1.1.1 Geodetska dela
B9: S 1 1 313 | C9: Postavitev in zavarovanje profilov za zakoličbo objekta s površino nad 100 m2 | D9: KOS | E9: 4 | G9: =E9*F9 -> 0
A10: 0002 | B10: S 1 1 651 | C10: Posnetek obstoječega objekta | D10: URA | E10: 8 | G10: =E10*F10 -> 0
C12: 1.1.2 Čiščenje terena
A13: 0001 | B13: S 1 2 111 | C13: Odstranitev grmovja na redko porasli površini (do 50 % pokritega tlorisa) - ročno | D13: M2 | E13: 0 | G13: =E13*F13 -> 0
C15: 1.1.3 Ostala preddela
A16: 0001 | B16: S 1 3 221 | C16: Ureditev začasnega obvoza v času gradnje po projektni dokumentaciji | D16: KOS
A17: 0002 | B17: S 1 3 311 | C17: Organizacija gradbišča - postavitev začasnih objektov | D17: KOS
A18: 0003 | B18: S 1 3 312 | C18: Organizacija gradbišča - odstranitev začasnih objektov | D18: KOS
C20: 1.2 ZEMELJSKA DELA | G20: =SUM(G27:G34) -> 0
C22: 1.2.1 Izkopi
A23: 0001 | B23: S 2 1 114 | C23: Površinski izkop plodne zemljine - 1. kategorije - strojno z nakladanjem | D23: M3
A24: 0002 | B24: S 2 1 234 | C24: Široki izkop zrnate kamnine - 3. kategorije - strojno z nakladanjem | D24: M3
C26: 1.2.2 Planum temeljnih tal
A27: 0001 | B27: S 2 2 112 | C27: Ureditev planuma temeljnih tal vezljive zemljine - 3. kategorije | D27: M2 | E27: 445.9 | G27: =E27*F27 -> 0
C29: 1.2.3 Ločilne, drenažne in filtrske plasti ter delovni plato
A30: 0001 | B30: S 2 3 323 | C30: Dobava in vgraditev geotekstilije za filtrsko plast (po načrtu), karakteristična velikost por 0,11 do 0,15 mm | D30: M2 | E30: 419 | G30: =E30*F30 -> 0
C32: 1.2.4 Nasipi, zasipi, klini, posteljica in glinasti naboj
A33: 0001 | B33: S 2 4 112 | C33: Vgraditev nasipa iz zrnate kamnine - 3. kategorije | D33: M3
A34: 0002 | B34: S 2 4 461 | C34: Izdelava posteljice v debelini plasti do 50 cm iz zrnate kamnine - 3. kategorije | D34: M3 | E34: 104.57 | G34: =E34*F34 -> 0
C36: 1.2.9 Prevozi, razprostiranje in ureditev deponij materiala
A37: 0001 | B37: S 2 9 118 | C37: Prevoz materiala na razdaljo nad 7000 do 10000 m | D37: T
C39: 1.3 VOZIŠČNE KONSTRUKCIJE | G39: =SUM(G42:G48) -> 0
C41: 1.3.1 Nosilne plasti
A42: 0001 | B42: S 3 1 132 | C42: Izdelava nevezane nosilne plasti enakomerno zrnatega drobljenca iz kamnine v debelini 21 do 30 cm | D42: M3 | E42: 105 | G42: =E42*F42 -> 0
A43: 0002 | B43: S 3 1 642 | C43: Izdelava nosilne plasti bituminizirane zmesi AC 32 base B 50/70 A3 v debelini 8 cm | D43: M2 | E43: 445.9 | G43: =E43*F43 -> 0
C45: 1.3.2 Obrabne plasti
A46: 0001 | B46: S 3 2 591 | C46: Cišcenje utrjene/odrezkane površine podlage pred pobrizgom z bitumenskim vezivom | D46: M2 | E46: 445.9 | G46: =E46*F46 -> 0
A47: 0002 | B47: S 3 2 563 | C47: Pobrizg podlage z bitumensko emulzijo 0,6 kg/m2 | D47: M2 | E47: 445.9 | G47: =E47*F47 -> 0
A48: 0003 | B48: S 3 2 273 | C48: Izdelava obrabne in zaporne plasti bituminizirane zmesi AC 11 surf B 50/70 A3 v debelini 4 cm | D48: M2 | E48: 445.9 | G48: =E48*F48 -> 0
C50: 1.3.5 Robni elementi vozišč
A51: 0001 | B51: S 3 5 211 | C51: Dobava in vgraditev predfabriciranega dvignjenega robnika iz cementnega betona s prerezom 5/25 cm | D51: M1 | G51: =E51*F51 -> 0
A52: 0002 | B52: S 3 5 214 | C52: Dobava in vgraditev predfabriciranega dvignjenega robnika iz cementnega betona s prerezom 15/25 cm | D52: M1 | G52: =E52*F52 -> 0
C54: 1.4 ODVODNJAVANJE | G54: =G57 -> 0
C56: 1.4.1 Površinsko odvodnjavanje
A57: 0001 | B57: S 4 1 242 | C57: Izdelava asfaltne mulde iz BNOP 0/16 mm, debeline 6 cm in širine 50 cm | D57: M1 | E57: 183.61 | G57: =E57*F57 -> 0
C59: 1.6 OPREMA CEST
C61: 1.6.6 Druga prometna oprema
A62: 0001 | B62: N 1 1 101 | C62: Dobava in montaža tipskega objekta avtobusnega postakjališča skladno z celostno podobo. | D62: KOS | E62: 4 | G62: =E62*F62 -> 0
C65: REKAPITULACIJA | E65: REKAPITULACIJA faza ll
C67: 1.1 PREDDELA | G67: =G6 -> 0
C68: 1.2 ZEMELJSKA DELA | G68: =G20 -> 0
C69: 1.3 VOZIŠČNE KONSTRUKCIJE | G69: =G39 -> 0
C70: 1.4 ODVODNJAVANJE | G70: =G54 -> 0
C71: 1.6 OPREMA CEST | G71: =G62 -> 0
C72: skupaj brez DDV | G72: =SUM(G67:G71) -> 0
C73: DDV 22% | G73: =G72*22% -> 0
C74: skupaj z DDV | G74: =SUM(G72:G73) -> 0

Sheet predračun KPZ
A1: Projekt:829+KPZ PODVINCI-PEŠ.KOLES.POT,OGRAJE
A2: Postavka | B2: Normativ | C2: Opis postavke | D2: Enota | E2: Količina | F2: Cena za enoto | G2: Količina
C4: 1 CESTNA DELA
C6: 1.1 PREDDELA | G6: =SUM(G9:G14) -> 0
C8: 1.1.1 Geodetska dela
A9: 0001 | B9: S 1 1 121 | C9: Obnova in zavarovanje zakoličbe osi trase ostale javne ceste v ravninskem terenu | D9: KM | E9: 1.622 | G9: =E9*F9 -> 0
A10: 0002 | B10: S 1 1 221 | C10: Postavitev in zavarovanje prečnega profila ostale javne ceste v ravninskem terenu | D10: KOS | E10: 53 | G10: =E10*F10 -> 0
A11: 0003 | B11: S 1 1 311 | C11: Postavitev in zavarovanje profilov za zakoličbo objekta s površino do 50 m2 | D11: KOS | E11: 24 | G11: =E11*F11 -> 0
A12: 0004 | B12: S 1 1 321 | C12: Določitev in preverjanje položajev, višin in smeri pri gradnji objekta s površino do 200 m2 | D12: KOS | E12: 1 | G12: =E12*F12 -> 0
A13: 0005 | B13: S 1 1 323 | C13: Določitev in preverjanje položajev, višin in smeri pri gradnji objekta s površino nad 500 m2 | D13: KOS | E13: 0.5 | G13: =E13*F13 -> 0
A14: 0006 | B14: S 1 1 651 | C14: Posnetek obstoječega objekta | D14: URA | E14: 20 | G14: =E14*F14 -> 0
C16: 1.1.2 Čiščenje terena
A17: 0001 | B17: S 1 2 112 | C17: Odstranitev grmovja na redko porasli površini (do 50 % pokritega tlorisa) - strojno | D17: M2 | G17: =E17*F17 -> 0
C19: 1.1.3 Ostala preddela
A20: 0001 | B20: S 1 3 221 | C20: Ureditev začasnega obvoza v času gradnje po projektni dokumentaciji | D20: KOS | G20: =E20*F20 -> 0
A21: 0002 | B21: S 1 3 311 | C21: Organizacija gradbišča - postavitev začasnih objektov | D21: KOS | G21: =E21*F21 -> 0
A22: 0003 | B22: S 1 3 312 | C22: Organizacija gradbišča - odstranitev začasnih objektov | D22: KOS | G22: =E22*F22 -> 0
C24: 1.2 ZEMELJSKA DELA | G24: =SUM(G27:G38) -> 0
C26: 1.2.1 Izkopi
A27: 0001 | B27: S 2 1 114 | C27: Površinski izkop plodne zemljine - 1. kategorije - strojno z nakladanjem | D27: M3 | E27: 175 | G27: =E27*F27 -> 0
A28: 0002 | B28: S 2 1 224 | C28: Široki izkop vezljive zemljine - 3. kategorije - strojno z nakladanjem | D28: M3 | E28: 35 | G28: =E28*F28 -> 0
A29: 0003 | B29: S 2 1 234 | C29: Široki izkop zrnate kamnine - 3. kategorije - strojno z nakladanjem | D29: M3 | E29: 553.6 | G29: =E29*F29 -> 0
A30: 0004 | B30: S 2 1 314 | C30: Izkop vezljive zemljine/zrnate kamnine - 3. kategorije za temelje, kanalske rove, prepuste, jaške in drenaže, širine do 1,0 m in globine do 1,0 m - strojno, planiranje dna ročno | D30: M3 | E30: 1224.04 | G30: =E30*F30 -> 0
C32: 1.2.2 Planum temeljnih tal
A33: 0001 | B33: S 2 2 112 | C33: Ureditev planuma temeljnih tal vezljive zemljine - 3. kategorije | D33: M2
A34: 0002 | B34: S 2 3 312 | C34: Dobava in vgraditev geotekstilije za ločilno plast (po načrtu), natezna trdnost do nad 12 do 14 kN/m2 | D34: M2 | E34: 2914 | G34: =E34*F34 -> 0
C36: 1.2.4 Nasipi, zasipi, klini, posteljica in glinasti naboj
A37: 0001 | B37: S 2 4 2122c | C37: Zasipanje zidu z naravno pridobljeno težko zemljino - plast < 20 cm - strojno | D37: M3 | E37: 1133.39 | G37: =E37*F37 -> 0
A38: 0001 | B38: S 2 4 461 | C38: Izdelava posteljice v debelini plasti do 50 cm iz zrnate kamnine - 3. kategorije | D38: M3 | E38: 1074 | G38: =E38*F38 -> 0
C40: 1.2.9 Prevozi, razprostiranje in ureditev deponij materiala
A41: 0001 | B41: S 2 9 152 | C41: Odlaganje odpadne zmesi zemljine in kamnine | D41: T | G41: =E41*F41 -> 0
C43: 1.3 VOZIŠČNE KONSTRUKCIJE | G43: =SUM(G46:G58) -> 0
C45: 1.3.1 Nosilne plasti
A46: 0001 | B46: S 3 1 112 | C46: Izdelava nevezane nosilne plasti gramoza v debelini 21 do 30 cm | D46: M3 | E46: 208.95 | G46: =E46*F46 -> 0
A47: 0002 | B47: S 3 1 1121 | C47: Izdelava nevezane nosilne plasti gramoza v debelini od 21 do 30 cm (grejder) | D47: M3 | E47: 2187.19 | G47: =E47*F47 -> 0
A48: 0002 | B48: S 3 1 834 | C48: Izdelava obrabnonosilne plasti bituminizirane zmesi AC 16 surf B 50/70 A4 Z3 v debelini 7 cm (mešana površina) | D48: M2 | E48: 1683 | G48: =E48*F48 -> 0
C50: 1.3.2 Obrabne plasti
A51: 0001 | B51: S 3 2 256 | C51: Izdelava obrabne in zaporne plasti bituminizirane zmesi AC 8 surf, vezivo B 50/70, razred bituminizirane zmesi A5, v debelini 5 cm | D51: M2 | E51: 6099.3 | G51: =E51*F51 -> 0
C53: 1.3.5 Robni elementi vozišč
A54: 0001 | B54: S 3 5 211 | C54: Dobava in vgraditev predfabriciranega dvignjenega robnika iz cementnega betona s prerezom 5/25 cm | D54: M1 | E54: 549.07 | G54: =E54*F54 -> 0
A55: 0002 | B55: S 3 5 231 | C55: Dobava in vgraditev predfabriciranega pogreznjenega robnika iz cementnega betona s prerezom 5/25 cm | D55: M1 | E55: 1320 | G55: =E55*F55 -> 0
C57: 1.3.6 Bankine
A58: 0001 | B58: S 3 6 122 | C58: Izdelava bankine iz prodca, široke 0,51 do 0,75 m | D58: M3 | E58: 114.36 | G58: =E58*F58 -> 0
C60: 1.5 GRADBENA IN OBRTNIŠKA DELA | G60: =SUM(G63:G75) -> 0
C62: 1.5.1 Tesarska dela
A63: 0001 | B63: S 5 1 311 | C63: Izdelava podprtega opaža za raven zid, visok do 2 m | D63: M2 | E63: 2418.3 | G63: =E63*F63 -> 0
C65: 1.5.2 Dela z jeklom za ojačitev
A66: 0001 | B66: S 5 2 222 | C66: Dobava in postavitev rebrastih žic iz visokovrednega naravno trdega jekla B 500B s premerom do 12 mm, za srednje zahtevno ojačitev | D66: KG | E66: 45905 | G66: =E66*F66 -> 0
C68: 1.5.3 Dela s cementnim betonom
A69: 0001 | B69: S 5 3 111 | C69: Dobava in vgraditev cementnega betona C8/10 v prerez do 0,15 m3/m2-m1 | D69: M3 | E69: 93 | G69: =E69*F69 -> 0
A70: 0002 | B70: S 5 3 132 | C70: Dobava in vgraditev cementnega betona C25/30 v prerez 0,16 do 0,30 m3/m2-m1 (parapetni zid) | D70: M3 | E70: 357 | G70: =E70*F70 -> 0
A71: 0003 | B71: S 5 3 133 | C71: Dobava in vgraditev cementnega betona C25/30 v prerez 0,31 do 0,50 m3/m2-m1 (temelj zidu) | D71: M3 | E71: 255 | G71: =E71*F71 -> 0
C73: 1.5.8 Ključavničarska dela in dela v jeklu
A74: 0001 | B74: S 5 8 232 | C74: Dobava in vgraditev ograje za pešce po detajlu iz načrta iz jeklenih cevnih ali pravokotnih profilov z vertikalnimi in/ali horizontalnimi polnili, visoke ... cm | D74: M1 | E74: 954.1 | G74: =E74*F74 -> 0
A75: 0002 | B75: S 5 8 211 | C75: Dobava in vgraditev ograje za pešce iz jeklenih cevnih profilov z vertikalnimi polnili, visoke 110 cm | D75: M1 | E75: 0 | G75: =E75*F75 -> 0
C78: REKAPITULACIJA | E78: REKAPITULACIJA faza ll
C80: 1.1 PREDDELA | G80: =G6 -> 0
C81: 1.2 ZEMELJSKA DELA | G81: =G24 -> 0
C82: 1.3 VOZIŠČNE KONSTRUKCIJE | G82: =G43 -> 0
C83: 1.5 GRADBENA IN OBRTNIŠKA DELA | G83: =G60 -> 0
C84: skupaj brez DDV | G84: =SUM(G79:G83) -> 0
C85: DDV 22% | G85: =G84*22% -> 0
C86: skupaj z DDV | G86: =SUM(G84:G85) -> 0

Sheet predračun SC
A1: Projekt:829+s.c PODVINCI STRANSKA CESTA
A2: Postavka | B2: Normativ | C2: Opis postavke | D2: Enota | E2: Količina | F2: Cena za enoto | G2: Cena skupaj
C4: 1 CESTNA DELA
C6: 1.1 PREDDELA | G6: =SUM(G9:G14) -> 0
C8: 1.1.1 Geodetska dela
A9: 0001 | B9: S 1 1 121 | C9: Obnova in zavarovanje zakoličbe osi trase ostale javne ceste v ravninskem terenu | D9: KM | E9: 0.3694 | G9: =E9*F9 -> 0
A10: 0002 | B10: S 1 1 221 | C10: Postavitev in zavarovanje prečnega profila ostale javne ceste v ravninskem terenu | D10: KOS | E10: 24 | G10: =E10*F10 -> 0
A11: 0003 | B11: S 1 1 651 | C11: Posnetek obstoječega objekta | D11: URA | E11: 23 | G11: =E11*F11 -> 0
C13: 1.1.2 Čiščenje terena
A14: 0001 | B14: S 1 2 142 | C14: Odstranitev grmovja in dreves z debli premera do 10 cm ter vej na gosto porasli površini - strojno | D14: M2 | E14: 268.7 | G14: =E14*F14 -> 0
C16: 1.1.3 Ostala preddela
A17: 0001 | B17: S 1 3 311 | C17: Organizacija gradbišča - postavitev začasnih objektov | D17: KOS
A18: 0002 | B18: S 1 3 312 | C18: Organizacija gradbišča - odstranitev začasnih objektov | D18: KOS
C20: 1.2 ZEMELJSKA DELA | G20: =SUM(G23:G43) -> 0
C22: 1.2.1 Izkopi
A23: 0001 | B23: S 2 1 114 | C23: Površinski izkop plodne zemljine - 1. kategorije - strojno z nakladanjem | D23: M3 | E23: 57.22 | G23: =E23*F23 -> 0
A24: 0002 | B24: S 2 1 224 | C24: Široki izkop vezljive zemljine - 3. kategorije - strojno z nakladanjem | D24: M3 | E24: 1141.5 | G24: =E24*F24 -> 0
C26: 1.2.2 Planum temeljnih tal
A27: 0001 | B27: S 2 2 112 | C27: Ureditev planuma temeljnih tal vezljive zemljine - 3. kategorije | D27: M2 | E27: 2543.5 | G27: =E27*F27 -> 0
C29: 1.2.3 Ločilne, drenažne in filtrske plasti ter delovni plato
A30: 0001 | B30: S 2 3 311 | C30: Dobava in vgraditev geotekstilije za ločilno plast (po načrtu), natezna trdnost do 12 kN/m2 | D30: M2 | E30: 2543.5 | G30: =E30*F30 -> 0
C32: 1.2.4 Nasipi, zasipi, klini, posteljica in glinasti naboj
A33: 0001 | B33: S 2 4 461 | C33: Izdelava posteljice v debelini plasti do 50 cm iz zrnate kamnine - 3. kategorije | D33: M3 | E33: 1674.01 | G33: =E33*F33 -> 0
C35: 1.2.5 Brežine in zelenice
A36: 0001 | B36: S 2 5 112 | C36: Humuziranje brežine brez valjanja, v debelini do 15 cm - strojno | D36: M2 | E36: 22.5 | G36: =E36*F36 -> 0
A37: 0002 | B37: S 2 5 132 | C37: Humuziranje zelenice brez valjanja, v debelini do 15 cm - strojno | D37: M2 | E37: 155 | G37: =E37*F37 -> 0
A38: 0003 | B38: S 2 5 151 | C38: Doplačilo za zatravitev s semenom | D38: M2 | E38: 177.7 | G38: =E38*F38 -> 0
C40: 1.2.9 Prevozi, razprostiranje in ureditev deponij materiala
A41: 0001 | B41: S 2 9 117 | C41: Prevoz materiala na razdaljo nad 5000 do 7000 m | D41: T | E41: 1141.5 | G41: =E41*F41 -> 0
A42: 0002 | B42: S 2 9 151 | C42: Odlaganje odpadne zemljine | D42: T | E42: 1598.06 | G42: =E42*F42 -> 0
A43: 0003 | B43: S 2 9 131 | C43: Razprostiranje odvečne plodne zemljine - 1. kategorije | D43: M3 | E43: 57.22 | G43: =E43*F43 -> 0
C45: 1.3 VOZIŠČNE KONSTRUKCIJE | G45: =SUM(G48:G58) -> 0
C47: 1.3.1 Nosilne plasti
A48: 0001 | B48: S 3 1 132 | C48: Izdelava nevezane nosilne plasti enakomerno zrnatega drobljenca iz kamnine v debelini 21 do 30 cm | D48: M3 | E48: 386.49 | G48: =E48*F48 -> 0
A49: 0002 | B49: S 3 1 344 | C49: Izdelava zgornje nosilne plasti bituminiziranega drobljenca zrnavosti 0/22 ali 0/32 mm v debelini 8 cm | D49: M2 | E49: 1964.5 | G49: =E49*F49 -> 0
C51: 1.3.2 Obrabne plasti
A52: 0001 | B52: S 3 2 263 | C52: Izdelava obrabne in zaporne ali zaščitne plasti bitumenskega betona BB 11k iz zmesi zrn iz karbonatnih kamnin in cestogradbenega bitumna v debelini 40 mm | D52: M2 | E52: 1964.5 | G52: =E52*F52 -> 0
C54: 1.3.5 Robni elementi vozišč
A55: 0001 | B55: S 3 5 235 | C55: Dobava in vgraditev predfabriciranega pogreznjenega robnika iz cementnega betona s prerezom 15/25 cm | D55: M1 | E55: 8 | G55: =E55*F55 -> 0
C57: 1.3.6 Bankine
A58: 0001 | B58: S 3 6 134 | C58: Izdelava bankine iz drobljenca, široke nad 1,00 m | D58: M3 | E58: 776.56 | G58: =E58*F58 -> 0
C61: REKAPITULACIJA | E61: REKAPITULACIJA faza ll
C63: 1.1 PREDDELA | G63: =G6 -> 0
C64: 1.2 ZEMELJSKA DELA | G64: =G20 -> 0
C65: 1.3 VOZIŠČNE KONSTRUKCIJE | G65: =G45 -> 0
C66: skupaj brez DDV | G66: =SUM(G61:G65) -> 0
C67: DDV 22% | G67: =G66*22% -> 0
C68: skupaj z DDV | G68: =SUM(G66:G67) -> 0

Sheet PREDRAČUN ODV1
B1: Projekt:829ODV1 R3-712 Žihlava - Rogoznica, rekonstrukcija ceste skozi naselje Podvinci (zaledne vode)
B2: Projekt:
B3: Odsek:
B4: Načrt:
B5: Faza: | D5: PREDRAČUN
B7: Postavka | C7: Normativ | D7: Opis postavke | E7: Enota | F7: Količina | G7: Cena za enoto | H7: Cena skupaj
D9: 2 ZEMELJSKA DELA | G9: ZEMELJSKA DELA SKUPAJ: | H9: =+SUM(H10:H26) -> 0
D11: 2.1 Izkopi
B12: 0001 | C12: S 2 1 112 | D12: Površinski izkop plodne zemljine - 1. kategorije - strojno z odrivom do 50 m | E12: M3 | F12: 88 | H12: =ROUND(F12*G12,2) -> 0
B13: 0002 | C13: S 2 1 314 | D13: Izkop vezljive zemljine/zrnate kamnine - 3. kategorije za temelje, kanalske rove, prepuste, jaške in drenaže, širine do 1,0 m in globine do 1,0 m - strojno, planiranje dna ročno | E13: M3 | F13: 283 | H13: =ROUND(F13*G13,2) -> 0
D15: 2.4 Nasipi, zasipi, klini, posteljica in glinasti naboj
B16: 0001 | C16: S 2 4 212 | D16: Zasip z vezljivo zemljino - 3. kategorije - strojno | E16: M3 | F16: 91 | H16: =ROUND(F16*G16,2) -> 0
D18: 2.5 Brežine in zelenice
B19: 0001 | C19: S 2 5 112 | D19: Humuziranje brežine brez valjanja, v debelini do 15 cm - strojno | E19: M2 | F19: 476 | H19: =ROUND(F19*G19,2) -> 0
B20: 0002 | C20: S 2 5 151 | D20: Doplačilo za zatravitev s semenom | E20: M2 | F20: 476 | H20: =ROUND(F20*G20,2) -> 0
D22: 2.9 Prevozi, razprostiranje in ureditev deponij materiala
B23: 0001 | C23: S 2 9 117 | D23: Prevoz materiala na razdaljo nad 5000 do 7000 m | E23: T | F23: 345 | H23: =ROUND(F23*G23,2) -> 0
D24: Opomba: Iz izkopa
B25: 0002 | C25: S 2 9 133 | D25: Razprostiranje odvečne vezljive zemljine - 3. kategorije | E25: M3 | F25: 192 | H25: =ROUND(F25*G25,2) -> 0
D27: 4 ODVODNJAVANJE | G27: ODVODNJAVANJE SKUPAJ: | H27: =+SUM(H28:H48) -> 0
D29: 4.1 Površinsko odvodnjavanje
B30: 0001 | C30: S 4 1 237 | D30: Utrditev jarka s kanaletami na stik iz cementnega betona, dolžine 100 cm in notranje širine dna kanalete 50 cm, na podložni plasti iz zmesi zrn drobljenca, debeli 10 cm | E30: M1 | F30: 40 | H30: =ROUND(F30*G30,2) -> 0
B31: 0002 | C31: S 4 1 372 | D31: Izdelava iztoka iz jarka v pobočni jarek/kanaleto s tlakom iz lomljenca, debeline 15 cm, stiki zapolnjeni s cementno malto, na podložni plasti iz zmesi zrn drobljenca, debeli 10 cm, na obstoječo podlago, po načrtu | E31: KOS | F31: 2 | H31: =ROUND(F31*G31,2) -> 0
D33: 4.3 Globinsko odvodnjavanje - kanalizacija
B34: 0001 | C34: S 4 3 294 | D34: Obbetoniranje cevi za kanalizacijo s cementnim betonom C 16/20, po detajlu iz načrta, premera 30 cm | E34: M1 | F34: 12 | H34: =ROUND(F34*G34,2) -> 0
B35: 0002 | C35: S 4 3 297 | D35: Obbetoniranje cevi za kanalizacijo s cementnim betonom C 16/20, po detajlu iz načrta, premera 60 cm | E35: M1 | F35: 19 | H35: =ROUND(F35*G35,2) -> 0
B36: 0003 | C36: S 4 3 324 | D36: Izdelava kanalizacije iz cevi iz cementnega betona, vključno s podložno plastjo iz zmesi kamnitih zrn, premera 30 cm, v globini do 1,0 m | E36: M1 | F36: 12 | H36: =ROUND(F36*G36,2) -> 0
B37: 0004 | C37: S 4 3 327 | D37: Izdelava kanalizacije iz cevi iz cementnega betona, vključno s podložno plastjo iz zmesi kamnitih zrn, premera 60 cm, v globini do 1,0 m | E37: M1 | F37: 65 | H37: =ROUND(F37*G37,2) -> 0
D39: 4.4 Jaški
B40: 0001 | C40: S 4 4 162 | D40: Izdelava jaška iz cementnega betona, krožnega prereza s premerom 80 cm, globokega 1,0 do 1,5 m | E40: KOS | F40: 2 | H40: =ROUND(F40*G40,2) -> 0
B41: 0002 | C41: S 4 4 952 | D41: Dobava in vgraditev pokrova iz duktilne litine z nosilnostjo 125 kN, krožnega prereza s premerom 600 mm | E41: KOS | F41: 2 | H41: =ROUND(F41*G41,2) -> 0
D43: 4.5 Prepusti
B44: 0001 | C44: S 4 5 114 | D44: Izdelava prepusta krožnega prereza iz cevi iz cementnega betona s premerom 60 cm | E44: M1 | F44: 17 | H44: =ROUND(F44*G44,2) -> 0
B45: 0002 | C45: S 4 5 132 | D45: Izdelava obloge (obbetoniranje) prepusta krožnega prereza iz cevi s premerom 60 cm s cementnim betonom C 12/15, po načrtu | E45: M1 | F45: 17 | H45: =ROUND(F45*G45,2) -> 0
B46: 0003 | C46: S 4 5 213 | D46: Izdelava poševne vtočne ali iztočne glave prepusta krožnega prereza iz cementnega betona s premerom 60 cm | E46: KOS | F46: 2 | H46: =ROUND(F46*G46,2) -> 0
D48: REKAPITULACIJA
D49: =D9 -> 2 ZEMELJSKA DELA | E49: =H9 -> 0
D50: =D27 -> 4 ODVODNJAVANJE | E50: =H27 -> 0
D51: CENA SKUPAJ (brez DDV) | E51: =+SUM(E49:E50) -> 0
D52: DDV (22%) | E52: =0.22*E51 -> 0
D53: CENA SKUPAJ (z DDV) | E53: =+SUM(E51:E52) -> 0

Sheet PREDRAČUN ODV2
B1: Projekt:829ODV2 R3-712 Žihlava - Rogoznica, rekonstrukcija ceste skozi naselje Podvinci (zaledne vode)
B2: Projekt:
B3: Odsek:
B4: Načrt:
B5: Faza: | D5: PREDRAČUN
B7: Postavka | C7: Normativ | D7: Opis postavke | E7: Enota | F7: Količina | G7: Cena za enoto | H7: Cena skupaj
D9: 2 ZEMELJSKA DELA | G9: ZEMELJSKA DELA SKUPAJ: | H9: =+SUM(H10:H26) -> 0
D11: 2.1 Izkopi
B12: 0001 | C12: S 2 1 112 | D12: Površinski izkop plodne zemljine - 1. kategorije - strojno z odrivom do 50 m | E12: M3 | F12: 33 | H12: =ROUND(F12*G12,2) -> 0
B13: 0002 | C13: S 2 1 314 | D13: Izkop vezljive zemljine/zrnate kamnine - 3. kategorije za temelje, kanalske rove, prepuste, jaške in drenaže, širine do 1,0 m in globine do 1,0 m - strojno, planiranje dna ročno | E13: M3 | F13: 140 | H13: =ROUND(F13*G13,2) -> 0
D15: 2.4 Nasipi, zasipi, klini, posteljica in glinasti naboj
B16: 0001 | C16: S 2 4 212 | D16: Zasip z vezljivo zemljino - 3. kategorije - strojno | E16: M3 | F16: 107 | H16: =ROUND(F16*G16,2) -> 0
D18: 2.5 Brežine in zelenice
B19: 0001 | C19: S 2 5 112 | D19: Humuziranje brežine brez valjanja, v debelini do 15 cm - strojno | E19: M2 | F19: 167 | H19: =ROUND(F19*G19,2) -> 0
B20: 0002 | C20: S 2 5 151 | D20: Doplačilo za zatravitev s semenom | E20: M2 | F20: 167 | H20: =ROUND(F20*G20,2) -> 0
D22: 2.9 Prevozi, razprostiranje in ureditev deponij materiala
B23: 0001 | C23: S 2 9 117 | D23: Prevoz materiala na razdaljo nad 5000 do 7000 m | E23: T | F23: 252 | H23: =ROUND(F23*G23,2) -> 0
D24: Opomba: Iz izkopa
B25: 0002 | C25: S 2 9 133 | D25: Razprostiranje odvečne vezljive zemljine - 3. kategorije | E25: M3 | F25: 140 | H25: =ROUND(F25*G25,2) -> 0
D27: 4 ODVODNJAVANJE | G27: ODVODNJAVANJE SKUPAJ: | H27: =+SUM(H28:H53) -> 0
D29: 4.1 Površinsko odvodnjavanje
B30: 0001 | C30: S 4 1 372 | D30: Izdelava iztoka iz jarka v pobočni jarek/kanaleto s tlakom iz lomljenca, debeline 15 cm, stiki zapolnjeni s cementno malto, na podložni plasti iz zmesi zrn drobljenca, debeli 10 cm, na obstoječo podlago, po načrtu | E30: KOS | F30: 1 | H30: =ROUND(F30*G30,2) -> 0
D32: 4.2 Globinsko odvodnjavanje - drenaže
B33: 0001 | C33: S 4 2 165 | D33: Izdelava vzdolžne in prečne drenaže, globoke do 1,0 m, na podložni plasti iz cementnega betona, s trdimi plastičnimi cevmi premera 25 cm | E33: M1 | F33: 167 | H33: =ROUND(F33*G33,2) -> 0
D35: 4.3 Globinsko odvodnjavanje - kanalizacija
B36: 0001 | C36: S 4 3 293 | D36: Obbetoniranje cevi za kanalizacijo s cementnim betonom C 16/20, po detajlu iz načrta, premera 25 cm | E36: M1 | F36: 25 | H36: =ROUND(F36*G36,2) -> 0
D37: Opomba: Obbetoniranje DK250 pod hišnimi priključki
B38: 0002 | C38: S 4 3 296 | D38: Obbetoniranje cevi za kanalizacijo s cementnim betonom C 16/20, po detajlu iz načrta, premera 50 cm | E38: M1 | F38: 19 | H38: =ROUND(F38*G38,2) -> 0
B39: 0003 | C39: S 4 3 326 | D39: Izdelava kanalizacije iz cevi iz cementnega betona, vključno s podložno plastjo iz zmesi kamnitih zrn, premera 50 cm, v globini do 1,0 m | E39: M1 | F39: 77 | H39: =ROUND(F39*G39,2) -> 0
D41: 4.4 Jaški
B42: 0001 | C42: S 4 4 131 | D42: Izdelava jaška iz cementnega betona, krožnega prereza s premerom 50 cm, globokega do 1,0 m | E42: KOS | F42: 6 | H42: =ROUND(F42*G42,2) -> 0
B43: 0002 | C43: S 4 4 162 | D43: Izdelava jaška iz cementnega betona, krožnega prereza s premerom 80 cm, globokega 1,0 do 1,5 m | E43: KOS | F43: 2 | H43: =ROUND(F43*G43,2) -> 0
B44: 0003 | C44: S 4 4 823 | D44: Dobava in vgraditev rešetke iz duktilne litine z nosilnostjo 50 kN, krožnega prereza s premerom 500 mm | E44: KOS | F44: 6 | H44: =ROUND(F44*G44,2) -> 0
B45: 0004 | C45: S 4 4 952 | D45: Dobava in vgraditev pokrova iz duktilne litine z nosilnostjo 125 kN, krožnega prereza s premerom 600 mm | E45: KOS | F45: 2 | H45: =ROUND(F45*G45,2) -> 0
D47: 4.5 Prepusti
B48: 0001 | C48: S 4 5 111 | D48: Izdelava prepusta krožnega prereza iz cevi iz cementnega betona s premerom 30 cm | E48: M1 | F48: 13 | H48: =ROUND(F48*G48,2) -> 0
B49: 0002 | C49: S 4 5 131 | D49: Izdelava obloge (obbetoniranje) prepusta krožnega prereza iz cevi s premerom 50 cm s cementnim betonom C 12/15, po načrtu | E49: M1 | F49: 13 | H49: =ROUND(F49*G49,2) -> 0
D50: Opomba: Obbetoniranje prepusta fi 30
B51: 0003 | C51: S 4 5 212 | D51: Izdelava poševne vtočne ali iztočne glave prepusta krožnega prereza iz cementnega betona s premerom 50 cm | E51: KOS | F51: 1 | H51: =ROUND(F51*G51,2) -> 0
D53: REKAPITULACIJA
D54: =D9 -> 2 ZEMELJSKA DELA | E54: =H9 -> 0
D55: =D27 -> 4 ODVODNJAVANJE | E55: =H27 -> 0
D56: CENA SKUPAJ (brez DDV) | E56: =+SUM(E54:E55) -> 0
D57: DDV (22%) | E57: =0.22*E56 -> 0
D58: CENA SKUPAJ (z DDV) | E58: =+SUM(E56:E57) -> 0

Sheet PREDRAČUN ODV3
B1: Projekt:829ODV3 R3-712 Žihlava - Rogoznica, rekonstrukcija ceste skozi naselje Podvinci (zaledne vode)
B2: Projekt:
B3: Odsek:
B4: Načrt:
B5: Faza: | D5: PREDRAČUN
B7: Postavka | C7: Normativ | D7: Opis postavke | E7: Enota | F7: Količina | G7: Cena za enoto | H7: Cena skupaj
D9: 2 ZEMELJSKA DELA | G9: ZEMELJSKA DELA SKUPAJ: | H9: =+SUM(H10:H26) -> 0
D11: 2.1 Izkopi
B12: 0001 | C12: S 2 1 112 | D12: Površinski izkop plodne zemljine - 1. kategorije - strojno z odrivom do 50 m | E12: M3 | F12: 52 | H12: =ROUND(F12*G12,2) -> 0
B13: 0002 | C13: S 2 1 314 | D13: Izkop vezljive zemljine/zrnate kamnine - 3. kategorije za temelje, kanalske rove, prepuste, jaške in drenaže, širine do 1,0 m in globine do 1,0 m - strojno, planiranje dna ročno | E13: M3 | F13: 382 | H13: =ROUND(F13*G13,2) -> 0
D15: 2.4 Nasipi, zasipi, klini, posteljica in glinasti naboj
B16: 0001 | C16: S 2 4 212 | D16: Zasip z vezljivo zemljino - 3. kategorije - strojno | E16: M3 | F16: 281 | H16: =ROUND(F16*G16,2) -> 0
D18: 2.5 Brežine in zelenice
B19: 0001 | C19: S 2 5 112 | D19: Humuziranje brežine brez valjanja, v debelini do 15 cm - strojno | E19: M2 | F19: 245 | H19: =ROUND(F19*G19,2) -> 0
B20: 0002 | C20: S 2 5 151 | D20: Doplačilo za zatravitev s semenom | E20: M2 | F20: 245 | H20: =ROUND(F20*G20,2) -> 0
D22: 2.9 Prevozi, razprostiranje in ureditev deponij materiala
B23: 0001 | C23: S 2 9 117 | D23: Prevoz materiala na razdaljo nad 5000 do 7000 m | E23: T | F23: 182 | H23: =ROUND(F23*G23,2) -> 0
D24: Opomba: Iz izkopa
B25: 0002 | C25: S 2 9 133 | D25: Razprostiranje odvečne vezljive zemljine - 3. kategorije | E25: M3 | F25: 101 | H25: =ROUND(F25*G25,2) -> 0
D27: 4 ODVODNJAVANJE | G27: ODVODNJAVANJE SKUPAJ: | H27: =+SUM(H28:H51) -> 0
D29: 4.1 Površinsko odvodnjavanje
B30: 0001 | C30: S 4 1 372 | D30: Izdelava iztoka iz jarka v pobočni jarek/kanaleto s tlakom iz lomljenca, debeline 15 cm, stiki zapolnjeni s cementno malto, na podložni plasti iz zmesi zrn drobljenca, debeli 10 cm, na obstoječo podlago, po načrtu | E30: KOS | F30: 3 | H30: =ROUND(F30*G30,2) -> 0
D32: 4.3 Globinsko odvodnjavanje - kanalizacija
B33: 0001 | C33: S 4 3 115 | D33: Izdelava kanalizacije iz cevi iz polipropilena, vgrajenih na planumu izkopa, premera 40 cm, v globini do 1,0 m | E33: M1 | F33: 93 | H33: =ROUND(F33*G33,2) -> 0
B34: 0002 | C34: S 4 3 116 | D34: Izdelava kanalizacije iz cevi iz polipropilena, vgrajenih na planumu izkopa, premera 50 cm, v globini do 1,0 m | E34: M1 | F34: 132 | H34: =ROUND(F34*G34,2) -> 0
B35: 0003 | C35: S 4 3 295 | D35: Obbetoniranje cevi za kanalizacijo s cementnim betonom C 16/20, po detajlu iz načrta, premera 40 cm | E35: M1 | F35: 37 | H35: =ROUND(F35*G35,2) -> 0
B36: 0004 | C36: S 4 3 296 | D36: Obbetoniranje cevi za kanalizacijo s cementnim betonom C 16/20, po detajlu iz načrta, premera 50 cm | E36: M1 | F36: 14 | H36: =ROUND(F36*G36,2) -> 0
D38: 4.4 Jaški
B39: 0001 | C39: S 4 4 162 | D39: Izdelava jaška iz cementnega betona, krožnega prereza s premerom 80 cm, globokega 1,0 do 1,5 m | E39: KOS | F39: 4 | H39: =ROUND(F39*G39,2) -> 0
B40: 0002 | C40: N 4 4 101 | D40: Izdelava in dobava usedalnika - jaška meteornih vod iz AB dimenzij 1,2 x 0,6m, globine 1,5m skupaj s pohodno mežo dim. 1,2 x 0,6m. | E40: KOS | F40: 2 | H40: =ROUND(F40*G40,2) -> 0
B41: 0003 | C41: S 4 4 432 | D41: Izdelava jaška iz polipropilena, krožnega prereza s premerom 50 cm, globokega 1,0 do 1,5 m | E41: KOS | F41: 2 | H41: =ROUND(F41*G41,2) -> 0
B42: 0004 | C42: S 4 4 845 | D42: Dobava in vgraditev rešetke iz duktilne litine z nosilnostjo 250 kN, s prerezom 400/400 mm | E42: KOS | F42: 2 | H42: =ROUND(F42*G42,2) -> 0
B43: 0005 | C43: S 4 4 952 | D43: Dobava in vgraditev pokrova iz duktilne litine z nosilnostjo 125 kN, krožnega prereza s premerom 600 mm | E43: KOS | F43: 3 | H43: =ROUND(F43*G43,2) -> 0
B44: 0006 | C44: S 4 4 972 | D44: Dobava in vgraditev pokrova iz duktilne litine z nosilnostjo 400 kN, krožnega prereza s premerom 600 mm | E44: KOS | F44: 1 | H44: =ROUND(F44*G44,2) -> 0
D46: 4.5 Prepusti
B47: 0001 | C47: S 4 5 213 | D47: Izdelava poševne vtočne ali iztočne glave prepusta krožnega prereza iz cementnega betona s premerom 60 cm | E47: KOS | F47: 2 | H47: =ROUND(F47*G47,2) -> 0
B48: 0002 | C48: S 4 5 141 | D48: Izdelava prepusta krožnega prereza iz cevi iz polipropilena s premerom 40 cm | E48: M1 | F48: 36 | H48: =ROUND(F48*G48,2) -> 0
D49: Opomba: Prepust iz treh cevi polipropilena fi 30
D51: REKAPITULACIJA
D52: =D9 -> 2 ZEMELJSKA DELA | E52: =H9 -> 0
D53: =D27 -> 4 ODVODNJAVANJE | E53: =H27 -> 0
D54: CENA SKUPAJ (brez DDV) | E54: =+SUM(E52:E53) -> 0
D55: DDV (22%) | E55: =0.22*E54 -> 0
D56: CENA SKUPAJ (z DDV) | E56: =+SUM(E54:E55) -> 0

Sheet PREDRAČUN ODV4
B1: Projekt:829ODV4 R3-712 Žihlava - Rogoznica, rekonstrukcija ceste skozi naselje Podvinci (zaledne vode)
B2: Projekt:
B3: Odsek:
B4: Načrt:
B5: Faza: | D5: PREDRAČUN
B7: Postavka | C7: Normativ | D7: Opis postavke | E7: Enota | F7: Količina | G7: Cena za enoto | H7: Cena skupaj
D9: 2 ZEMELJSKA DELA | G9: ZEMELJSKA DELA SKUPAJ: | H9: =+SUM(H10:H26) -> 0
D11: 2.1 Izkopi
B12: 0001 | C12: S 2 1 112 | D12: Površinski izkop plodne zemljine - 1. kategorije - strojno z odrivom do 50 m | E12: M3 | F12: 31 | H12: =ROUND(F12*G12,2) -> 0
B13: 0002 | C13: S 2 1 314 | D13: Izkop vezljive zemljine/zrnate kamnine - 3. kategorije za temelje, kanalske rove, prepuste, jaške in drenaže, širine do 1,0 m in globine do 1,0 m - strojno, planiranje dna ročno | E13: M3 | F13: 208 | H13: =ROUND(F13*G13,2) -> 0
D15: 2.4 Nasipi, zasipi, klini, posteljica in glinasti naboj
B16: 0001 | C16: S 2 4 212 | D16: Zasip z vezljivo zemljino - 3. kategorije - strojno | E16: M3 | F16: 143 | H16: =ROUND(F16*G16,2) -> 0
D18: 2.5 Brežine in zelenice
B19: 0001 | C19: S 2 5 112 | D19: Humuziranje brežine brez valjanja, v debelini do 15 cm - strojno | E19: M2 | F19: 141 | H19: =ROUND(F19*G19,2) -> 0
B20: 0002 | C20: S 2 5 151 | D20: Doplačilo za zatravitev s semenom | E20: M2 | F20: 141 | H20: =ROUND(F20*G20,2) -> 0
D22: 2.9 Prevozi, razprostiranje in ureditev deponij materiala
B23: 0001 | C23: S 2 9 117 | D23: Prevoz materiala na razdaljo nad 5000 do 7000 m | E23: T | F23: 117 | H23: =ROUND(F23*G23,2) -> 0
D24: Opomba: Iz izkopa
B25: 0002 | C25: S 2 9 133 | D25: Razprostiranje odvečne vezljive zemljine - 3. kategorije | E25: M3 | F25: 65 | H25: =ROUND(F25*G25,2) -> 0
D27: 4 ODVODNJAVANJE | G27: ODVODNJAVANJE SKUPAJ: | H27: =+SUM(H28:H48) -> 0
D29: 4.1 Površinsko odvodnjavanje
B30: 0001 | C30: N 4 1 101 | D30: Čiščenje obstoječega jarka | E30: M1 | F30: 35 | H30: =ROUND(F30*G30,2) -> 0
B31: 0002 | C31: S 4 1 237 | D31: Utrditev jarka s kanaletami na stik iz cementnega betona, dolžine 100 cm in notranje širine dna kanalete 50 cm, na podložni plasti iz zmesi zrn drobljenca, debeli 10 cm | E31: M1 | F31: 27 | H31: =ROUND(F31*G31,2) -> 0
B32: 0003 | C32: S 4 1 372 | D32: Izdelava iztoka iz jarka v pobočni jarek/kanaleto s tlakom iz lomljenca, debeline 15 cm, stiki zapolnjeni s cementno malto, na podložni plasti iz zmesi zrn drobljenca, debeli 10 cm, na obstoječo podlago, po načrtu | E32: KOS | F32: 5 | H32: =ROUND(F32*G32,2) -> 0
D34: 4.3 Globinsko odvodnjavanje - kanalizacija
B35: 0001 | C35: N 4 3 101 | D35: Izdelava kanalizacije iz cevi iz cementnega betona, vključno s podložno plastjo iz cementnega betona, premera 80 cm, v globini do 1,0 m | E35: M1 | F35: 67 | H35: =ROUND(F35*G35,2) -> 0
B36: 0002 | C36: S 4 3 115 | D36: Izdelava kanalizacije iz cevi iz polipropilena, vgrajenih na planumu izkopa, premera 40 cm, v globini do 1,0 m | E36: M1 | F36: 12 | H36: =ROUND(F36*G36,2) -> 0
B37: 0003 | C37: S 4 3 295 | D37: Obbetoniranje cevi za kanalizacijo s cementnim betonom C 16/20, po detajlu iz načrta, premera 40 cm | E37: M1 | F37: 8 | H37: =ROUND(F37*G37,2) -> 0
D39: 4.4 Jaški
B40: 0001 | C40: S 4 4 182 | D40: Izdelava jaška iz cementnega betona, krožnega prereza s premerom 120 cm, globokega 1,0 do 1,5 m | E40: KOS | F40: 4 | H40: =ROUND(F40*G40,2) -> 0
B41: 0002 | C41: S 4 4 952 | D41: Dobava in vgraditev pokrova iz duktilne litine z nosilnostjo 125 kN, krožnega prereza s premerom 600 mm | E41: KOS | F41: 6 | H41: =ROUND(F41*G41,2) -> 0
D43: 4.5 Prepusti
B44: 0001 | C44: S 4 5 112 | D44: Izdelava prepusta krožnega prereza iz cevi iz cementnega betona s premerom 40 cm | E44: M1 | F44: 40 | H44: =ROUND(F44*G44,2) -> 0
B45: 0002 | C45: S 4 5 211 | D45: Izdelava poševne vtočne ali iztočne glave prepusta krožnega prereza iz cementnega betona s premerom 30 do 40 cm | E45: KOS | F45: 3 | H45: =ROUND(F45*G45,2) -> 0
B46: 0003 | C46: S 4 5 214 | D46: Izdelava poševne vtočne ali iztočne glave prepusta krožnega prereza iz cementnega betona s premerom 80 cm | E46: KOS | F46: 1 | H46: =ROUND(F46*G46,2) -> 0
D48: REKAPITULACIJA
D49: =D9 -> 2 ZEMELJSKA DELA | E49: =H9 -> 0
D50: =D27 -> 4 ODVODNJAVANJE | E50: =H27 -> 0
D51: CENA SKUPAJ (brez DDV) | E51: =+SUM(E49:E50) -> 0
D52: DDV (22%) | E52: =0.22*E51 -> 0
D53: CENA SKUPAJ (z DDV) | E53: =+SUM(E51:E52) -> 0

Sheet PREDRAČUN ODV5
B1: Projekt:829ODV5 R3-712 Žihlava - Rogoznica, rekonstrukcija ceste skozi naselje Podvinci (zaledne vode)
B2: Projekt:
B3: Odsek:
B4: Načrt:
B5: Faza: | D5: PREDRAČUN
B7: Postavka | C7: Normativ | D7: Opis postavke | E7: Enota | F7: Količina | G7: Cena za enoto | H7: Cena skupaj
D9: 2 ZEMELJSKA DELA | G9: ZEMELJSKA DELA SKUPAJ: | H9: =+SUM(H10:H26) -> 0
D11: 2.1 Izkopi
B12: 0001 | C12: S 2 1 112 | D12: Površinski izkop plodne zemljine - 1. kategorije - strojno z odrivom do 50 m | E12: M3 | F12: 30 | H12: =ROUND(F12*G12,2) -> 0
B13: 0002 | C13: S 2 1 314 | D13: Izkop vezljive zemljine/zrnate kamnine - 3. kategorije za temelje, kanalske rove, prepuste, jaške in drenaže, širine do 1,0 m in globine do 1,0 m - strojno, planiranje dna ročno | E13: M3 | F13: 40 | H13: =ROUND(F13*G13,2) -> 0
D15: 2.4 Nasipi, zasipi, klini, posteljica in glinasti naboj
B16: 0001 | C16: S 2 4 212 | D16: Zasip z vezljivo zemljino - 3. kategorije - strojno | E16: M3 | F16: 5 | H16: =ROUND(F16*G16,2) -> 0
D18: 2.5 Brežine in zelenice
B19: 0001 | C19: S 2 5 112 | D19: Humuziranje brežine brez valjanja, v debelini do 15 cm - strojno | E19: M2 | F19: 125 | H19: =ROUND(F19*G19,2) -> 0
B20: 0002 | C20: S 2 5 151 | D20: Doplačilo za zatravitev s semenom | E20: M2 | F20: 125 | H20: =ROUND(F20*G20,2) -> 0
D22: 2.9 Prevozi, razprostiranje in ureditev deponij materiala
B23: 0001 | C23: S 2 9 117 | D23: Prevoz materiala na razdaljo nad 5000 do 7000 m | E23: T | F23: 63 | H23: =ROUND(F23*G23,2) -> 0
D24: Opomba: Iz izkopa
B25: 0002 | C25: S 2 9 133 | D25: Razprostiranje odvečne vezljive zemljine - 3. kategorije | E25: M3 | F25: 35 | H25: =ROUND(F25*G25,2) -> 0
D27: 4 ODVODNJAVANJE | G27: ODVODNJAVANJE SKUPAJ: | H27: =+SUM(H28:H48) -> 0
D29: 4.1 Površinsko odvodnjavanje
B30: 0001 | C30: S 4 1 372 | D30: Izdelava iztoka iz jarka v pobočni jarek/kanaleto s tlakom iz lomljenca, debeline 15 cm, stiki zapolnjeni s cementno malto, na podložni plasti iz zmesi zrn drobljenca, debeli 10 cm, na obstoječo podlago, po načrtu | E30: KOS | F30: 2 | H30: =ROUND(F30*G30,2) -> 0
D32: 4.2 Globinsko odvodnjavanje - drenaže
B33: 0001 | C33: S 4 2 165 | D33: Izdelava vzdolžne in prečne drenaže, globoke do 1,0 m, na podložni plasti iz cementnega betona, s trdimi plastičnimi cevmi premera 25 cm | E33: M1 | F33: 30 | H33: =ROUND(F33*G33,2) -> 0
D35: 4.3 Globinsko odvodnjavanje - kanalizacija
B36: 0001 | C36: S 4 3 293 | D36: Obbetoniranje cevi za kanalizacijo s cementnim betonom C 16/20, po detajlu iz načrta, premera 25 cm | E36: M1 | F36: 5 | H36: =ROUND(F36*G36,2) -> 0
D37: Opomba: Obbetoniranje DK250 pod hišnimi priključki
D39: 4.4 Jaški
B40: 0001 | C40: S 4 4 131 | D40: Izdelava jaška iz cementnega betona, krožnega prereza s premerom 50 cm, globokega do 1,0 m | E40: KOS | F40: 1 | H40: =ROUND(F40*G40,2) -> 0
B41: 0002 | C41: S 4 4 823 | D41: Dobava in vgraditev rešetke iz duktilne litine z nosilnostjo 50 kN, krožnega prereza s premerom 500 mm | E41: KOS | F41: 1 | H41: =ROUND(F41*G41,2) -> 0
D43: 4.5 Prepusti
B44: 0001 | C44: S 4 5 114 | D44: Izdelava prepusta krožnega prereza iz cevi iz cementnega betona s premerom 60 cm | E44: M1 | F44: 11 | H44: =ROUND(F44*G44,2) -> 0
B45: 0002 | C45: S 4 5 132 | D45: Izdelava obloge (obbetoniranje) prepusta krožnega prereza iz cevi s premerom 60 cm s cementnim betonom C 12/15, po načrtu | E45: M1 | F45: 10 | H45: =ROUND(F45*G45,2) -> 0
B46: 0003 | C46: S 4 5 213 | D46: Izdelava poševne vtočne ali iztočne glave prepusta krožnega prereza iz cementnega betona s premerom 60 cm | E46: KOS | F46: 1 | H46: =ROUND(F46*G46,2) -> 0
D48: REKAPITULACIJA
D49: =D9 -> 2 ZEMELJSKA DELA | E49: =H9 -> 0
D50: =D27 -> 4 ODVODNJAVANJE | E50: =H27 -> 0
D51: CENA SKUPAJ (brez DDV) | E51: =+SUM(E49:E50) -> 0
D52: DDV (22%) | E52: =0.22*E51 -> 0
D53: CENA SKUPAJ (z DDV) | E53: =+SUM(E51:E52) -> 0

Sheet PREDRAČUN ODV6
B1: Projekt:829ODV6 R3-712 Žihlava - Rogoznica, rekonstrukcija ceste skozi naselje Podvinci (zaledne vode)
B2: Projekt:
B3: Odsek:
B4: Načrt:
B5: Faza:
B7: Postavka | C7: Normativ | D7: Opis postavke | E7: Enota | F7: Količina | G7: Cena za enoto | H7: Cena skupaj
D9: 2 ZEMELJSKA DELA | G9: ZEMELJSKA DELA SKUPAJ: | H9: =+SUM(H10:H22) -> 0
D11: 2.1 Izkopi
B12: 0001 | C12: S 2 1 112 | D12: Površinski izkop plodne zemljine - 1. kategorije - strojno z odrivom do 50 m | E12: M3 | F12: 4 | H12: =ROUND(F12*G12,2) -> 0
B13: 0002 | C13: S 2 1 314 | D13: Izkop vezljive zemljine/zrnate kamnine - 3. kategorije za temelje, kanalske rove, prepuste, jaške in drenaže, širine do 1,0 m in globine do 1,0 m - strojno, planiranje dna ročno | E13: M3 | F13: 32 | H13: =ROUND(F13*G13,2) -> 0
D15: 2.4 Nasipi, zasipi, klini, posteljica in glinasti naboj
B16: 0001 | C16: S 2 4 212 | D16: Zasip z vezljivo zemljino - 3. kategorije - strojno | E16: M3 | F16: 27 | H16: =ROUND(F16*G16,2) -> 0
D18: 2.9 Prevozi, razprostiranje in ureditev deponij materiala
B19: 0001 | C19: S 2 9 117 | D19: Prevoz materiala na razdaljo nad 5000 do 7000 m | E19: T | F19: 9 | H19: =ROUND(F19*G19,2) -> 0
D20: Opomba: Iz izkopa
B21: 0002 | C21: S 2 9 133 | D21: Razprostiranje odvečne vezljive zemljine - 3. kategorije | E21: M3 | F21: 5 | H21: =ROUND(F21*G21,2) -> 0
D23: 4 ODVODNJAVANJE | G23: ODVODNJAVANJE SKUPAJ: | H23: =+SUM(H24:H33) -> 0
D25: 4.1 Površinsko odvodnjavanje
B26: 0001 | C26: S 4 1 372 | D26: Izdelava iztoka iz jarka v pobočni jarek/kanaleto s tlakom iz lomljenca, debeline 15 cm, stiki zapolnjeni s cementno malto, na podložni plasti iz zmesi zrn drobljenca, debeli 10 cm, na obstoječo podlago, po načrtu | E26: KOS | F26: 2 | H26: =ROUND(F26*G26,2) -> 0
D28: 4.5 Prepusti
B29: 0001 | C29: S 4 5 112 | D29: Izdelava prepusta krožnega prereza iz cevi iz cementnega betona s premerom 40 cm | E29: M1 | F29: 19 | H29: =ROUND(F29*G29,2) -> 0
B30: 0002 | C30: S 4 5 131 | D30: Izdelava obloge (obbetoniranje) prepusta krožnega prereza iz cevi s premerom 50 cm s cementnim betonom C 12/15, po načrtu | E30: M1 | F30: 13 | H30: =ROUND(F30*G30,2) -> 0
B31: 0003 | C31: S 4 5 211 | D31: Izdelava poševne vtočne ali iztočne glave prepusta krožnega prereza iz cementnega betona s premerom 30 do 40 cm | E31: KOS | F31: 2 | H31: =ROUND(F31*G31,2) -> 0
D33: REKAPITULACIJA
D34: =D9 -> 2 ZEMELJSKA DELA | E34: =H9 -> 0
D35: =D23 -> 4 ODVODNJAVANJE | E35: =H23 -> 0
D36: CENA SKUPAJ (brez DDV) | E36: =+SUM(E34:E35) -> 0
D37: DDV (22%) | E37: =0.22*E36 -> 0
D38: CENA SKUPAJ (z DDV) | E38: =+SUM(E36:E37) -> 0

Sheet PREDRAČUN ODV7
B1: Projekt:829ODV7 R3-712 Žihlava - Rogoznica, rekonstrukcija ceste skozi naselje Podvinci (zaledne vode)
B2: Projekt:
B3: Odsek:
B4: Načrt:
B5: Faza: | D5: PREDRAČUN
B7: Postavka | C7: Normativ | D7: Opis postavke | E7: Enota | F7: Količina | G7: Cena za enoto | H7: Cena skupaj
D9: 4 ODVODNJAVANJE | G9: ODVODNJAVANJE SKUPAJ: | H9: =+SUM(H10:H29) -> 0
D11: 4.1 Površinsko odvodnjavanje
B12: 0001 | C12: S 4 1 372 | D12: Izdelava iztoka iz jarka v pobočni jarek/kanaleto s tlakom iz lomljenca, debeline 15 cm, stiki zapolnjeni s cementno malto, na podložni plasti iz zmesi zrn drobljenca, debeli 10 cm, na obstoječo podlago, po načrtu | E12: KOS | F12: 3 | H12: =ROUND(F12*G12,2) -> 0
D14: 4.3 Globinsko odvodnjavanje - kanalizacija
B15: 0001 | C15: S 4 3 337 | D15: Izdelava kanalizacije iz cevi iz cementnega betona, vključno s podložno plastjo iz cementnega betona, premera 60 cm, v globini do 1,0 m | E15: M1 | F15: 2 | H15: =ROUND(F15*G15,2) -> 0
D17: 4.4 Jaški
B18: 0001 | C18: S 4 4 182 | D18: Izdelava jaška iz cementnega betona, krožnega prereza s premerom 120 cm, globokega 1,0 do 1,5 m | E18: KOS | F18: 1 | H18: =ROUND(F18*G18,2) -> 0
B19: 0002 | C19: S 4 4 952 | D19: Dobava in vgraditev pokrova iz duktilne litine z nosilnostjo 125 kN, krožnega prereza s premerom 600 mm | E19: KOS | F19: 1 | H19: =ROUND(F19*G19,2) -> 0
D21: 4.5 Prepusti
B22: 0001 | C22: S 4 5 114 | D22: Izdelava prepusta krožnega prereza iz cevi iz cementnega betona s premerom 60 cm | E22: M1 | F22: 16 | H22: =ROUND(F22*G22,2) -> 0
B23: 0002 | C23: S 4 5 115 | D23: Izdelava prepusta krožnega prereza iz cevi iz cementnega betona s premerom 80 cm | E23: M1 | F23: 10 | H23: =ROUND(F23*G23,2) -> 0
B24: 0003 | C24: S 4 5 132 | D24: Izdelava obloge (obbetoniranje) prepusta krožnega prereza iz cevi s premerom 60 cm s cementnim betonom C 12/15, po načrtu | E24: M1 | F24: 16 | H24: =ROUND(F24*G24,2) -> 0
B25: 0004 | C25: S 4 5 133 | D25: Izdelava obloge (obbetoniranje) prepusta krožnega prereza iz cevi s premerom 80 cm s cementnim betonom C 12/15, po načrtu | E25: M1 | F25: 10 | H25: =ROUND(F25*G25,2) -> 0
B26: 0005 | C26: S 4 5 213 | D26: Izdelava poševne vtočne ali iztočne glave prepusta krožnega prereza iz cementnega betona s premerom 60 cm | E26: KOS | F26: 2 | H26: =ROUND(F26*G26,2) -> 0
B27: 0006 | C27: S 4 5 214 | D27: Izdelava poševne vtočne ali iztočne glave prepusta krožnega prereza iz cementnega betona s premerom 80 cm | E27: KOS | F27: 1 | H27: =ROUND(F27*G27,2) -> 0
D29: REKAPITULACIJA
D30: =D9 -> 4 ODVODNJAVANJE | E30: =H9 -> 0
D31: CENA SKUPAJ (brez DDV) | E31: =+SUM(E30:E30) -> 0
D32: DDV (22%) | E32: =0.22*E31 -> 0
D33: CENA SKUPAJ (z DDV) | E33: =+SUM(E31:E32) -> 0

Sheet PREDRAČUN VODOVOD
A1: PREDRAČUN Z REKAPITULACIJO STROŠKOV št. načrta 829-V - FAZA II
A2: Zap. st. elem. | B2: Opis postavke | C2: Enota mere | D2: Količina | E2: cena na enoto | F2: cena skupaj
A3: 1.0 | B3: PREDDELA
B5: 1.01 | C5: m1 | D5: 252 | F5: =D5*E5 -> 0
B6: Zakoličba trase vodovoda z lesenimi količki 4 x 4 cm ter vpisano številko profila in stacionažo na leseni tablici, vključno z zavarovanjem s trikotnikom iz letev 2,5 x 2,5 cm na količkih Æ4 cm.
B8: 1.02 | C8: kom | D8: 25 | F8: =D8*E8 -> 0
B9: Postavitev ter zavarovanje prečnih profilov iz desk 2,5 x 5,0 cm x 20 cm, na dveh lesenih količkih 10 x 10 cm, na potrebni višini s potrebnimi označbami.
B11: 1.03 | C11: kom | D11: 4 | F11: =D11*E11 -> 0
B12: Ureditev provizorijev za prehod preko jarkov v času gradnje, v skladu s predpisi iz varstva pri gradbenem delu. Opomba:Obračun po dejanskih stroških.
B14: 1.04
B15: Priprava gradbišča | C15: kom | D15: 1 | F15: =D15*E15 -> 0
B17: 1.05
B18: Zakoličba obstoječih komunalnih vodov in zaščita teh vodov | C18: kom | D18: 3 | F18: =D18*E18 -> 0
A20: 2.0 | B20: ZEMELJSKA DELA
B22: 2.01 | C22: m3 | D22: 705 | F22: =D22*E22 -> 0
B23: Strojni 80% in ročni 20% izkop jarka v terenu III. ktg. z odlaganjem materiala ob robu izkopanega jarka. Povprečna globina izkopa znaša 1,5 m.
B25: 2.02 | C25: m3 | D25: 21 | F25: =D25*E25 -> 0
B26: Ročna poglobitev in razširitev jarka na mestih spoja cevi, oziroma vsakih 12 m. Poglobitev je potrebna za varjenje. Opomba: Računamo 1,0 m3/spoj.
B28: 2.03 | C28: m2 | D28: 252 | F28: =D28*E28 -> 0
B29: Planum naravnih temeljnih tal v težki zemljini, ročno planiranje in strojno utrjevanje dna gradbene jame v točnosti ± 3 cm.
B31: 2.04 | C31: m3 | D31: 32 | F31: =D31*E31 -> 0
B32: Dobava in vgraditev peščenega materiala granulacije 0 do 16 mm za peščeno ležišče cevi (POSTELJICA) s sprotno višinsko kontrolo do predpisane kote dna cevi (10 cm + D/10) z komprimacijo do stopnje 97% SPP, vključno z nabavo in transportom materiala.
B34: 2.05 | C34: m3 | D34: 155 | F34: =D34*E34 -> 0
B35: Dobava in vgraditev peščenega materiala granulacije 0 do 32 mm s komprimacijo, v coni cevovoda v debelini 30 cm nad temenom, s komprimacijo v plasteh po 20 cm, zbitost 95% po proctorju, vključno z nabavo in transportom materiala.
B37: 2.06 | C37: m3 | D37: 512 | F37: =D37*E37 -> 0
B38: Zasipanje kanala izven cone cevovoda iz naravno pridobljenega prodno peščenega nasipnega materiala v plasteh d=20 cm in komprimacijo do stopnje 95% po proctorju, vključno z nabavo in transportom materiala. Opomba: v kolikor se ugotovi na licu mesta ustreznost izkopanega materiala se lahko uporabi kvaliteten nasipni material iz izkopa.
B40: 2.07 | C40: m3 | D40: 193 | F40: =D40*E40 -> 0
B41: Odvoz odvečne zemljine iz izkopa na trajno deponijo z razprostiranjem.
A43: 3.0 | B43: MONTAŽNA DELA
B45: 3.01 | C45: m1
B46: Nabava, dobava,vgradnja cevi iz duktilne litine klase K9 ali C40 po EN 545 zunanja zaščita vroče cinkanje, notranja zaščita EC, v kompletu z tesnilnim in pritrdilnim materialom PN 16 bar
B48: DN100 | D48: 165 | F48: =D48*E48 -> 0
B49: DN150 | D49: 22 | F49: =D49*E49 -> 0
B50: DN300 | D50: 65 | F50: =D50*E50 -> 0
B52: 3.02 | C52: kom
B53: Dobava, transport, raznos in montaža LŽ armatur, vključno s tesnilnim materialom in nerjavnimi vijakI
B55: EV DN80 | D55: 3 | F55: =D55*E55 -> 0
B56: EV DN100 | D56: 3 | F56: =D56*E56 -> 0
B57: EV DN150 | D57: 1 | F57: =D57*E57 -> 0
B58: EV DN300 | D58: 1 | F58: =D58*E58 -> 0
B59: NH DN80 | D59: 3 | F59: =D59*E59 -> 0
B62: 3.03 | C62: kom
B63: Dobava, transport, raznos in montaža LŽ fazonov, vključno s tesnilnim materialom in nerjavnimi vijaki :
B65: E DN300 | D65: 2 | F65: =D65*E65 -> 0
B66: E DN150 | D66: 2 | F66: =D66*E66 -> 0
B67: E DN100 | D67: 3 | F67: =D67*E67 -> 0
B68: MMA 100/80 | D68: 1 | F68: =D68*E68 -> 0
B69: MMA 150/80 | D69: 1 | F69: =D69*E69 -> 0
B70: MMA 300/80 | D70: 1 | F70: =D70*E70 -> 0
B71: N DN80 | D71: 3 | F71: =D71*E71 -> 0
B72: F DN300 | D72: 2 | F72: =D72*E72 -> 0
B73: MMK 100/45 | D73: 4 | F73: =D73*E73 -> 0
B74: MMK 100/11 | D74: 1 | F74: =D74*E74 -> 0
B75: MMK 100/22 | D75: 1 | F75: =D75*E75 -> 0
B76: MMK 150/45 | D76: 3 | F76: =D76*E76 -> 0
... B81: T 300/100 | D81: 2 | F81: =D81*E81 -> 0
B83: 3.04 | C83: kom
B84: Dobava, vgradnja spojk vključno z vsem potrebnim spojnim, tesnilnim in pritrdilnim nerjavečim materialom iz Ductila, NP 16, ISO 3221
B86: univerzalna spojka DN100 | D86: 3 | F86: =D86*E86 -> 0
B87: univerzalna spojka DN150 | D87: 2 | F87: =D87*E87 -> 0
B88: univerzalna spojka DN300 | D88: 2 | F88: =D88*E88 -> 0
B90: 3.05
B91: Dvakratni prerez obstoječega cevovoda z izvedbo navezave. Upoštevati objave o ispadu oskrbe:
B93: DN100 | D93: 1 | F93: =D93*E93 -> 0
B94: DN150 | D94: 1 | F94: =D94*E94 -> 0
B95: DN300 | D95: 2 | F95: =D95*E95 -> 0
B97: 3.06 | C97: kom
B98: Navezava hišnih priključkov v kompletu z navrtnim oklepom, cestnim zaklopnikom, PE cevjo l=15 m1, PN 10 bar , vgradno garnituro, cestno kapo in PE jaškom
B100: HP DN 32 z tipskim PE jaškom | D100: 5 | F100: =D100*E100 -> 0
B102: 3.07 | C102: kom
B103: Dobava in vgradnja cestnih kap (predvidene so cestne kape s teleskopsko prilagodljivo višino) | D103: 8 | F103: =D103*E103 -> 0
B105: 3.08 | C105: m1
B106: Dobava in vgradnja jeklene zaščitne cevi vklučno z tesnili, drsniki in manšetami. Opomba: komplet
B108: DN200 | D108: 28 | F108: =D108*E108 -> 0
B109: DN250 | D109: 8 | F109: =D109*E109 -> 0
B110: DN450 | D110: 12 | F110: =D110*E110 -> 0
B112: 3.09
B113: Dobava in polaganje signalnega tlaka nad cevovodom | C113: m1 | D113: 252 | F113: =D113*E113 -> 0
A116: 4.0 | B116: TUJE STORITVE
B118: 4.01 | C118: ura | D118: 25 | F118: =D118*E118 -> 0
B119: Projektantski nadzor.
B121: 4.02 | C121: kom | D121: 1 | F121: =D121*E121 -> 0
B122: Izdelava načrta PID-a.
B124: 4.03 | C124: kom | D124: 1 | F124: =D124*E124 -> 0
B125: Izdelava geodetskega posnetka komunalne kanalizacije po končani gradnji
B127: 4.04
B128: Dezinfekcija in izpiranje cevovoda | C128: m1 | D128: 252 | F128: =D128*E128 -> 0
B130: 4.05
B131: Tlačni preizkus cevovoda | C131: m1 | D131: 252 | F131: =D131*E131 -> 0
B133: 4.06
B134: Analiza vzorca vode s strani pooblaščene organizacije | C134: kom | D134: 3 | F134: =D134*E134 -> 0
B136: 4.07
B137: Preizkus hidrantov s strani pooblaščene organizacije | C137: kom | D137: 3 | F137: =D137*E137 -> 0
B139: SKUPAJ | F139: =SUM(F5:F138) -> 0

Sheet REKAPITULAC
A1: PREDRAČUN GRADBENIH DEL ZA UREDITEV
A2: EE OMREŽJA IN JAVNE RAZSVETLJAVE NA OBJEKTU,
A3: JR, NNO Podvinci
B9: Opis dela: | C9: Vrednost €
A11: 1 | B11: POPIS DEL JR PODVINCI (DRSI)
A12: 2 | B12: POPIS DEL DOVOD JR PODVINCI (DRSI)
A13: 3 | B13: POPIS DEL JR PODVINCI (Občina) - 2.ETAPA
A14: 4 | B14: POPIS DEL DOVOD JR PODVINCI (Občina)
A15: 5 | B15: UREDITEV NN OMREŽJA - TP PODVINCI 1
A16: 6 | B16: UREDITEV NN OMREŽJA - TP PODVINCI 3 - ribnik
B18: Skupaj brez DDV
B19: 22% DDV
B20: SKUPAJ

Sheet predračun CR (DRSI)
A1: POPIS DEL JR PODVINCI (DRSI)
A3: A) | B3: Pripravljalna dela | E3: EM | F3: količina | G3: cena | H3: znesek skupaj
A5: 1. | B5: Zavarovanje gradbišča (delno)- jarek, jame, uvozi | E5: m | F5: 440
A7: 2. | B7: Zakoličba KTV, PTT, plin… | E7: kom | F7: 4
A10: B) | B10: Gradbena dela
A12: 01. | B12: Betonski montažni temelj za
B13: kandelaber 9m, dim.0.8*0.8*1.2 m
B14: (N.5.1) dobava, izkop in postavitev | E14: kom | F14: 8
A16: 02. | B16: Betonski montažni temelj za ločni
B17: kandelaber 9m, dim.0.8*0.8*1.5 m
B18: (N.5.2) dobava, izkop in postavitev | E18: kom | F18: 5
A20: 03. | B20: Kombinirani ročno/strojni (30/70%)
B21: izkop in zasip kabelskega jarka v
B22: (zasip-nabijanje v plasteh po 20 cm)
B23: zemljišču III.kat.dim: 0.40 x 0.8 m | E23: m | F23: 392
A25: 04. | B25: Izdelava kabelske blazine
B26: iz mivke ali presejane zemlje v deb. 20 cm
B27: za jarek dim: 0.4 x 0.8 m | E27: m | F27: 392
A29: 05. | B29: Kombinirani ročno/strojni (30/70%)
B30: izkop kabelskega jarka v zemljišču
B31: III.kat.dim: 0.40 x 1.0 m,
B32: obbetoniranje cevi 2xPC-E/110
B33: (beton MB10, 96m3, 6.5m cevi)
B34: ter ponovni zasip (nabijanje…)
B35: kanalizacije (2xfi110mm BETON) | E35: m | F35: 48
A37: 06. | B37: Dobava in polaganje opozorilnega
B38: traku | E38: m | F38: 440
A40: 07. | B40: Izkop in zasip jame zaprostostoječo omarico | E40: kom | F40: 1
A42: 08. | B42: Izkop in zasip jame za kabelske
B43: rezerve | E43: kom | F43: 1
A45: 09. | B45: Odvoz odvečnega materiala na trajno deponijo, vključno s plačilom takse (naročniku je potrebno oddat evidenčne liste za prevzem odvečnega materiala in odpadkov). | E45: m3 | F45: 50 | H45: __________
G47: skupaj:
A55: POPIS DEL DOVOD JR PODVINCI (DRSI)
A57: A) | B57: Pripravljalna dela (dovod) | E57: EM | F57: količina | G57: cena | H57: znesek skupaj
A59: 1. | B59: Zavarovanje gradbišča (delno)- jarek, jame, uvozi | E59: m | F59: 350
A61: 2. | B61: Zakoličba KTV, PTT, plin… | E61: kom | F61: 4
A64: B) | B64: Gradbena dela (dovod)
A66: 01. | B66: Kombinirani ročno/strojni (30/70%)
B67: izkop in zasip kabelskega jarka v
B68: (zasip-nabijanje v plasteh po 20 cm)
B69: zemljišču III.kat.dim: 0.40 x 0.8 m | E69: m | F69: 350
A71: 02. | B71: Izdelava kabelske blazine
B72: iz mivke ali presejane zemlje v deb. 20 cm
B73: za jarek dim: 0.4 x 0.8 m | E73: m | F73: =F69 -> 350
A75: 03. | B75: Dobava in polaganje opozorilnega
B76: traku | E76: m | F76: =2*F69 -> 700
A78: 04. | B78: Izkop in zasip jame zaprostostoječo omarico | E78: kom | F78: 1
A80: 05. | B80: Odvoz odvečnega materiala na trajno deponijo, vključno s plačilom takse (naročniku je potrebno oddat evidenčne liste za prevzem odvečnega materiala in odpadkov). | E80: m3 | F80: 35 | H80: ____________
G82: skupaj:
K172: =35*2.5 -> 87.5

Sheet predračun CR (obcina)
A1: POPIS DEL JR PODVINCI (Občina) - 2.ETAPA
A3: A) | B3: Pripravljalna dela | E3: EM | F3: količina | G3: cena | H3: znesek skupaj
A5: 1. | B5: Zavarovanje gradbišča (delno)- jarek, jame, uvozi | E5: m | F5: 1016
A7: 2. | B7: Zakoličba KTV, PTT, plin… | E7: kom | F7: 4
A10: B) | B10: Gradbena dela
A12: 01. | B12: Betonski montažni temelj za
B13: kandelaber 9m, dim.0.8*0.8*1.2 m
B14: (N.5.1) dobava, izkop in postavitev | E14: kom | F14: 30
A16: 02. | B16: Betonski montažni temelj za ločni
B17: kandelaber 9m, dim.0.8*0.8*1.5 m
B18: (N.5.2) dobava, izkop in postavitev | E18: kom | F18: 4
A20: 03. | B20: Kombinirani ročno/strojni (30/70%)
B21: izkop in zasip kabelskega jarka v
B22: (zasip-nabijanje v plasteh po 20 cm)
B23: zemljišču III.kat.dim: 0.40 x 0.8 m | E23: m | F23: 859
A25: 04. | B25: Izdelava kabelske blazine
B26: iz mivke ali presejane zemlje
B27: za jarek dim: 0.4 x 0.8 m | E27: m | F27: =F23 -> 859
A29: 05. | B29: Kombinirani ročno/strojni (30/70%)
B30: izkop kabelskega jarka v zemljišču
B31: III.kat.dim: 0.40 x 1.0 m,
B32: obbetoniranje cevi 2xPC-E/110
B33: (beton MB10, 40m3, 314m cevi)
B34: ter ponovni zasip (nabijanje…)
B35: kanalizacije (2xfi110mm BETON) | E35: m | F35: 157
A37: 06. | B37: Dobava in polaganje opozorilnega
B38: traku | E38: m | F38: 2032
A40: 07. | B40: Izkop in zasip jame zaprostostoječo omarico | E40: kom | F40: 1
A42: 08. | B42: Izkop in zasip jame za kabelske
B43: rezerve | E43: kom | F43: 2
A45: 09. | B45: Odvoz odvečnega materiala na trajno deponijo, vključno s plačilom takse (naročniku je potrebno oddat evidenčne liste za prevzem odvečnega materiala in odpadkov). | E45: m3 | F45: 120 | H45: ___________
G47: skupaj:
A55: POPIS DEL DOVOD JR PODVINCI (Občina)
A57: A) | B57: Pripravljalna dela (dovod) | E57: EM | F57: količina | G57: cena | H57: znesek skupaj
A59: 1. | B59: Zavarovanje gradbišča (delno)- jarek, jame, uvozi | E59: m | F59: 20
A62: B) | B62: Gradbena dela (dovod)
A64: 01. | B64: Kombinirani ročno/strojni (30/70%)
B65: izkop in zasip kabelskega jarka v
B66: (zasip-nabijanje v plasteh po 20 cm)
B67: zemljišču III.kat.dim: 0.40 x 0.8 m | E67: m | F67: 20
A69: 02. | B69: Izdelava kabelske blazine
B70: iz mivke ali presejane zemlje
B71: za jarek dim: 0.4 x 0.8 m | E71: m | F71: =F67 -> 20
A73: 03. | B73: Dobava in polaganje opozorilnega
B74: traku | E74: m | F74: 40
A76: 04. | B76: Izkop in zasip jame zaprostostoječo omarico | E76: kom | F76: 2
A78: 05. | B78: Odvoz odvečnega materiala na trajno deponijo, vključno s plačilom takse (naročniku je potrebno oddat evidenčne liste za prevzem odvečnega materiala in odpadkov). | E78: m3 | F78: 2 | H78: ___________
G80: skupaj:

Sheet PREDRAČUN NNO 1
B2: UREDITEV NN OMREŽJA - TP PODVINCI 1
A4: ŠT. | B4: NAZIV | C4: ENOTA | D4: KOL. | E4: CENA/ENOTO | F4: CENA/SKUPAJ
A5: 1 | B5: Pripravljalna dela
A6: 1.1 | B6: Zakoličba trase komunalnih naprav pri križanjih EE vodov z ostalimi komunalnimi vodi (uradna zakoličba in sodelovanje upravljavcev) | C6: kpl | D6: 1
A7: 1.2 | B7: Zavarovanje kabelskega jarka po celotni dolžini trase | C7: m | D7: 748
A9: 2 | B9: Gradbena dela (dobava in polaganje)
A10: 2.1 | B10: Strojni izkop, strojni zasip in delno planiranje kabelskega jarka dimenzij 0.40 x 0.80 m: | C10: m | D10: 323
A11: 2.2 | B11: Strojni izkop, strojni zasip in delno planiranje kabelskega jarka dimenzij 0.4 x 1.00 m: | C11: m | D11: 187
A12: 2.3 | B12: Ročni izkop, ročni zasip in delno planiranje kabelskega jarka dimenzij 0.4 x 1.15 m: | C12: m | D12: 50
A13: 2.4 | B13: Strojni izkop, strojni zasip in delno planiranje kabelskega jarka dimenzij 0.5 x 1.00 m: | C13: m | D13: 135
A14: 2.5 | B14: Strojni izkop, strojni zasip in delno planiranje kabelskega jarka dimenzij 0.5 x 1.15 m: | C14: m | D14: 53
A15: 2.6 | B15: Dobava in polaganje plastične cevi za kabel fi 110 mm (gibljiva - zunaj rebrasta, znotraj gladka) | C15: m | D15: 1211
A16: 2.7 | B16: Polaganje opozorilnega traku nad 500 m, | C16: m | D16: 1496
A17: 2.8 | B17: Izdelava kabelske blazine globine 0.20 m in širine 0.40 m. | C17: m | D17: 240
A18: 2.9 | B18: Dobava in obbetoniranje kabelskih cevi z betonom MB 10 | C18: m3 | D18: 49
A19: 2.10 | B19: Ročni odkop (jarek dim. 0.4×0.8m), zasip, delno planiranje in dodatna mehanska zaščita obstoječih kablov, ki križajo cesto s cevjo fi 110mm in obbetoniranjem z betonom MB10 zaradi širitve ceste in izgradnje pločnikov | C19: m | D19: 10
A20: 2.11 | B20: Izdelava armirano betonskega kabelskega jaška dimenzij 1,2×1,2×1,2 m (svetle mere) s pokrovom težke izvedbe dimenzij 0,60×0,60, napis ELEKTRIKA, komplet z vsemi deli | C20: kos | D20: 9
A21: 2.12 | B21: Izkop in zasip jame za kabelske spojke | C21: kos | D21: 6
... A30: 2.21 | B30: Odvoz odvečnega materiala na trajno deponijo, vključno s plačilom takse (naročniku je potrebno oddat evidenčne liste za prevzem odvečnega materiala in odpadkov). | C30: m3 | D30: 80
A32: 5 | B32: Zaključna dela
A33: 5.1 | B33: Označevanje trase kablovoda s smernimi kamni | C33: kos | D33: 10
B35: SKUPAJ 1 do 5

Sheet PREDRAČUN NNO 3
B2: UREDITEV NN OMREŽJA - TP PODVINCI 3 - ribnik
B3: izvod 3 (izvodi iz obstoječe PS-RO 2.3)
A4: ŠT. | B4: NAZIV | C4: ENOTA | D4: KOL. | E4: CENA/ENOTO | F4: CENA (EUR)
A5: 1 | B5: Pripravljalna dela
A6: 1.1 | B6: Zakoličba trase komunalnih naprav pri križanjih EE vodov z ostalimi komunalnimi vodi (uradna zakoličba in sodelovanje upravljavcev) | C6: kpl | D6: 1
A8: 2 | B8: Gradbena dela (dobava in polaganje)
A9: 2.1 | B9: Strojni izkop, strojni zasip in delno planiranje kabelskega jarka dimenzij 0.5 x 1.15 m: | C9: m | D9: 210
A10: 2.2 | B10: Dobava in polaganje plastične cevi za kabel fi 110 mm (gibljiva - zunaj rebrasta, znotraj gladka) | C10: m | D10: 600
A11: 2.3 | B11: Polaganje opozorilnega traku nad 500 m, | C11: m | D11: 210
A12: 2.4 | B12: Dobava in obbetoniranje kabelskih cevi z betonom MB 10 | C12: m3 | D12: 5
A13: 2.5 | B13: Ročni odkop (jarek dim. 0.4×0.8m), zasip, delno planiranje in dodatna mehanska zaščita obstoječih kablov, ki križajo cesto s cevjo fi 110mm in obbetoniranjem z betonom MB10 zaradi širitve ceste in izgradnje pločnikov | C13: m | D13: 20
A14: 2.6 | B14: Izdelava armirano betonskega kabelskega jaška dimenzij 1,2×1,2×1,2 m (svetle mere) s pokrovom težke izvedbe dimenzij 0,60×0,60, napis ELEKTRIKA, komplet z vsemi deli | C14: kos | D14: 1
A15: 2.7 | B15: Izkop in zasip jame za kabelske spojke | C15: kos | D15: 4
A16: 2.8 | B16: Strojni izkop, strojni zasip in planiranje jarka za ozemljitve dimenzij 0.40 x 0.60 m: | C16: m | D16: 40
A17: 2.9 | B17: Montaža nove priključno merilne omarice PMO v fasado objekta komplet z vsemi gradbenimi deli | C17: kos | D17: 1
A18: 2.10 | B18: Izkop in zasip jame za omarico | C18: kos | D18: 2
A19: 2.11 | B19: Demontaža lesenih A-drogov | C19: kos | D19: 3
A20: 2.12 | B20: Demontaža lesenih n-drogov | C20: kos | D20: 2
A21: 2.13 | B21: Odvoz odvečnega materiala na trajno deponijo, vključno s plačilom takse (naročniku je potrebno oddat evidenčne liste za prevzem odvečnega materiala in odpadkov). | C21: m3 | D21: 20
A23: 5 | B23: Zaključna dela
A24: 5.1 | B24: Označevanje trase kablovoda s smernimi kamni | C24: kos | D24: 6
B26: SKUPAJ 1 do 5

Sheet PREDRAČUN METEORNA
A1: Projektantski predračun s rekapitulacijo stroškov
A3: Zap. st. elementa | B3: Opis postavke | C3: Enota mere | D3: Količina | E3: Cena/kos | F3: VREDNOST (€) | G3: Opomba
A4: 1.0 | B4: PREDDELA
B6: 1.01 | C6: kos | D6: 45 | F6: =D6*E6 -> 0
B7: Zakoličba lokacij kontrolnih jaškov in lovilca olj s situativnim in višinskim zavarovanjem.
B9: 1.02 | C9: m1 | D9: 986 | F9: =D9*E9 -> 0
B10: Zakoličba in zavarovanje trase primarnega komunalnega kanala.
A13: 2.0 | B13: ZEMELJSKA DELA
B15: 2.01 | C15: m3 | D15: 2760 | F15: =D15*E15 -> 0
B16: Izkopi za kanalske rove in jaške širine do 1,5 m in globine do 2,0 m v težki zemljini, vključno z 60° razpiranjem pri globini nad 1 m in potrebnim črpanjem vode v času gradnje.
B18: 2.02 | C18: m2 | D18: 1190 | F18: =D18*E18 -> 0
B19: Planum naravnih temeljnih tal v težki zemljini, ročno planiranje in strojno utrjevanje dna gradbene jame.
B21: 2.03 | C21: m3 | D21: 136 | F21: =D21*E21 -> 0
B22: Dobava in vgraditev peščenega materiala granulacije 8 do 16 mm za peščeno ležišče cevi (POSTELJICA) s sprotno višinsko kontrolo do predpisane kote dna cevi (10cm + D/10) z komprimacijo do stopnje 97% SPP, vključno z nabavo in transportom materiala.
B24: 2.04 | C24: m3 | D24: 1120 | F24: =D24*E24 -> 0
B25: Dobava in vgraditev peščenega materiala granulacije 8 do 16 mm s komprimacijo, v coni cevovoda v debelini 30 cm nad temenom, s komprimacijo v plasteh po 20 cm, zbitost 95% po proctorju, vključno z nabavo in transportom materiala.
B27: 2.05 | C27: m3 | D27: 1352 | F27: =D27*E27 -> 0
B28: Zasipanje kanala izven cone cevovoda iz naravno pridobljenega prodno peščenega nasipnega materiala v plasteh d=20 cm in komprimacijo do stopnje 95% po proctorju, vključno z nabavo in transportom materiala. Opomba: v kolikor geomehanik ugotovi na licu mesta ustreznost izkopanega materila se lahko uporabi kvaliteten nasipni material iz izkopa.
B30: 2.06 | C30: m3 | D30: =D15-D27 -> 1408 | F30: =D30*E30 -> 0
B31: Odvoz težke zemljine iz izkopa na trajno deponijo z razprostiranjem.
A33: 3.0 | B33: ODVODNJAVANJE IN MONTAŽNA DELA
B35: 3.01 | C35: m1 | D35: 230 | F35: =D35*E35 -> 0
B36: Izdelava, transport in polaganje kanalizacije iz gladkih debelostenskih PP (polipropilenskih) cevi na podolžno plast iz peska, DN 200 mm klase SN 8, izdelane v skladu s standardom SIST EN 13476 TIP B, vključno s spojkami in tesnili.
B38: 3.02 | C38: m1 | D38: 485 | F38: =D38*E38 -> 0
B39: Izdelava, transport in polaganje kanalizacije iz gladkih debelostenskih PP (polipropilenskih) cevi na podolžno plast iz peska, DN 250 mm klase SN 8, izdelane v skladu s standardom SIST EN 13476 TIP B, vključno s spojkami in tesnili.
B41: 3.03 | C41: m1 | D41: 139 | F41: =D41*E41 -> 0
B42: Izdelava, transport in polaganje kanalizacije iz gladkih debelostenskih PP (polipropilenskih) cevi na podolžno plast iz peska, DN 400 mm klase SN 8, izdelane v skladu s standardom SIST EN 13476 TIP B, vključno s spojkami in tesnili.
B44: 3.04 | C44: m1 | D44: 178 | F44: =D44*E44 -> 0
B45: Izdelava, transport in polaganje kanalizacije iz gladkih debelostenskih PP (polipropilenskih) cevi na podolžno plast iz peska, DN 500 mm klase SN 8, izdelane v skladu s standardom SIST EN 13476 TIP B, vključno s spojkami in tesnili.
B47: 3.05 | C47: m1 | D47: 155 | F47: =D47*E47 -> 0
B48: Izdelava, transport in polaganje kanalizacije iz gladkih debelostenskih PP (polipropilenskih) cevi na podolžno plast iz peska, DN 600 mm klase SN 8, izdelane v skladu s standardom SIST EN 13476 TIP B, vključno s spojkami in tesnili.
B50: 3.06 | C50: m1 | D50: 180 | F50: =D50*E50 -> 0
B51: Polno obbetoniranje cevi PP DN 200 mm s cementnim betonom C25/30, v debelini 10 cm, z dobavo in transportom betona. Opomba: obbetoniranje cevi pod voziščem.
B54: 3.07 | C54: m1 | D54: 74 | F54: =D54*E54 -> 0
B55: Polno obbetoniranje cevi PP DN 400 mm s cementnim betonom C25/30, v debelini 17 cm, z dobavo in transportom betona. Opomba: obbetoniranje cevi pod voziščem.
B57: 3.08 | C57: m1 | D57: 155 | F57: =D57*E57 -> 0
B58: Polno obbetoniranje cevi PP DN 500 mm s cementnim betonom C25/30, v debelini 17 cm, z dobavo in transportom betona. Opomba: obbetoniranje cevi pod voziščem.
B60: 3.09 | C60: m1 | D60: 11 | F60: =D60*E60 -> 0
B61: Polno obbetoniranje cevi PP DN 600 mm s cementnim betonom C25/30, v debelini 17 cm, z dobavo in transportom betona. Opomba: obbetoniranje cevi pod voziščem.
B63: 3.10 | C63: kos | D63: 29 | F63: =D63*E63 -> 0
B64: Izdelava revizijskega jaška iz polipropilena DN 800 mm, po standardu SIST EN 139598-2, vgrajenega na podložno plast iz cementnega betona; h = 1,0 - 2,0 m. | G64: Na jaških katerih pokrovi so pozicionirani v povozne površine se vgradijo dilatacijske plošče iz armiranega poliestra - 2 kom
B66: 3.11 | C66: kos | D66: 8 | F66: =D66*E66 -> 0
B67: Izdelava revizijskega jaška iz polipropilena DN 1000 mm, po standardu SIST EN 139598-2, vgrajenega na podložno plast iz cementnega betona; h = 1,0 - 2,0 m.
B69: 3.12 | C69: kos | D69: 8 | F69: =D69*E69 -> 0
B70: Izdelava tipskega revizijskega jaška vgrajenega na podložno plast iz cementnega betona; h = 1,0 - 2,0 m. AB DN 1000 mm, po standardu SIST EN 1917 | G70: Na jaških katerih pokrovi so pozicionirani v povozne površine se vgradijo dilatacijske plošče iz armiranega poliestra - 6 kom
B72: 3.13 | C72: kos | D72: 37 | F72: =D72*E72 -> 0
B73: Dobava in vgraditev pokrova iz duktilne litine z nosilnostjo 250 kN, krožnega prereza s premerom 600 mm.
B75: 3.14 | C75: kos | D75: 8 | F75: =D75*E75 -> 0
B76: Dobava in vgraditev pokrova iz duktilne litine z nosilnostjo 400 kN, krožnega prereza s premerom 600 mm.
B78: 3.15 | C78: kos | D78: 1 | F78: =D78*E78 -> 0
B79: Izdelava poševne betonske iztočne glave na iztoku cevi krožnega prereza iz cementnega betona s premerom 40 cm.
B81: 3.16 | C81: kos | D81: 1 | F81: =D81*E81 -> 0
B82: Izdelava poševne betonske iztočne glave na iztoku cevi krožnega prereza iz cementnega betona s premerom 20 cm.
B84: 3.17 | C84: kom | D84: 29 | F84: =D84*E84 -> 0
B85: Izdelava priključevanja prečnih cevi iz polipropilena DN 200 mm na projektirano meteorno kanalizacijo iz polipropilenskih cevi DN 250 mm s PP fazonskimi komadi DN 200/250 mm (T komadi, odcepi) vključno z obdelavo vseh stikov in priključkov.
B87: 3.18 | C87: kom | D87: 8 | F87: =D87*E87 -> 0
B88: Izdelava priključevanja prečnih cevi iz polipropilena DN 200 mm na projektirano meteorno kanalizacijo iz polipropilenskih cevi DN 400 mm s PP fazonskimi komadi DN 200/400 mm (T komadi, odcepi) vključno z obdelavo vseh stikov in priključkov.
B90: 3.19 | C90: kom | D90: 9 | F90: =D90*E90 -> 0
B91: Izdelava priključevanja prečnih cevi iz polipropilena DN 200 mm na projektirano meteorno kanalizacijo iz polipropilenskih cevi DN 500 mm s PP fazonskimi komadi DN 200/400 mm (T komadi, odcepi) vključno z obdelavo vseh stikov in priključkov.
B93: 3.2 | C93: kom | D93: 5 | F93: =D93*E93 -> 0
B94: Izdelava priključevanja prečnih cevi iz polipropilena DN 200 mm na projektirano meteorno kanalizacijo iz polipropilenskih cevi DN 600 mm s PP fazonskimi komadi DN 200/400 mm (T komadi, odcepi) vključno z obdelavo vseh stikov in priključkov.
B96: 3.21 | C96: kom | D96: 1 | F96: =D96*E96 -> 0
B97: Nabava, transport in vgrajevanje (izkop, podložni beton, spust, zasip) kompaktnega tipskega usedalnika in koalescentnega separatorja ogljikovodikov brez razbremenilnika, nazivne velikosti NV 10, izdelanega v skladu EN 858-1, klasa I, (<5 mg/l) Opomba: komplet.
B99: 3.22 | C99: kom | D99: 1 | F99: =D99*E99 -> 0
B100: Nabava, transport in vgrajevanje (izkop, podložni beton, spust, zasip) kompaktnega tipskega usedalnika in koalescentnega separatorja ogljikovodikov brez razbremenilnika, nazivne velikosti NV 65, izdelanega v skladu EN 858-1, klasa I, (<5 mg/l) Opomba: komplet.
B102: 3.23 | C102: kom | D102: 40 | F102: =D102*E102 -> 0
B103: Nabava, transport in izvedba ponikovalnega polja iz ponikovalnih komor (dimenzije: š=0,6m; d=1,20m in v=0,30), vključno z pranim drobljencevm in geotekstilom - komplet. | G103: Minimalni volumen ponikalnega polja mora znašati 9.5m3
B105: 3.24 | C105: kos | D105: 3 | F105: =D105*E105 -> 0
B106: Izvedba vseh potrebnih del pri izvedbi križanja komunalnega kanala s projektiranim komunalnim vodom (elektro) vključno z potrebnim zavarovanjem.
B108: 3.25 | C108: kos | D108: 15 | F108: =D108*E108 -> 0
B109: Izvedba vseh potrebnih del pri izvedbi križanja komunalnega kanala s projektiranim komunalnim vodom (KRS) vključno z potrebnim zavarovanjem.
B111: 3.26 | C111: kos | D111: 12 | F111: =D111*E111 -> 0
B112: Izvedba vseh potrebnih del pri izvedbi križanja komunalnega kanala s projektiranim komunalnim vodom (TK) vključno z potrebnim zavarovanjem.
B114: 3.27 | C114: kos | D114: 3 | F114: =D114*E114 -> 0
B115: Izvedba vseh potrebnih del pri izvedbi križanja komunalnega kanala s projektiranim komunalnim vodom (JR) vključno z potrebnim zavarovanjem.
B117: 3.28 | C117: kos | D117: 3 | F117: =D117*E117 -> 0
B118: Izvedba vseh potrebnih del pri izvedbi križanja komunalnega kanala s projektiranim komunalnim vodom (vodovod) vključno z potrebnim zavarovanjem.
B120: 3.29 | C120: m1 | D120: 1190 | F120: =D120*E120 -> 0
B121: Preizkus vodotesnosti, televizijska kontrola, vsa čiščenja, vsi prevozi in vsa dokumentacija potrebna za tehnični pregled kanalskih cevi DN 250, 300, 400, 500 in 600 mm po veljavnem slovenskem standardu.
B123: 3.30 | C123: kos | D123: 45 | F123: =D123*E123 -> 0
B124: Preizkus vodotesnosti, vsi prevozi in vsa dokumentacija potrebna za tehnični pregled kontrolnih jaškov DN 800 in DN 1000 po veljavnem slovenskem standardu.
B126: 3.31 | C126: m2 | D126: 5 | F126: =D126*E126 -> 0
B127: Tlakovanje brežine s tlakom v debelini 15cm na podložno plast cementnega betona debeline 20cm
A129: 6.0 | B129: TUJE STORITVE
B131: 6.01 | C131: ura | D131: 10 | F131: =D131*E131 -> 0
B132: Projektantski nadzor.
B134: 6.02 | C134: kom | D134: 1 | F134: =D134*E134 -> 0
B135: Izdelava geodetskega posnetka komunalne kanalizacije po končani gradnji
B137: 6.03 | C137: kom | D137: 1 | F137: =D137*E137 -> 0
B138: Izdelava projekta izvedenih del (PID)
B140: 6.04 | C140: kom | D140: 1 | F140: =D140*E140 -> 0
B141: Katasterska situacija za GJI
B144: Meteorna kanalizacija skupaj | F144: =SUM(F5:F143) -> 0

Sheet PREDRAČUN FEKALNA N0
B2: Projekt: | C2: 829
B3: Odsek: | C3: Regionalna cesta R3-712, Žihlava - Rogoznica (Ptu)
B4: Objekt: | C4: 1331 skozi naselje Podvinci od km 17+500 do km 19+760 rekonstrukcija ceste z izgradnjo pločnika
B5: Načrt: | C5: Načrt komunalne kanalizacije
B6: Faza: | D6: Predračun z rekapitulacijo stroškov KOMUNALNA KANALIZACIJA N0
B8: Postavka | C8: Normativ | D8: Opis postavke | E8: Enota | F8: Količina | G8: Cena za enoto | H8: Cena skupaj
D10: 1 PREDDELA | G10: PREDDELA SKUPAJ: | H10: =SUM(H14:H16) -> 0
D12: 1.1 Geodetska dela
B14: 0001 | C14: N 1 0 001 | D14: Zakoličba lokacij kontrolnih jaško s situativnim in višinskim zavarovanjem. | E14: kos | F14: 10 | H14: =F14*G14 -> 0
B15: 0002 | C15: N 1 0 002 | D15: Zakoličba in zavarovanje trase komunalnega kanala. | E15: m1 | F15: 167 | H15: =F15*G15 -> 0
D17: 2 ZEMELJSKA DELA IN TEMELJENJE | H17: =+SUM(H18:H24) -> 0
B19: 0001 | C19: N 2 0 001 | D19: Izkopi za kanalske rove in jaške širine do 1,5 m in globine do 2,5 m v težki zemljini, vključno z vertikalnim razpiranjem pri globini nad 1 m in potrebnim črpanjem vode v času gradnje. | E19: m3 | F19: 525 | H19: =F19*G19 -> 0
B20: 0004 | C20: N 2 0 004 | D20: Planum naravnih temeljnih tal v težki zemljini, ročno planiranje in strojno utrjevanje dna gradbene jame v točnosti +- 3cm. | E20: m2 | F20: 250 | H20: =F20*G20 -> 0
B21: 0006 | C21: N 2 0 006 | D21: Dobava in vgraditev betona C12/15 za betonsko ležišče cevi (POSTELJICA) s sprotno višinsko kontrolo do predpisane kote dna cevi (10cm + D/10), vključno z nabavo in transportom materiala. | E21: m3 | F21: 47 | H21: =F21*G21 -> 0
B22: 0007 | C22: N 2 0 007 | D22: Dobava in vgraditev peščenega materiala granulacije 0 do 32 mm s komprimacijo, v coni cevovoda v debelini 30 cm nad temenom, s komprimacijo v plasteh po 20 cm, zbitost 95% po proctorju, vključno z nabavo in transportom materiala. | E22: m3 | F22: 120 | H22: =F22*G22 -> 0
B23: 0008 | C23: N 2 0 008 | D23: Zasipanje kanala izven cone cevovoda iz naravno pridobljenega prodno peščenega nasipnega materiala v plasteh d=20 cm in komprimacijo do stopnje 95% po proctorju, vključno z nabavo in transportom materiala. Opomba: v kolikor geomehanik ugotovi na licu mesta ustreznost izkopanega materila se lahko uporabi kvaliteten nasipni material iz izkopa. | E23: m3 | F23: 330 | H23: =F23*G23 -> 0
B24: 0009 | C24: N 2 0 009 | D24: Odvoz težke zemljine iz izkopa na trajno deponijo z razprostiranjem. | E24: m3 | F24: 200 | H24: =F24*G24 -> 0
D26: 3 ODVODNJAVANJE IN MONTAŽNA DELA | G26: ODVODNJAVANJE IN MONT. DELA SKUPAJ: | H26: =+SUM(H28:H67) -> 0
D28: GRAVITACIJSKI VOD
B30: 0002 | C30: N 3 0 002 | D30: Izdelava, transport in polaganje gladkih polnostenskih PVC kanalizacijskih cevi na podolžno plast iz peska, klase SN 8, izdelane v skladu s standardom SIST EN 1401-1, vključno s spojkami in tesnili.
D31: PVC DN 250 | E31: m1 | F31: 167 | H31: =F31*G31 -> 0
B33: 0011 | C33: N 1 1 113 | D33: Izdelava nastavka za izvedbo hišnega priključka na predviden revizijski jašek, vključno z izvedbo kronske navrtave, gumi tesnila,... - komplet. Nastavek se na koncu zablendira. Vključno z cevjo PVC DN 160, ki poteka do parcelne meje (cca. 12m) | E33: KOS | F33: 5 | H33: =ROUND(F33*G33,2) -> 0
B35: 0012 | C35: N 3 0 003 | D35: Polno obbetoniranje cevi kanalizacijskega voda s cementnim betonom C25/30, v debelini 13 cm, z dobavo in transportom betona. Opomba: obbetoniranje cevi pod voziščem. | E35: m1 | F35: 5 | H35: =F35*G35 -> 0
D36: DN 250
B38: 0001 | D38: Navezava predvidenega kanalskega niza (PVC DN250) na obstoječ jaške (ABC DN1000); kronska navrtava, tesneneje in z vsemi deli; komplet | E38: KOS | F38: 1 | H38: =F38*G38 -> 0
D43: JAŠKI
B45: 0004 | C45: N 3 0 004 | D45: Izdelava tipskega revizijskega jaška vgrajenega na podložno plast iz cementnega betona; h = 1,5 - 2,5 m.
D46: AB DN 1000 mm, po standardu SIST EN 1917 | E46: kos | F46: 10 | H46: =F46*G46 -> 0
D48: Križanja z drugimi komunalnimi vodi
B50: 0004 | C50: N 3 0 004 | D50: Izvedba vseh potrebnih del pri izvedbi križanja komunalnega kanala z obstoječim komunalnim vodom vključno z potrebnim zavarovanjem.
D51: Elektro vod | E51: kos | F51: 1 | H51: =F51*G51 -> 0
D52: TK | E52: kos | F52: 1 | H52: =F52*G52 -> 0
D53: KRS (CATV) | E53: kos | F53: 1 | H53: =F53*G53 -> 0
B54: 0004 | C54: N 3 0 004 | D54: Izvedba vseh potrebnih del pri izvedbi križanja komunalnega kanala z predvidenim komunalnim vodom vključno z potrebnim zavarovanjem.
D55: Elektro vod | E55: kos | F55: 3 | H55: =F55*G55 -> 0
D56: Vodovod | E56: kos | F56: 1 | H56: =F56*G56 -> 0
D57: TK | E57: kos | F57: 2 | H57: =F57*G57 -> 0
D58: KRS (CATV) | E58: kos | F58: 4 | H58: =F58*G58 -> 0
D59: JR | E59: kos | F59: 1 | H59: =F59*G59 -> 0
D61: POKROVI
B63: 0005 | C63: N 3 0 005 | D63: Dobava in vgraditev pokrova iz duktilne litine z nosilnostjo 250 kN, krožnega prereza s premerom 600 mm, vključno z razbremenilno betonsko ploščo (nepovozni pokrov). | E63: kos | F63: 10 | H63: =F63*G63 -> 0
D65: 5 BETONERSKA DELA | G65: BETONERSKA DELA SKUPAJ: | H65: =SUM(H67:H67) -> 0
B67: 0001 | C67: N 6 0 001 | D67: Izvedba monolitnega betonskega prstana iz cementnega betona C 16/20 (po detajlu). Dolžina prstana min. 0,8 m; (cev se polno obbetonira v debelini min. 14 cm) prstan se izvede na polovici vsakega 5 meterskega komada cevi (na vsakih 5m). OPOMBA: cca. 24 komadov | E67: m3 | F67: 5.5 | H67: =F67*G67 -> 0
D69: 6 TUJE STORITVE | G69: TUJE STORITVE SKUPAJ: | H69: =SUM(H71:H76) -> 0
B71: 0001 | C71: N 6 0 001 | D71: Projektantski nadzor. | E71: ura | F71: 10 | H71: =F71*G71 -> 0
B72: 0002 | C72: N 6 0 002 | D72: Nadzor upravljavca kanalizacije | E72: ura | F72: 5 | H72: =F72*G72 -> 0
B73: 0004 | C73: N 6 0 004 | D73: Izdelava načrta PID-a. | E73: kom | F73: 1 | H73: =F73*G73 -> 0
B74: 0005 | C74: N 6 0 005 | D74: Preizkus vodotesnosti, televizijska kontrola, vsa čiščenja, vsi prevozi in vsa dokumentacija potrebna za tehnični pregled kanalskih cevi DN 250 mm po veljavnem slovenskem standardu. | E74: m1 | F74: 167 | H74: =F74*G74 -> 0
B75: 0006 | C75: N 6 0 006 | D75: Preizkus vodotesnosti, vsi prevozi in vsa dokumentacija potrebna za tehnični pregled kontrolnih jaškov DN 1000 mm po veljavnem slovenskem standardu. | E75: kos | F75: 10 | H75: =F75*G75 -> 0
B76: 0007 | C76: N 6 0 007 | D76: Izdelava geodetskega posnetka kanalizacije po končani gradnji | E76: kom | F76: 1 | H76: =F76*G76 -> 0
D78: 7 ZAKLJUČNA DELA | G78: ZAKLJUČNA DELA SKUPAJ: | H78: =SUM(H80:H80) -> 0
B80: 0002 | C80: N 7 0 002 | D80: Kataster položenih vodov | E80: kos | F80: 1 | H80: =F80*G80 -> 0
D83: =D10 -> 1 PREDDELA | E83: =H10 -> 0
D84: =D17 -> 2 ZEMELJSKA DELA IN TEMELJENJE | E84: =H17 -> 0
D85: =D26 -> 3 ODVODNJAVANJE IN MONTAŽNA DELA | E85: =H26 -> 0
D86: 5 BETONERSKA DELA | E86: =H65 -> 0
D87: =D69 -> 6 TUJE STORITVE | E87: =H69 -> 0
D88: =D78 -> 7 ZAKLJUČNA DELA | E88: =H78 -> 0
D92: CENA SKUPAJ (brez DDV) | E92: =+SUM(E83:E90) -> 0
D96: CENA SKUPAJ (z DDV) | E96: =+SUM(E92:E94) -> 0

Sheet PREDRAČUN FEKALNA N1
B2: Projekt: | C2: 829
B3: Odsek: | C3: Regionalna cesta R3-712, Žihlava - Rogoznica (Ptu)
B4: Objekt: | C4: 1331 skozi naselje Podvinci od km 17+500 do km 19+760 rekonstrukcija ceste z izgradnjo pločnika
B5: Načrt: | C5: Načrt komunalne kanalizacije
B6: Faza: | D6: Predračun z rekapitulacijo stroškov KOMUNALNA KANALIZACIJA N1
B8: Postavka | C8: Normativ | D8: Opis postavke | E8: Enota | F8: Količina | G8: Cena za enoto | H8: Cena skupaj
D10: 1 PREDDELA | G10: PREDDELA SKUPAJ: | H10: =SUM(H14:H16) -> 0
D12: 1.1 Geodetska dela
B14: 0001 | C14: N 1 0 001 | D14: Zakoličba lokacij kontrolnih jaškov s situativnim in višinskim zavarovanjem. | E14: kos | F14: 9 | H14: =F14*G14 -> 0
B15: 0002 | C15: N 1 0 002 | D15: Zakoličba in zavarovanje trase komunalnega kanala. | E15: m1 | F15: 185 | H15: =F15*G15 -> 0
D17: 2 ZEMELJSKA DELA IN TEMELJENJE | G17: ZEMELJSKA DELA IN TEMELJENJE SKUPAJ: | H17: =+SUM(H18:H25) -> 0
B19: 0001 | C19: N 2 0 001 | D19: Izkopi za kanalske rove in jaške širine do 1,5 m in globine do 2,5 m v težki zemljini, vključno z vertikalnim razpiranjem pri globini nad 1 m in potrebnim črpanjem vode v času gradnje. | E19: m3 | F19: 525 | H19: =F19*G19 -> 0
B20: 0004 | C20: N 2 0 004 | D20: Planum naravnih temeljnih tal v težki zemljini, ročno planiranje in strojno utrjevanje dna gradbene jame v točnosti +- 3cm. | E20: m2 | F20: 280 | H20: =F20*G20 -> 0
B21: 0005 | C21: N 2 0 005 | D21: Dobava in vgraditev peščenega materiala granulacije 8 do 16 mm za peščeno ležišče cevi (POSTELJICA) s sprotno višinsko kontrolo do predpisane kote dna cevi (10cm + D/10) z komprimacijo do stopnje 97% SPP, vključno z nabavo in transportom materiala. | E21: m3 | F21: 34 | H21: =F21*G21 -> 0
B22: 0006 | C22: N 2 0 006 | D22: Dobava in vgraditev betona C12/15 za betonsko ležišče cevi (POSTELJICA) s sprotno višinsko kontrolo do predpisane kote dna cevi (10cm + D/10), vključno z nabavo in transportom materiala. | E22: m3 | F22: 18 | H22: =F22*G22 -> 0
B23: 0007 | C23: N 2 0 007 | D23: Dobava in vgraditev peščenega materiala granulacije 0 do 32 mm s komprimacijo, v coni cevovoda v debelini 30 cm nad temenom, s komprimacijo v plasteh po 20 cm, zbitost 95% po proctorju, vključno z nabavo in transportom materiala. | E23: m3 | F23: 130 | H23: =F23*G23 -> 0
B24: 0008 | C24: N 2 0 008 | D24: Zasipanje kanala izven cone cevovoda iz naravno pridobljenega prodno peščenega nasipnega materiala v plasteh d=20 cm in komprimacijo do stopnje 95% po proctorju, vključno z nabavo in transportom materiala. Opomba: v kolikor geomehanik ugotovi na licu mesta ustreznost izkopanega materila se lahko uporabi kvaliteten nasipni material iz izkopa. | E24: m3 | F24: 330 | H24: =F24*G24 -> 0
B25: 0009 | C25: N 2 0 009 | D25: Odvoz težke zemljine iz izkopa na trajno deponijo z razprostiranjem. | E25: m3 | F25: 195 | H25: =F25*G25 -> 0
D27: 3 ODVODNJAVANJE IN MONTAŽNA DELA | G27: ODVODNJAVANJE IN MONT. DELA SKUPAJ: | H27: =+SUM(H29:H58) -> 0
D30: GRAVITACIJSKI VOD
B32: 0002 | C32: N 3 0 002 | D32: Izdelava, transport in polaganje gladkih polnostenskih PVC kanalizacijskih cevi na podolžno plast iz peska, klase SN 8, izdelane v skladu s standardom SIST EN 1401-1, vključno s spojkami in tesnili.
D33: PVC DN 200 | E33: m1 | F33: 185 | H33: =F33*G33 -> 0
B35: 0011 | C35: N 1 1 113 | D35: Izdelava nastavka za izvedbo hišnega priključka na predviden revizijski jašek, vključno z izvedbo kronske navrtave, gumi tesnila,... - komplet. Nastavek se na koncu zablendira. Vključno z cevjo PVC DN 160, ki poteka do parcelne meje (cca. 7m) | E35: KOS | F35: 6 | H35: =ROUND(F35*G35,2) -> 0
B37: 0001 | D37: Navezava predvidenega kanalskega niza (PVC DN200) na obstoječ jaške (ABC DN1000); kronska navrtava, tesneneje in z vsemi deli; komplet | E37: KOS | F37: 1 | H37: =F37*G37 -> 0
D40: JAŠKI
B42: 0004 | C42: N 3 0 004 | D42: Izdelava tipskega revizijskega jaška vgrajenega na podložno plast iz cementnega betona; h = 2,0 - 2,5 m.
D43: AB DN 1000 mm, po standardu SIST EN 1917 | E43: kos | F43: 9 | H43: =F43*G43 -> 0
D45: Križanja z drugimi komunalnimi vodi
B47: 0004 | C47: N 3 0 004 | D47: Izvedba vseh potrebnih del pri izvedbi križanja komunalnega kanala z obstoječim komunalnim vodom vključno z potrebnim zavarovanjem.
D48: Elektro vod | E48: kos | F48: 2 | H48: =F48*G48 -> 0
D49: TK | E49: kos | F49: 1 | H49: =F49*G49 -> 0
D50: KRS (CATV) | E50: kos | F50: 2 | H50: =F50*G50 -> 0
B51: 0004 | C51: N 3 0 004 | D51: Izvedba vseh potrebnih del pri izvedbi križanja komunalnega kanala z predvidenim komunalnim vodom vključno z potrebnim zavarovanjem.
D52: Elektro vod | E52: kos | F52: 2 | H52: =F52*G52 -> 0
D53: TK | E53: kos | F53: 1 | H53: =F53*G53 -> 0
D54: KRS (CATV) | E54: kos | F54: 3 | H54: =F54*G54 -> 0
D56: POKROVI
B58: 0005 | C58: N 3 0 005 | D58: Dobava in vgraditev pokrova iz duktilne litine z nosilnostjo 250 kN, krožnega prereza s premerom 600 mm, vključno z razbremenilno betonsko ploščo (nepovozni pokrov). | E58: kos | F58: 9 | H58: =F58*G58 -> 0
D60: 5 BETONERSKA DELA | G60: BETONERSKA DELA SKUPAJ: | H60: =SUM(H62:H62) -> 0
B62: 0001 | C62: N 6 0 001 | D62: Izvedba monolitnega betonskega prstana iz cementnega betona C 16/20 (po detajlu). Dolžina prstana min. 0,8 m; (cev se polno obbetonira v debelini min. 14 cm) prstan se izvede na polovici vsakega 5 meterskega komada cevi (na vsakih 5m). OPOMBA: cca. 9 komadov | E62: m3 | F62: 2 | H62: =F62*G62 -> 0
D64: 6 TUJE STORITVE | G64: TUJE STORITVE SKUPAJ: | H64: =SUM(H66:H71) -> 0
B66: 0001 | C66: N 6 0 001 | D66: Projektantski nadzor. | E66: ura | F66: 10 | H66: =F66*G66 -> 0
B67: 0002 | C67: N 6 0 002 | D67: Nadzor upravljavca kanalizacije | E67: ura | F67: 5 | H67: =F67*G67 -> 0
B68: 0004 | C68: N 6 0 004 | D68: Izdelava načrta PID-a. | E68: kom | F68: 1 | H68: =F68*G68 -> 0
B69: 0005 | C69: N 6 0 005 | D69: Preizkus vodotesnosti, televizijska kontrola, vsa čiščenja, vsi prevozi in vsa dokumentacija potrebna za tehnični pregled kanalskih cevi DN200mm po veljavnem slovenskem standardu. | E69: m1 | F69: 185 | H69: =F69*G69 -> 0
B70: 0006 | C70: N 6 0 006 | D70: Preizkus vodotesnosti, vsi prevozi in vsa dokumentacija potrebna za tehnični pregled kontrolnih jaškov DN1000mm po veljavnem slovenskem standardu. | E70: kos | F70: 9 | H70: =F70*G70 -> 0
B71: 0007 | C71: N 6 0 007 | D71: Izdelava geodetskega posnetka kanalizacije po končani gradnji | E71: kom | F71: 1 | H71: =F71*G71 -> 0
D73: 7 ZAKLJUČNA DELA | G73: ZAKLJUČNA DELA SKUPAJ: | H73: =SUM(H75:H75) -> 0
B75: 0002 | C75: N 7 0 002 | D75: Kataster položenih vodov | E75: kom | F75: 1 | H75: =F75*G75 -> 0
D78: =D10 -> 1 PREDDELA | E78: =H10 -> 0
D79: =D17 -> 2 ZEMELJSKA DELA IN TEMELJENJE | E79: =H17 -> 0
D80: =D27 -> 3 ODVODNJAVANJE IN MONTAŽNA DELA | E80: =H27 -> 0
D81: 5 BETONERSKA DELA | E81: =H60 -> 0
D82: =D64 -> 6 TUJE STORITVE | E82: =H64 -> 0
D83: =D73 -> 7 ZAKLJUČNA DELA | E83: =H73 -> 0
D87: CENA SKUPAJ (brez DDV) | E87: =+SUM(E78:E85) -> 0
D89: DDV (22%) | E89: =0.22*E87 -> 0
D91: CENA SKUPAJ (z DDV) | E91: =+SUM(E87:E89) -> 0
