Workbook
Name rocno: 'PREDRAČUN NNO 1'!#REF!
Name rocno: 'PREDRAČUN NNO 3'!#REF!
Name rocno: #REF!
Name rocno: #REF!
Name strojno: 'PREDRAČUN NNO 1'!#REF!
Name strojno: 'PREDRAČUN NNO 3'!#REF!
Name strojno: #REF!
Name strojno: #REF!

Sheet Rekapitulacija
A1: REKAPITULACIJA STROŠKOV INVESTICIJE
A2: PZI 829/16 R3-712/1331 Žihlava - Rogoznica,
B3: II. etapa skozi Podvince km 18,456 - 19,760 v dolžini 1304m
B5: Opis dela: | C5: Vrednost €
A6: I. | B6: Cestna dela:
A7: 1 | B7: Rekonstrukcija reg. ceste R3-712/1331 od km 18,456 do km 19,760 skozi Podvince; cesta, stopnišča, parapetni zidovi z žičnimi ograjami in cestni požiralniki | C7: ='predračun cesta'!G117 -> 0
A8: 2 | B8: Izgradnja pločnikov in površine za ločene poti | C8: ='predračun KPZ'!G84 -> 0
A9: 3 | B9: Izgradnja avtobusnih postajališč | C9: ='predračun AP'!G72 -> 0
A10: 4 | B10: Ureditev priključnih stranskih cest | C10: ='predračun SC'!G66 -> 0
A11: 5 | B11: Promet | C11: =predračun_prom!G53 -> 0
A12: 6 | B12: Meteorna kanalizacija | C12: ='PREDRAČUN METEORNA'!F144 -> 0
A13: 7 | B13: Odvodnja zalednih vod
A14: 7.1 | B14: Odvodnik 1 (P62-54, prepust v P54+odvodni kanal) | C14: ='PREDRAČUN ODV1'!E51 -> 0
A15: 7.2 | B15: Odvodnik 2 (P62-73, prepust v P73+ odvodni kanal) | C15: ='PREDRAČUN ODV2'!E56 -> 0
A16: 7.3 | B16: Odvodnik 3 (P73-78, prepust v P78+ kanal v priključni cesti + odvodni kanal) | C16: ='PREDRAČUN ODV3'!E54 -> 0
A17: 7.4 | B17: Odvodnik 4 (P78 - 85, prepust v P84 + kanal v priključni cesti + odvodni kanal | C17: ='PREDRAČUN ODV4'!E51 -> 0
A18: 7.5 | B18: Odvodnik 5 (P85 - 106, prepust v P96+ prepust pod potjo) | C18: ='PREDRAČUN ODV5'!E51 -> 0
A19: 7.6 | B19: Odvodnik 6 (P110-115 s prepustom pod skupno površino | C19: ='PREDRAČUN ODV6'!E36 -> 0
A20: 7.7 | B20: Odvodnik 7 (P96 s prepustom pod obstoječo JP | C20: ='PREDRAČUN ODV7'!E31 -> 0
B21: Odvodnja zalednih vod tč. 7 skupaj
A23: II. | B23: Vodovod
A24: 8 | B24: Izgradnja vodovoda | C24: ='PREDRAČUN VODOVOD'!F139 -> 0
A26: III. | B26: Električne inštalacije in elektro oprema
A27: 9.1 | B27: Cestna razsvetljava (DRSI) | C27: ='predračun CR (DRSI)'!#REF! -> #REF!
A28: 9.2 | B28: Cestna razsvetljava (občina) | C28: ='predračun CR (obcina)'!#REF! -> #REF!
A29: 10 | B29: Križanja Elektro vodov | C29: ='PREDRAČUN NNO 1'!F35+#REF!+'PREDRAČUN NNO 3'!F26 -> #REF!
A31: IV. | B31: Telekomunikacije
A32: 11 | B32: KRS | C32: =#REF! -> #REF!
A33: 12 | B33: TK | C33: =#REF! -> #REF!
A35: V. | B35: Komunalna kanalizacija
A36: 13 | B36: Komunalna kanalizacija | C36: ='PREDRAČUN FEKALNA N0'!E92+'PREDRAČUN FEKALNA N1'!E87 -> 0
A38: 25 | B38: Zapora ceste (skladno z opombo) | C38: 0
A39: 26 | B39: Dodatna in nepredvidena dela 10% | C39: =SUM(C7:C38)*10% -> #REF!
B41: Skupaj brez DDV | C41: =SUM(C7:C39) -> #REF!
B42: 22% DDV | C42: =C41*0.22 -> #REF!
B43: SKUPAJ | C43: =C41+C42 -> #REF!
B48: SPLOŠNO:
B49: Dela je izvajati po projektni dokumentaciji, v skladu z veljavnimi tehničnimi predpisi ,
B50: normativi in standardi ob upoštevanju zahtev iz varstva pri delu.
B51: V enotnih cenah morajo biti zajeti vsi stroški po Splošnih tehničnih pogojih.
...

Sheet predračun cesta
A1: Projekt: PODVINCI CESTA
A2: Postavka | B2: Normativ | C2: Opis postavke | D2: Enota | E2: Količina | F2: Cena za enoto | G2: Količina
C4: 1 CESTNA DELA
C6: 1.1 PREDDELA | G6: =SUM(G9:G32) -> 0
C8: 1.1.1 Geodetska dela
A9: 0001 | B9: S 1 1 121 | C9: Obnova in zavarovanje zakoličbe osi trase ostale javne ceste v ravninskem terenu | D9: KM | E9: 1.24004 | G9: =E9*F9 -> 0
A10: 0002 | B10: S 1 1 221 | C10: Postavitev in zavarovanje prečnega profila ostale javne ceste v ravninskem terenu | D10: KOS | E10: 62 | G10: =E10*F10 -> 0
A11: 0003 | B11: S 1 1 651 | C11: Posnetek obstoječega objekta | D11: URA | E11: 35 | G11: =E11*F11 -> 0
A12: 0004 | B12: S 1 1 311 | C12: Postavitev in zavarovanje profilov za zakoličbo objekta s površino do 50 m2 | D12: KOS | E12: 1 | G12: =E12*F12 -> 0
C14: 1.1.2 Čiščenje terena
A15: 0001 | B15: S 1 2 421 | C15: Porušitev in odstranitev kanalizacije iz cevi s premerom do 40 cm | D15: M1 | E15: 60 | G15: =E15*F15 -> 0
A16: 0002 | B16: S 1 2 343 | C16: Porušitev in odstranitev tlakovanega vozišča iz kock s stranico 13 do 18 cm | D16: M2 | E16: 60 | G16: =E16*F16 -> 0
A17: 0003 | B17: S 1 2 411 | C17: Porušitev in odstranitev prepusta iz cevi s premerom do 60 cm | D17: M1 | E17: 48 | G17: =E17*F17 -> 0
A18: 0004 | B18: S 1 2 382 | C18: Rezanje asfaltne plasti s talno diamantno žago, debele 6 do 10 cm | D18: M1 | E18: 125.93 | G18: =E18*F18 -> 0
A19: 0005 | B19: S 1 2 142 | C19: Odstranitev grmovja in dreves z debli premera do 10 cm ter vej na gosto porasli površini - strojno | D19: M2 | E19: 322.7 | G19: =E19*F19 -> 0
A20: 0006 | B20: S 1 2 161 | C20: Odstranitev panja s premerom 11 do 30 cm z odvozom na deponijo na razdaljo do 100 m | D20: KOS | E20: 645.2 | G20: =E20*F20 -> 0
A21: 0007 | B21: S 1 2 374 | C21: Rezkanje in odvoz asfaltne krovne plasti v debelini nad 10 cm | D21: M2 | E21: 4 | G21: =E21*F21 -> 0
A22: 0008 | B22: S 1 2 291 | C22: Porušitev in odstranitev ograje iz žične mreže | D22: M2 | E22: 321.8 | G22: =E22*F22 -> 0
A23: 0009 | B23: S 1 2 297 | C23: Porušitev in odstranitev ograje iz .......................... | D23: M3 | E23: 20.63 | G23: =E23*F23 -> 0
A24: 0010 | B24: S 1 2 292 | C24: Porušitev in odstranitev ograje iz lesenih letev | D24: M2 | E24: 67.9 | G24: =E24*F24 -> 0
A25: 0011 | B25: S 1 2 381 | C25: Rezanje asfaltne plasti s talno diamantno žago, debele do 5 cm | D25: M1 | E25: 59.4 | G25: =E25*F25 -> 0
A26: 0012 | B26: S 1 2 323 | C26: Porušitev in odstranitev asfaltne plasti v debelini nad 10 cm | D26: M2 | E26: 2783 | G26: =E26*F26 -> 0
A27: 0013 | B27: S 1 2 391 | C27: Porušitev in odstranitev robnika iz cementnega betona | D27: M1 | E27: 101.2 | G27: =E27*F27 -> 0
C29: 1.1.3 Ostala preddela
B31: S 1 3 311 | C31: Organizacija gradbišča - postavitev začasnih objektov | D31: KOS | E31: 0.5 | G31: =E31*F31 -> 0
A32: 0003 | B32: S 1 3 312 | C32: Organizacija gradbišča - odstranitev začasnih objektov | D32: KOS | E32: 0.5 | G32: =E32*F32 -> 0
C34: 1.2 ZEMELJSKA DELA | G34: =SUM(G37:G63) -> 0
C36: 1.2.1 Izkopi
B37: S 2 1 114 | C37: Površinski izkop plodne zemljine - 1. kategorije - strojno z nakladanjem | D37: M3 | E37: 486.13 | G37: =E37*F37 -> 0
A38: 0002 | B38: S 2 1 224 | C38: Široki izkop vezljive zemljine - 3. kategorije - strojno z nakladanjem | D38: M3 | E38: 5274.27 | G38: =E38*F38 -> 0
A39: 0003 | B39: S 2 1 223 | C39: Široki izkop vezljive zemljine - 3. kategorije - strojno z odrivom do 100 m | D39: M3 | E39: 597 | G39: =E39*F39 -> 0
A40: 0004 | B40: S 2 1 314 | C40: Izkop vezljive zemljine/zrnate kamnine - 3. kategorije za temelje, kanalske rove, prepuste, jaške in drenaže, širine do 1,0 m in globine do 1,0 m - strojno, planiranje dna ročno | D40: M3 | E40: 43.6 | G40: =E40*F40 -> 0
C42: 1.2.2 Planum temeljnih tal
A43: 0001 | B43: S 2 2 112 | C43: Ureditev planuma temeljnih tal vezljive zemljine - 3. kategorije | D43: M2 | E43: 15133.7 | G43: =E43*F43 -> 0
C45: 1.2.3 Ločilne, drenažne in filtrske plasti ter delovni plato
A46: 0001 | B46: S 2 3 311 | C46: Dobava in vgraditev geotekstilije za ločilno plast (po načrtu), natezna trdnost do 12 kN/m2 | D46: M2 | E46: 11094 | G46: =E46*F46 -> 0
C48: 1.2.4 Nasipi, zasipi, klini, posteljica in glinasti naboj
A49: 0001 | B49: S 2 4 118 | C49: Izdelava nasipa iz zrnate kamnine - 3. kategorije z dobavo iz gramoznice | D49: M3 | E49: 2519.5 | G49: =E49*F49 -> 0
A50: 0002 | B50: S 2 4 461 | C50: Izdelava posteljice v debelini plasti do 50 cm iz zrnate kamnine - 3. kategorije | D50: M3 | E50: 5126.1 | G50: =E50*F50 -> 0
A51: 0003 | B51: S 2 4 111 | C51: Vgraditev nasipa iz vezljive zemljine - 3. kategorije | D51: M3 | E51: 699.36 | G51: =E51*F51 -> 0
...

Sheet predračun_prom
A1: Projekt:829prom R3-712/1331 skozi naselje Podvinci PROMETNA OPREMA
A2: Postavka | B2: Normativ | C2: Opis postavke | D2: Enota | E2: Količina | F2: Cena za enoto | G2: Količina
C4: 1.1 PREDDELA | G4: =G8 -> 0
C6: 1.1.3 Ostala preddela
A8: 0001 | B8: S 1 3 221 | C8: Ureditev začasnega obvoza v času gradnje po projektni dokumentaciji | D8: DNI | E8: 60 | G8: =E8*F8 -> 0
C10: 1.6 OPREMA CEST | G10: =SUM(G13:G45) -> 0
C12: 1.6.1 Pokončna oprema cest
A13: 0001 | B13: S 6 1 132 | C13: Izdelava temelja iz cementnega betona C 12/15, globine 100 cm, premera 30 cm | D13: KOS | E13: 33 | G13: =E13*F13 -> 0
A14: 0002 | B14: S 6 1 214 | C14: Dobava in vgraditev stebrička za prometni znak iz vroče cinkane jeklene cevi s premerom 64 mm, dolge 2000 mm | D14: KOS | E14: 2 | G14: =E14*F14 -> 0
A15: 0003 | B15: S 6 1 215 | C15: Dobava in vgraditev stebrička za prometni znak iz vroče cinkane jeklene cevi s premerom 64 mm, dolge 2500 mm | D15: KOS | E15: 3 | G15: =E15*F15 -> 0
A16: 0004 | B16: S 6 1 216 | C16: Dobava in vgraditev stebrička za prometni znak iz vroče cinkane jeklene cevi s premerom 64 mm, dolge 3000 mm | D16: KOS | E16: 3 | G16: =E16*F16 -> 0
A17: 0005 | B17: S 6 1 217 | C17: Dobava in vgraditev stebrička za prometni znak iz vroče cinkane jeklene cevi s premerom 64 mm, dolge 3500 mm | D17: KOS | E17: 18 | G17: =E17*F17 -> 0
A18: 0006 | B18: S 6 1 218 | C18: Dobava in vgraditev stebrička za prometni znak iz vroče cinkane jeklene cevi s premerom 64 mm, dolge 4000 mm | D18: KOS | E18: 8 | G18: =E18*F18 -> 0
A19: 0007 | B19: S 6 1 219 | C19: Dobava in vgraditev stebrička za prometni znak iz vroče cinkane jeklene cevi s premerom 64 mm, dolge 4500 mm | D19: KOS | E19: 2 | G19: =E19*F19 -> 0
A20: 0008 | B20: S 6 1 246 | C20: Dobava in vgraditev stebrička za prometni znak iz ....................... cevi s premerom / stranico ......... mm, dolge 3000 mm | D20: KOS | E20: 6 | G20: =E20*F20 -> 0
A21: 0009 | B21: S 6 1 249 | C21: Dobava in vgraditev stebrička za prometni znak iz ....................... cevi s premerom / stranico ......... mm, dolge 4500 mm | D21: KOS | E21: 9 | G21: =E21*F21 -> 0
A22: 0010 | B22: S 6 1 442 | C22: Dobava in pritrditev trikotnega prometnega znaka, podloga iz aluminijaste pločevine, znak z odsevno folijo 1. vrste, dolžina stranice a = 900 mm | D22: KOS | E22: 2 | G22: =E22*F22 -> 0
A23: 0011 | B23: S 6 1 451 | C23: Dobava in pritrditev trikotnega prometnega znaka, podloga iz aluminijaste pločevine, znak z odsevno folijo 2. vrste, dolžina stranice a = 600 mm | D23: KOS | E23: 2 | G23: =E23*F23 -> 0
A24: 0011 | B24: S 6 1 452 | C24: Dobava in pritrditev trikotnega prometnega znaka, podloga iz aluminijaste pločevine, znak z odsevno folijo 2. vrste, dolžina stranice a = 900 mm | D24: KOS | E24: 3 | G24: =E24*F24 -> 0
B25: S 6 1 641 | C25: Dobava in pritrditev okroglega prometnega znaka, podloga iz aluminijaste pločevine, znak z odsevno folijo 1. vrste, premera 400 mm | D25: KOS | E25: 1 | G25: =E25*F25 -> 0
B26: S 6 1 641 | C26: Dobava in pritrditev okroglega prometnega znaka, podloga iz aluminijaste pločevine, znak z odsevno folijo 2. vrste, premera 400 mm | D26: KOS | E26: 8 | G26: =E26*F26 -> 0
A27: 0012 | B27: S 6 1 642 | C27: Dobava in pritrditev okroglega prometnega znaka, podloga iz aluminijaste pločevine, znak z odsevno folijo 1. vrste, premera 600 mm | D27: KOS | E27: 14 | G27: =E27*F27 -> 0
A28: 0013 | B28: S 6 1 652 | C28: Dobava in pritrditev okroglega prometnega znaka, podloga iz aluminijaste pločevine, znak z odsevno folijo 2. vrste, premera 600 mm | D28: KOS | E28: 15 | G28: =E28*F28 -> 0
A29: 0014 | B29: S 6 1 721 | C29: Dobava in pritrditev prometnega znaka, podloga iz aluminijaste pločevine, znak z ............ barvo-folijo ....... vrste, velikost do 0,10 m2 | D29: KOS | E29: 11 | G29: =E29*F29 -> 0
A30: 0015 | B30: S 6 1 722 | C30: Dobava in pritrditev prometnega znaka, podloga iz aluminijaste pločevine, znak z ............ barvo-folijo ....... vrste, velikost od 0,11 do 0,20 m2 | D30: KOS | E30: 6 | G30: =E30*F30 -> 0
A31: 0016 | B31: S 6 1 723 | C31: Dobava in pritrditev prometnega znaka, podloga iz aluminijaste pločevine, znak z ............ barvo-folijo ....... vrste, velikost od 0,21 do 0,40 m2 | D31: KOS | E31: 19 | G31: =E31*F31 -> 0
A32: 0017 | B32: S 6 1 724 | C32: Dobava in pritrditev prometnega znaka, podloga iz aluminijaste pločevine, znak z ............ barvo-folijo ....... vrste, velikost od 0,41 do 0,70 m2 | D32: KOS | E32: 1 | G32: =E32*F32 -> 0
A33: 0018 | B33: S 6 1 725 | C33: Dobava in pritrditev prometnega znaka, podloga iz aluminijaste pločevine, znak z ............ barvo-folijo ....... vrste, velikost od 0,71 do 1,00 m2 | D33: KOS | E33: 3 | G33: =E33*F33 -> 0
C35: 1.6.2 Označbe na voziščih
A36: 0001 | B36: N 6 1 1 | C36: Izdelava debeloslojne epoksidne prevleke SIGNO-cds-GRIP na kolesarski stezi v območju križišča na vozišču. Prevleka debeline 3-5 mm iz pigmentiranega epoksidnega veziva (ca3,0kg/m2) in obarvanega kremenčevega peska (granulacija 0,7-1,2 mm, RAL 3020) | D36: M2 | E36: 106.4 | G36: =E36*F36 -> 0
A37: 0002 | B37: S 6 2 122 | C37: Izdelava tankoslojne vzdolžne označbe na vozišču z enokomponentno belo barvo, vključno 250 g/m2 posipa z drobci / kroglicami stekla, strojno, debelina plasti suhe snovi 250 mikrometra, širina črte 12 cm | D37: M1 | E37: 1178 | G37: =E37*F37 -> 0
A38: 0003 | B38: S 6 2 252 | C38: Doplačilo za izdelavo prekinjenih vzdolžnih označb na vozišču, širina črte 12 cm | D38: M1 | E38: 293 | G38: =E38*F38 -> 0
A39: 0004 | B39: S 6 2 121 | C39: Izdelava tankoslojne vzdolžne označbe na vozišču z enokomponentno belo barvo, vključno 250 g/m2 posipa z drobci / kroglicami stekla, strojno, debelina plasti suhe snovi 250 mikrometra, širina črte 10 cm | D39: M1 | E39: 3304 | G39: =E39*F39 -> 0
A40: 0005 | B40: S 6 2 251 | C40: Doplačilo za izdelavo prekinjenih vzdolžnih označb na vozišču, širina črte 10 cm | D40: M1 | E40: 168 | G40: =E40*F40 -> 0
A41: 0006 | B41: S 6 2 168 | C41: Izdelava tankoslojne prečne in ostalih označb na vozišču z enokomponentno belo barvo, vključno 250 g/m2 posipa z drobci / kroglicami stekla, strojno, debelina plasti suhe snovi 250 mikrometra, površina označbe nad 1,5 m2 | D41: M2 | E41: 225.6 | G41: =E41*F41 -> 0
A42: 0007 | B42: S 6 2 224 | C42: Izdelava tankoslojne prečne in ostalih označb na vozišču z enokomponentno rumeno barvo, vključno 250 g/m2 posipa z drobci / kroglicami stekla, strojno, debelina plasti suhe snovi 200 mikrometra, površina označbe nad 1,5 m2 | D42: M2 | E42: 37.8 | G42: =E42*F42 -> 0
C44: 1.6.3 Oprema za vodenje prometa
A45: 0001 | B45: S 6 3 122 | C45: Dobava in postavitev plastičnega smernika s polnim prerezom, dolžina 1200 mm, z odsevnikom iz umetne snovi | D45: KOS | E45: 29 | G45: =E45*F45 -> 0
C49: REKAPITULACIJA | E49: REKAPITULACIJA faza ll
C51: 1.1 PREDDELA | G51: =G4 -> 0
...

Sheet predračun AP
A1: Projekt:829+A.P PODVINCI-AVT.POSTAJA
A2: Postavka | B2: Normativ | C2: Opis postavke | D2: Enota | E2: Količina | F2: Cena za enoto | G2: Količina
C4: 1 CESTNA DELA
C6: 1.1 PREDDELA | G6: =SUM(G9:G17) -> 0
C8: 1.1.1 Geodetska dela
B9: S 1 1 313 | C9: Postavitev in zavarovanje profilov za zakoličbo objekta s površino nad 100 m2 | D9: KOS | E9: 4 | G9: =E9*F9 -> 0
A10: 0002 | B10: S 1 1 651 | C10: Posnetek obstoječega objekta | D10: URA | E10: 8 | G10: =E10*F10 -> 0
C12: 1.1.2 Čiščenje terena
A13: 0001 | B13: S 1 2 111 | C13: Odstranitev grmovja na redko porasli površini (do 50 % pokritega tlorisa) - ročno | D13: M2 | E13: 0 | G13: =E13*F13 -> 0
C15: 1.1.3 Ostala preddela
A16: 0001 | B16: S 1 3 221 | C16: Ureditev začasnega obvoza v času gradnje po projektni dokumentaciji | D16: KOS
A17: 0002 | B17: S 1 3 311 | C17: Organizacija gradbišča - postavitev začasnih objektov | D17: KOS
A18: 0003 | B18: S 1 3 312 | C18: Organizacija gradbišča - odstranitev začasnih objektov | D18: KOS
C20: 1.2 ZEMELJSKA DELA | G20: =SUM(G27:G34) -> 0
C22: 1.2.1 Izkopi
A23: 0001 | B23: S 2 1 114 | C23: Površinski izkop plodne zemljine - 1. kategorije - strojno z nakladanjem | D23: M3
A24: 0002 | B24: S 2 1 234 | C24: Široki izkop zrnate kamnine - 3. kategorije - strojno z nakladanjem | D24: M3
C26: 1.2.2 Planum temeljnih tal
A27: 0001 | B27: S 2 2 112 | C27: Ureditev planuma temeljnih tal vezljive zemljine - 3. kategorije | D27: M2 | E27: 445.9 | G27: =E27*F27 -> 0
C29: 1.2.3 Ločilne, drenažne in filtrske plasti ter delovni plato
A30: 0001 | B30: S 2 3 323 | C30: Dobava in vgraditev geotekstilije za filtrsko plast (po načrtu), karakteristična velikost por 0,11 do 0,15 mm | D30: M2 | E30: 419 | G30: =E30*F30 -> 0
C32: 1.2.4 Nasipi, zasipi, klini, posteljica in glinasti naboj
A33: 0001 | B33: S 2 4 112 | C33: Vgraditev nasipa iz zrnate kamnine - 3. kategorije | D33: M3
A34: 0002 | B34: S 2 4 461 | C34: Izdelava posteljice v debelini plasti do 50 cm iz zrnate kamnine - 3. kategorije | D34: M3 | E34: 104.57 | G34: =E34*F34 -> 0
C36: 1.2.9 Prevozi, razprostiranje in ureditev deponij materiala
A37: 0001 | B37: S 2 9 118 | C37: Prevoz materiala na razdaljo nad 7000 do 10000 m | D37: T
C39: 1.3 VOZIŠČNE KONSTRUKCIJE | G39: =SUM(G42:G48) -> 0
C41: 1.3.1 Nosilne plasti
A42: 0001 | B42: S 3 1 132 | C42: Izdelava nevezane nosilne plasti enakomerno zrnatega drobljenca iz kamnine v debelini 21 do 30 cm | D42: M3 | E42: 105 | G42: =E42*F42 -> 0
A43: 0002 | B43: S 3 1 642 | C43: Izdelava nosilne plasti bituminizirane zmesi AC 32 base B 50/70 A3 v debelini 8 cm | D43: M2 | E43: 445.9 | G43: =E43*F43 -> 0
C45: 1.3.2 Obrabne plasti
A46: 0001 | B46: S 3 2 591 | C46: Cišcenje utrjene/odrezkane površine podlage pred pobrizgom z bitumenskim vezivom | D46: M2 | E46: 445.9 | G46: =E46*F46 -> 0
A47: 0002 | B47: S 3 2 563 | C47: Pobrizg podlage z bitumensko emulzijo 0,6 kg/m2 | D47: M2 | E47: 445.9 | G47: =E47*F47 -> 0
A48: 0003 | B48: S 3 2 273 | C48: Izdelava obrabne in zaporne plasti bituminizirane zmesi AC 11 surf B 50/70 A3 v debelini 4 cm | D48: M2 | E48: 445.9 | G48: =E48*F48 -> 0
C50: 1.3.5 Robni elementi vozišč
A51: 0001 | B51: S 3 5 211 | C51: Dobava in vgraditev predfabriciranega dvignjenega robnika iz cementnega betona s prerezom 5/25 cm | D51: M1 | G51: =E51*F51 -> 0
A52: 0002 | B52: S 3 5 214 | C52: Dobava in vgraditev predfabriciranega dvignjenega robnika iz cementnega betona s prerezom 15/25 cm | D52: M1 | G52: =E52*F52 -> 0
C54: 1.4 ODVODNJAVANJE | G54: =G57 -> 0
C56: 1.4.1 Površinsko odvodnjavanje
A57: 0001 | B57: S 4 1 242 | C57: Izdelava asfaltne mulde iz BNOP 0/16 mm, debeline 6 cm in širine 50 cm | D57: M1 | E57: 183.61 | G57: =E57*F57 -> 0
...

Sheet predračun KPZ
A1: Projekt:829+KPZ PODVINCI-PEŠ.KOLES.POT,OGRAJE
A2: Postavka | B2: Normativ | C2: Opis postavke | D2: Enota | E2: Količina | F2: Cena za enoto | G2: Količina
C4: 1 CESTNA DELA
C6: 1.1 PREDDELA | G6: =SUM(G9:G14) -> 0
C8: 1.1.1 Geodetska dela
A9: 0001 | B9: S 1 1 121 | C9: Obnova in zavarovanje zakoličbe osi trase ostale javne ceste v ravninskem terenu | D9: KM | E9: 1.622 | G9: =E9*F9 -> 0
A10: 0002 | B10: S 1 1 221 | C10: Postavitev in zavarovanje prečnega profila ostale javne ceste v ravninskem terenu | D10: KOS | E10: 53 | G10: =E10*F10 -> 0
A11: 0003 | B11: S 1 1 311 | C11: Postavitev in zavarovanje profilov za zakoličbo objekta s površino do 50 m2 | D11: KOS | E11: 24 | G11: =E11*F11 -> 0
A12: 0004 | B12: S 1 1 321 | C12: Določitev in preverjanje položajev, višin in smeri pri gradnji objekta s površino do 200 m2 | D12: KOS | E12: 1 | G12: =E12*F12 -> 0
A13: 0005 | B13: S 1 1 323 | C13: Določitev in preverjanje položajev, višin in smeri pri gradnji objekta s površino nad 500 m2 | D13: KOS | E13: 0.5 | G13: =E13*F13 -> 0
A14: 0006 | B14: S 1 1 651 | C14: Posnetek obstoječega objekta | D14: URA | E14: 20 | G14: =E14*F14 -> 0
C16: 1.1.2 Čiščenje terena
A17: 0001 | B17: S 1 2 112 | C17: Odstranitev grmovja na redko porasli površini (do 50 % pokritega tlorisa) - strojno | D17: M2 | G17: =E17*F17 -> 0
C19: 1.1.3 Ostala preddela
A20: 0001 | B20: S 1 3 221 | C20: Ureditev začasnega obvoza v času gradnje po projektni dokumentaciji | D20: KOS | G20: =E20*F20 -> 0
A21: 0002 | B21: S 1 3 311 | C21: Organizacija gradbišča - postavitev začasnih objektov | D21: KOS | G21: =E21*F21 -> 0
A22: 0003 | B22: S 1 3 312 | C22: Organizacija gradbišča - odstranitev začasnih objektov | D22: KOS | G22: =E22*F22 -> 0
C24: 1.2 ZEMELJSKA DELA | G24: =SUM(G27:G38) -> 0
C26: 1.2.1 Izkopi
A27: 0001 | B27: S 2 1 114 | C27: Površinski izkop plodne zemljine - 1. kategorije - strojno z nakladanjem | D27: M3 | E27: 175 | G27: =E27*F27 -> 0
A28: 0002 | B28: S 2 1 224 | C28: Široki izkop vezljive zemljine - 3. kategorije - strojno z nakladanjem | D28: M3 | E28: 35 | G28: =E28*F28 -> 0
A29: 0003 | B29: S 2 1 234 | C29: Široki izkop zrnate kamnine - 3. kategorije - strojno z nakladanjem | D29: M3 | E29: 553.6 | G29: =E29*F29 -> 0
A30: 0004 | B30: S 2 1 314 | C30: Izkop vezljive zemljine/zrnate kamnine - 3. kategorije za temelje, kanalske rove, prepuste, jaške in drenaže, širine do 1,0 m in globine do 1,0 m - strojno, planiranje dna ročno | D30: M3 | E30: 1224.04 | G30: =E30*F30 -> 0
C32: 1.2.2 Planum temeljnih tal
A33: 0001 | B33: S 2 2 112 | C33: Ureditev planuma temeljnih tal vezljive zemljine - 3. kategorije | D33: M2
A34: 0002 | B34: S 2 3 312 | C34: Dobava in vgraditev geotekstilije za ločilno plast (po načrtu), natezna trdnost do nad 12 do 14 kN/m2 | D34: M2 | E34: 2914 | G34: =E34*F34 -> 0
C36: 1.2.4 Nasipi, zasipi, klini, posteljica in glinasti naboj
A37: 0001 | B37: S 2 4 2122c | C37: Zasipanje zidu z naravno pridobljeno težko zemljino - plast < 20 cm - strojno | D37: M3 | E37: 1133.39 | G37: =E37*F37 -> 0
A38: 0001 | B38: S 2 4 461 | C38: Izdelava posteljice v debelini plasti do 50 cm iz zrnate kamnine - 3. kategorije | D38: M3 | E38: 1074 | G38: =E38*F38 -> 0
C40: 1.2.9 Prevozi, razprostiranje in ureditev deponij materiala
A41: 0001 | B41: S 2 9 152 | C41: Odlaganje odpadne zmesi zemljine in kamnine | D41: T | G41: =E41*F41 -> 0
C43: 1.3 VOZIŠČNE KONSTRUKCIJE | G43: =SUM(G46:G58) -> 0
C45: 1.3.1 Nosilne plasti
A46: 0001 | B46: S 3 1 112 | C46: Izdelava nevezane nosilne plasti gramoza v debelini 21 do 30 cm | D46: M3 | E46: 208.95 | G46: =E46*F46 -> 0
A47: 0002 | B47: S 3 1 1121 | C47: Izdelava nevezane nosilne plasti gramoza v debelini od 21 do 30 cm (grejder) | D47: M3 | E47: 2187.19 | G47: =E47*F47 -> 0
A48: 0002 | B48: S 3 1 834 | C48: Izdelava obrabnonosilne plasti bituminizirane zmesi AC 16 surf B 50/70 A4 Z3 v debelini 7 cm (mešana površina) | D48: M2 | E48: 1683 | G48: =E48*F48 -> 0
C50: 1.3.2 Obrabne plasti
A51: 0001 | B51: S 3 2 256 | C51: Izdelava obrabne in zaporne plasti bituminizirane zmesi AC 8 surf, vezivo B 50/70, razred bituminizirane zmesi A5, v debelini 5 cm | D51: M2 | E51: 6099.3 | G51: =E51*F51 -> 0
C53: 1.3.5 Robni elementi vozišč
A54: 0001 | B54: S 3 5 211 | C54: Dobava in vgraditev predfabriciranega dvignjenega robnika iz cementnega betona s prerezom 5/25 cm | D54: M1 | E54: 549.07 | G54: =E54*F54 -> 0
...

Sheet predračun SC
A1: Projekt:829+s.c PODVINCI STRANSKA CESTA
A2: Postavka | B2: Normativ | C2: Opis postavke | D2: Enota | E2: Količina | F2: Cena za enoto | G2: Cena skupaj
C4: 1 CESTNA DELA
C6: 1.1 PREDDELA | G6: =SUM(G9:G14) -> 0
C8: 1.1.1 Geodetska dela
A9: 0001 | B9: S 1 1 121 | C9: Obnova in zavarovanje zakoličbe osi trase ostale javne ceste v ravninskem terenu | D9: KM | E9: 0.3694 | G9: =E9*F9 -> 0
A10: 0002 | B10: S 1 1 221 | C10: Postavitev in zavarovanje prečnega profila ostale javne ceste v ravninskem terenu | D10: KOS | E10: 24 | G10: =E10*F10 -> 0
A11: 0003 | B11: S 1 1 651 | C11: Posnetek obstoječega objekta | D11: URA | E11: 23 | G11: =E11*F11 -> 0
C13: 1.1.2 Čiščenje terena
A14: 0001 | B14: S 1 2 142 | C14: Odstranitev grmovja in dreves z debli premera do 10 cm ter vej na gosto porasli površini - strojno | D14: M2 | E14: 268.7 | G14: =E14*F14 -> 0
C16: 1.1.3 Ostala preddela
A17: 0001 | B17: S 1 3 311 | C17: Organizacija gradbišča - postavitev začasnih objektov | D17: KOS
A18: 0002 | B18: S 1 3 312 | C18: Organizacija gradbišča - odstranitev začasnih objektov | D18: KOS
C20: 1.2 ZEMELJSKA DELA | G20: =SUM(G23:G43) -> 0
C22: 1.2.1 Izkopi
A23: 0001 | B23: S 2 1 114 | C23: Površinski izkop plodne zemljine - 1. kategorije - strojno z nakladanjem | D23: M3 | E23: 57.22 | G23: =E23*F23 -> 0
A24: 0002 | B24: S 2 1 224 | C24: Široki izkop vezljive zemljine - 3. kategorije - strojno z nakladanjem | D24: M3 | E24: 1141.5 | G24: =E24*F24 -> 0
C26: 1.2.2 Planum temeljnih tal
A27: 0001 | B27: S 2 2 112 | C27: Ureditev planuma temeljnih tal vezljive zemljine - 3. kategorije | D27: M2 | E27: 2543.5 | G27: =E27*F27 -> 0
C29: 1.2.3 Ločilne, drenažne in filtrske plasti ter delovni plato
A30: 0001 | B30: S 2 3 311 | C30: Dobava in vgraditev geotekstilije za ločilno plast (po načrtu), natezna trdnost do 12 kN/m2 | D30: M2 | E30: 2543.5 | G30: =E30*F30 -> 0
C32: 1.2.4 Nasipi, zasipi, klini, posteljica in glinasti naboj
A33: 0001 | B33: S 2 4 461 | C33: Izdelava posteljice v debelini plasti do 50 cm iz zrnate kamnine - 3. kategorije | D33: M3 | E33: 1674.01 | G33: =E33*F33 -> 0
C35: 1.2.5 Brežine in zelenice
A36: 0001 | B36: S 2 5 112 | C36: Humuziranje brežine brez valjanja, v debelini do 15 cm - strojno | D36: M2 | E36: 22.5 | G36: =E36*F36 -> 0
A37: 0002 | B37: S 2 5 132 | C37: Humuziranje zelenice brez valjanja, v debelini do 15 cm - strojno | D37: M2 | E37: 155 | G37: =E37*F37 -> 0
A38: 0003 | B38: S 2 5 151 | C38: Doplačilo za zatravitev s semenom | D38: M2 | E38: 177.7 | G38: =E38*F38 -> 0
C40: 1.2.9 Prevozi, razprostiranje in ureditev deponij materiala
A41: 0001 | B41: S 2 9 117 | C41: Prevoz materiala na razdaljo nad 5000 do 7000 m | D41: T | E41: 1141.5 | G41: =E41*F41 -> 0
A42: 0002 | B42: S 2 9 151 | C42: Odlaganje odpadne zemljine | D42: T | E42: 1598.06 | G42: =E42*F42 -> 0
A43: 0003 | B43: S 2 9 131 | C43: Razprostiranje odvečne plodne zemljine - 1. kategorije | D43: M3 | E43: 57.22 | G43: =E43*F43 -> 0
C45: 1.3 VOZIŠČNE KONSTRUKCIJE | G45: =SUM(G48:G58) -> 0
C47: 1.3.1 Nosilne plasti
A48: 0001 | B48: S 3 1 132 | C48: Izdelava nevezane nosilne plasti enakomerno zrnatega drobljenca iz kamnine v debelini 21 do 30 cm | D48: M3 | E48: 386.49 | G48: =E48*F48 -> 0
A49: 0002 | B49: S 3 1 344 | C49: Izdelava zgornje nosilne plasti bituminiziranega drobljenca zrnavosti 0/22 ali 0/32 mm v debelini 8 cm | D49: M2 | E49: 1964.5 | G49: =E49*F49 -> 0
C51: 1.3.2 Obrabne plasti
A52: 0001 | B52: S 3 2 263 | C52: Izdelava obrabne in zaporne ali zaščitne plasti bitumenskega betona BB 11k iz zmesi zrn iz karbonatnih kamnin in cestogradbenega bitumna v debelini 40 mm | D52: M2 | E52: 1964.5 | G52: =E52*F52 -> 0
C54: 1.3.5 Robni elementi vozišč
A55: 0001 | B55: S 3 5 235 | C55: Dobava in vgraditev predfabriciranega pogreznjenega robnika iz cementnega betona s prerezom 15/25 cm | D55: M1 | E55: 8 | G55: =E55*F55 -> 0
C57: 1.3.6 Bankine
...

Sheet PREDRAČUN ODV1
B1: Projekt:829ODV1 R3-712 Žihlava - Rogoznica, rekonstrukcija ceste skozi naselje Podvinci (zaledne vode)
B2: Projekt:
B3: Odsek:
B4: Načrt:
B5: Faza: | D5: PREDRAČUN
B7: Postavka | C7: Normativ | D7: Opis postavke | E7: Enota | F7: Količina | G7: Cena za enoto | H7: Cena skupaj
D9: 2 ZEMELJSKA DELA | G9: ZEMELJSKA DELA SKUPAJ: | H9: =+SUM(H10:H26) -> 0
D11: 2.1 Izkopi
B12: 0001 | C12: S 2 1 112 | D12: Površinski izkop plodne zemljine - 1. kategorije - strojno z odrivom do 50 m | E12: M3 | F12: 88 | H12: =ROUND(F12*G12,2) -> 0
B13: 0002 | C13: S 2 1 314 | D13: Izkop vezljive zemljine/zrnate kamnine - 3. kategorije za temelje, kanalske rove, prepuste, jaške in drenaže, širine do 1,0 m in globine do 1,0 m - strojno, planiranje dna ročno | E13: M3 | F13: 283 | H13: =ROUND(F13*G13,2) -> 0
D15: 2.4 Nasipi, zasipi, klini, posteljica in glinasti naboj
B16: 0001 | C16: S 2 4 212 | D16: Zasip z vezljivo zemljino - 3. kategorije - strojno | E16: M3 | F16: 91 | H16: =ROUND(F16*G16,2) -> 0
D18: 2.5 Brežine in zelenice
B19: 0001 | C19: S 2 5 112 | D19: Humuziranje brežine brez valjanja, v debelini do 15 cm - strojno | E19: M2 | F19: 476 | H19: =ROUND(F19*G19,2) -> 0
B20: 0002 | C20: S 2 5 151 | D20: Doplačilo za zatravitev s semenom | E20: M2 | F20: 476 | H20: =ROUND(F20*G20,2) -> 0
D22: 2.9 Prevozi, razprostiranje in ureditev deponij materiala
B23: 0001 | C23: S 2 9 117 | D23: Prevoz materiala na razdaljo nad 5000 do 7000 m | E23: T | F23: 345 | H23: =ROUND(F23*G23,2) -> 0
D24: Opomba: Iz izkopa
B25: 0002 | C25: S 2 9 133 | D25: Razprostiranje odvečne vezljive zemljine - 3. kategorije | E25: M3 | F25: 192 | H25: =ROUND(F25*G25,2) -> 0
D27: 4 ODVODNJAVANJE | G27: ODVODNJAVANJE SKUPAJ: | H27: =+SUM(H28:H48) -> 0
D29: 4.1 Površinsko odvodnjavanje
B30: 0001 | C30: S 4 1 237 | D30: Utrditev jarka s kanaletami na stik iz cementnega betona, dolžine 100 cm in notranje širine dna kanalete 50 cm, na podložni plasti iz zmesi zrn drobljenca, debeli 10 cm | E30: M1 | F30: 40 | H30: =ROUND(F30*G30,2) -> 0
B31: 0002 | C31: S 4 1 372 | D31: Izdelava iztoka iz jarka v pobočni jarek/kanaleto s tlakom iz lomljenca, debeline 15 cm, stiki zapolnjeni s cementno malto, na podložni plasti iz zmesi zrn drobljenca, debeli 10 cm, na obstoječo podlago, po načrtu | E31: KOS | F31: 2 | H31: =ROUND(F31*G31,2) -> 0
D33: 4.3 Globinsko odvodnjavanje - kanalizacija
B34: 0001 | C34: S 4 3 294 | D34: Obbetoniranje cevi za kanalizacijo s cementnim betonom C 16/20, po detajlu iz načrta, premera 30 cm | E34: M1 | F34: 12 | H34: =ROUND(F34*G34,2) -> 0
B35: 0002 | C35: S 4 3 297 | D35: Obbetoniranje cevi za kanalizacijo s cementnim betonom C 16/20, po detajlu iz načrta, premera 60 cm | E35: M1 | F35: 19 | H35: =ROUND(F35*G35,2) -> 0
B36: 0003 | C36: S 4 3 324 | D36: Izdelava kanalizacije iz cevi iz cementnega betona, vključno s podložno plastjo iz zmesi kamnitih zrn, premera 30 cm, v globini do 1,0 m | E36: M1 | F36: 12 | H36: =ROUND(F36*G36,2) -> 0
B37: 0004 | C37: S 4 3 327 | D37: Izdelava kanalizacije iz cevi iz cementnega betona, vključno s podložno plastjo iz zmesi kamnitih zrn, premera 60 cm, v globini do 1,0 m | E37: M1 | F37: 65 | H37: =ROUND(F37*G37,2) -> 0
D39: 4.4 Jaški
B40: 0001 | C40: S 4 4 162 | D40: Izdelava jaška iz cementnega betona, krožnega prereza s premerom 80 cm, globokega 1,0 do 1,5 m | E40: KOS | F40: 2 | H40: =ROUND(F40*G40,2) -> 0
B41: 0002 | C41: S 4 4 952 | D41: Dobava in vgraditev pokrova iz duktilne litine z nosilnostjo 125 kN, krožnega prereza s premerom 600 mm | E41: KOS | F41: 2 | H41: =ROUND(F41*G41,2) -> 0
D43: 4.5 Prepusti
B44: 0001 | C44: S 4 5 114 | D44: Izdelava prepusta krožnega prereza iz cevi iz cementnega betona s premerom 60 cm | E44: M1 | F44: 17 | H44: =ROUND(F44*G44,2) -> 0
B45: 0002 | C45: S 4 5 132 | D45: Izdelava obloge (obbetoniranje) prepusta krožnega prereza iz cevi s premerom 60 cm s cementnim betonom C 12/15, po načrtu | E45: M1 | F45: 17 | H45: =ROUND(F45*G45,2) -> 0
B46: 0003 | C46: S 4 5 213 | D46: Izdelava poševne vtočne ali iztočne glave prepusta krožnega prereza iz cementnega betona s premerom 60 cm | E46: KOS | F46: 2 | H46: =ROUND(F46*G46,2) -> 0
D48: REKAPITULACIJA
D49: =D9 -> 2 ZEMELJSKA DELA | E49: =H9 -> 0
D50: =D27 -> 4 ODVODNJAVANJE | E50: =H27 -> 0
D51: CENA SKUPAJ (brez DDV) | E51: =+SUM(E49:E50) -> 0
D52: DDV (22%) | E52: =0.22*E51 -> 0
...

Sheet PREDRAČUN ODV2
B1: Projekt:829ODV2 R3-712 Žihlava - Rogoznica, rekonstrukcija ceste skozi naselje Podvinci (zaledne vode)
B2: Projekt:
B3: Odsek:
B4: Načrt:
B5: Faza: | D5: PREDRAČUN
B7: Postavka | C7: Normativ | D7: Opis postavke | E7: Enota | F7: Količina | G7: Cena za enoto | H7: Cena skupaj
D9: 2 ZEMELJSKA DELA | G9: ZEMELJSKA DELA SKUPAJ: | H9: =+SUM(H10:H26) -> 0
D11: 2.1 Izkopi
B12: 0001 | C12: S 2 1 112 | D12: Površinski izkop plodne zemljine - 1. kategorije - strojno z odrivom do 50 m | E12: M3 | F12: 33 | H12: =ROUND(F12*G12,2) -> 0
B13: 0002 | C13: S 2 1 314 | D13: Izkop vezljive zemljine/zrnate kamnine - 3. kategorije za temelje, kanalske rove, prepuste, jaške in drenaže, širine do 1,0 m in globine do 1,0 m - strojno, planiranje dna ročno | E13: M3 | F13: 140 | H13: =ROUND(F13*G13,2) -> 0
D15: 2.4 Nasipi, zasipi, klini, posteljica in glinasti naboj
B16: 0001 | C16: S 2 4 212 | D16: Zasip z vezljivo zemljino - 3. kategorije - strojno | E16: M3 | F16: 107 | H16: =ROUND(F16*G16,2) -> 0
D18: 2.5 Brežine in zelenice
B19: 0001 | C19: S 2 5 112 | D19: Humuziranje brežine brez valjanja, v debelini do 15 cm - strojno | E19: M2 | F19: 167 | H19: =ROUND(F19*G19,2) -> 0
B20: 0002 | C20: S 2 5 151 | D20: Doplačilo za zatravitev s semenom | E20: M2 | F20: 167 | H20: =ROUND(F20*G20,2) -> 0
D22: 2.9 Prevozi, razprostiranje in ureditev deponij materiala
B23: 0001 | C23: S 2 9 117 | D23: Prevoz materiala na razdaljo nad 5000 do 7000 m | E23: T | F23: 252 | H23: =ROUND(F23*G23,2) -> 0
D24: Opomba: Iz izkopa
B25: 0002 | C25: S 2 9 133 | D25: Razprostiranje odvečne vezljive zemljine - 3. kategorije | E25: M3 | F25: 140 | H25: =ROUND(F25*G25,2) -> 0
D27: 4 ODVODNJAVANJE | G27: ODVODNJAVANJE SKUPAJ: | H27: =+SUM(H28:H53) -> 0
D29: 4.1 Površinsko odvodnjavanje
B30: 0001 | C30: S 4 1 372 | D30: Izdelava iztoka iz jarka v pobočni jarek/kanaleto s tlakom iz lomljenca, debeline 15 cm, stiki zapolnjeni s cementno malto, na podložni plasti iz zmesi zrn drobljenca, debeli 10 cm, na obstoječo podlago, po načrtu | E30: KOS | F30: 1 | H30: =ROUND(F30*G30,2) -> 0
D32: 4.2 Globinsko odvodnjavanje - drenaže
B33: 0001 | C33: S 4 2 165 | D33: Izdelava vzdolžne in prečne drenaže, globoke do 1,0 m, na podložni plasti iz cementnega betona, s trdimi plastičnimi cevmi premera 25 cm | E33: M1 | F33: 167 | H33: =ROUND(F33*G33,2) -> 0
D35: 4.3 Globinsko odvodnjavanje - kanalizacija
B36: 0001 | C36: S 4 3 293 | D36: Obbetoniranje cevi za kanalizacijo s cementnim betonom C 16/20, po detajlu iz načrta, premera 25 cm | E36: M1 | F36: 25 | H36: =ROUND(F36*G36,2) -> 0
D37: Opomba: Obbetoniranje DK250 pod hišnimi priključki
B38: 0002 | C38: S 4 3 296 | D38: Obbetoniranje cevi za kanalizacijo s cementnim betonom C 16/20, po detajlu iz načrta, premera 50 cm | E38: M1 | F38: 19 | H38: =ROUND(F38*G38,2) -> 0
B39: 0003 | C39: S 4 3 326 | D39: Izdelava kanalizacije iz cevi iz cementnega betona, vključno s podložno plastjo iz zmesi kamnitih zrn, premera 50 cm, v globini do 1,0 m | E39: M1 | F39: 77 | H39: =ROUND(F39*G39,2) -> 0
D41: 4.4 Jaški
B42: 0001 | C42: S 4 4 131 | D42: Izdelava jaška iz cementnega betona, krožnega prereza s premerom 50 cm, globokega do 1,0 m | E42: KOS | F42: 6 | H42: =ROUND(F42*G42,2) -> 0
B43: 0002 | C43: S 4 4 162 | D43: Izdelava jaška iz cementnega betona, krožnega prereza s premerom 80 cm, globokega 1,0 do 1,5 m | E43: KOS | F43: 2 | H43: =ROUND(F43*G43,2) -> 0
B44: 0003 | C44: S 4 4 823 | D44: Dobava in vgraditev rešetke iz duktilne litine z nosilnostjo 50 kN, krožnega prereza s premerom 500 mm | E44: KOS | F44: 6 | H44: =ROUND(F44*G44,2) -> 0
B45: 0004 | C45: S 4 4 952 | D45: Dobava in vgraditev pokrova iz duktilne litine z nosilnostjo 125 kN, krožnega prereza s premerom 600 mm | E45: KOS | F45: 2 | H45: =ROUND(F45*G45,2) -> 0
D47: 4.5 Prepusti
B48: 0001 | C48: S 4 5 111 | D48: Izdelava prepusta krožnega prereza iz cevi iz cementnega betona s premerom 30 cm | E48: M1 | F48: 13 | H48: =ROUND(F48*G48,2) -> 0
B49: 0002 | C49: S 4 5 131 | D49: Izdelava obloge (obbetoniranje) prepusta krožnega prereza iz cevi s premerom 50 cm s cementnim betonom C 12/15, po načrtu | E49: M1 | F49: 13 | H49: =ROUND(F49*G49,2) -> 0
D50: Opomba: Obbetoniranje prepusta fi 30
B51: 0003 | C51: S 4 5 212 | D51: Izdelava poševne vtočne ali iztočne glave prepusta krožnega prereza iz cementnega betona s premerom 50 cm | E51: KOS | F51: 1 | H51: =ROUND(F51*G51,2) -> 0
D53: REKAPITULACIJA
...

Sheet PREDRAČUN ODV3
B1: Projekt:829ODV3 R3-712 Žihlava - Rogoznica, rekonstrukcija ceste skozi naselje Podvinci (zaledne vode)
B2: Projekt:
B3: Odsek:
B4: Načrt:
B5: Faza: | D5: PREDRAČUN
B7: Postavka | C7: Normativ | D7: Opis postavke | E7: Enota | F7: Količina | G7: Cena za enoto | H7: Cena skupaj
D9: 2 ZEMELJSKA DELA | G9: ZEMELJSKA DELA SKUPAJ: | H9: =+SUM(H10:H26) -> 0
D11: 2.1 Izkopi
B12: 0001 | C12: S 2 1 112 | D12: Površinski izkop plodne zemljine - 1. kategorije - strojno z odrivom do 50 m | E12: M3 | F12: 52 | H12: =ROUND(F12*G12,2) -> 0
B13: 0002 | C13: S 2 1 314 | D13: Izkop vezljive zemljine/zrnate kamnine - 3. kategorije za temelje, kanalske rove, prepuste, jaške in drenaže, širine do 1,0 m in globine do 1,0 m - strojno, planiranje dna ročno | E13: M3 | F13: 382 | H13: =ROUND(F13*G13,2) -> 0
D15: 2.4 Nasipi, zasipi, klini, posteljica in glinasti naboj
B16: 0001 | C16: S 2 4 212 | D16: Zasip z vezljivo zemljino - 3. kategorije - strojno | E16: M3 | F16: 281 | H16: =ROUND(F16*G16,2) -> 0
D18: 2.5 Brežine in zelenice
B19: 0001 | C19: S 2 5 112 | D19: Humuziranje brežine brez valjanja, v debelini do 15 cm - strojno | E19: M2 | F19: 245 | H19: =ROUND(F19*G19,2) -> 0
B20: 0002 | C20: S 2 5 151 | D20: Doplačilo za zatravitev s semenom | E20: M2 | F20: 245 | H20: =ROUND(F20*G20,2) -> 0
D22: 2.9 Prevozi, razprostiranje in ureditev deponij materiala
B23: 0001 | C23: S 2 9 117 | D23: Prevoz materiala na razdaljo nad 5000 do 7000 m | E23: T | F23: 182 | H23: =ROUND(F23*G23,2) -> 0
D24: Opomba: Iz izkopa
B25: 0002 | C25: S 2 9 133 | D25: Razprostiranje odvečne vezljive zemljine - 3. kategorije | E25: M3 | F25: 101 | H25: =ROUND(F25*G25,2) -> 0
D27: 4 ODVODNJAVANJE | G27: ODVODNJAVANJE SKUPAJ: | H27: =+SUM(H28:H51) -> 0
D29: 4.1 Površinsko odvodnjavanje
B30: 0001 | C30: S 4 1 372 | D30: Izdelava iztoka iz jarka v pobočni jarek/kanaleto s tlakom iz lomljenca, debeline 15 cm, stiki zapolnjeni s cementno malto, na podložni plasti iz zmesi zrn drobljenca, debeli 10 cm, na obstoječo podlago, po načrtu | E30: KOS | F30: 3 | H30: =ROUND(F30*G30,2) -> 0
D32: 4.3 Globinsko odvodnjavanje - kanalizacija
B33: 0001 | C33: S 4 3 115 | D33: Izdelava kanalizacije iz cevi iz polipropilena, vgrajenih na planumu izkopa, premera 40 cm, v globini do 1,0 m | E33: M1 | F33: 93 | H33: =ROUND(F33*G33,2) -> 0
B34: 0002 | C34: S 4 3 116 | D34: Izdelava kanalizacije iz cevi iz polipropilena, vgrajenih na planumu izkopa, premera 50 cm, v globini do 1,0 m | E34: M1 | F34: 132 | H34: =ROUND(F34*G34,2) -> 0
B35: 0003 | C35: S 4 3 295 | D35: Obbetoniranje cevi za kanalizacijo s cementnim betonom C 16/20, po detajlu iz načrta, premera 40 cm | E35: M1 | F35: 37 | H35: =ROUND(F35*G35,2) -> 0
B36: 0004 | C36: S 4 3 296 | D36: Obbetoniranje cevi za kanalizacijo s cementnim betonom C 16/20, po detajlu iz načrta, premera 50 cm | E36: M1 | F36: 14 | H36: =ROUND(F36*G36,2) -> 0
D38: 4.4 Jaški
B39: 0001 | C39: S 4 4 162 | D39: Izdelava jaška iz cementnega betona, krožnega prereza s premerom 80 cm, globokega 1,0 do 1,5 m | E39: KOS | F39: 4 | H39: =ROUND(F39*G39,2) -> 0
B40: 0002 | C40: N 4 4 101 | D40: Izdelava in dobava usedalnika - jaška meteornih vod iz AB dimenzij 1,2 x 0,6m, globine 1,5m skupaj s pohodno mežo dim. 1,2 x 0,6m. | E40: KOS | F40: 2 | H40: =ROUND(F40*G40,2) -> 0
B41: 0003 | C41: S 4 4 432 | D41: Izdelava jaška iz polipropilena, krožnega prereza s premerom 50 cm, globokega 1,0 do 1,5 m | E41: KOS | F41: 2 | H41: =ROUND(F41*G41,2) -> 0
B42: 0004 | C42: S 4 4 845 | D42: Dobava in vgraditev rešetke iz duktilne litine z nosilnostjo 250 kN, s prerezom 400/400 mm | E42: KOS | F42: 2 | H42: =ROUND(F42*G42,2) -> 0
B43: 0005 | C43: S 4 4 952 | D43: Dobava in vgraditev pokrova iz duktilne litine z nosilnostjo 125 kN, krožnega prereza s premerom 600 mm | E43: KOS | F43: 3 | H43: =ROUND(F43*G43,2) -> 0
B44: 0006 | C44: S 4 4 972 | D44: Dobava in vgraditev pokrova iz duktilne litine z nosilnostjo 400 kN, krožnega prereza s premerom 600 mm | E44: KOS | F44: 1 | H44: =ROUND(F44*G44,2) -> 0
D46: 4.5 Prepusti
B47: 0001 | C47: S 4 5 213 | D47: Izdelava poševne vtočne ali iztočne glave prepusta krožnega prereza iz cementnega betona s premerom 60 cm | E47: KOS | F47: 2 | H47: =ROUND(F47*G47,2) -> 0
B48: 0002 | C48: S 4 5 141 | D48: Izdelava prepusta krožnega prereza iz cevi iz polipropilena s premerom 40 cm | E48: M1 | F48: 36 | H48: =ROUND(F48*G48,2) -> 0
D49: Opomba: Prepust iz treh cevi polipropilena fi 30
D51: REKAPITULACIJA
D52: =D9 -> 2 ZEMELJSKA DELA | E52: =H9 -> 0
...

Sheet PREDRAČUN ODV4
B1: Projekt:829ODV4 R3-712 Žihlava - Rogoznica, rekonstrukcija ceste skozi naselje Podvinci (zaledne vode)
B2: Projekt:
B3: Odsek:
B4: Načrt:
B5: Faza: | D5: PREDRAČUN
B7: Postavka | C7: Normativ | D7: Opis postavke | E7: Enota | F7: Količina | G7: Cena za enoto | H7: Cena skupaj
D9: 2 ZEMELJSKA DELA | G9: ZEMELJSKA DELA SKUPAJ: | H9: =+SUM(H10:H26) -> 0
D11: 2.1 Izkopi
B12: 0001 | C12: S 2 1 112 | D12: Površinski izkop plodne zemljine - 1. kategorije - strojno z odrivom do 50 m | E12: M3 | F12: 31 | H12: =ROUND(F12*G12,2) -> 0
B13: 0002 | C13: S 2 1 314 | D13: Izkop vezljive zemljine/zrnate kamnine - 3. kategorije za temelje, kanalske rove, prepuste, jaške in drenaže, širine do 1,0 m in globine do 1,0 m - strojno, planiranje dna ročno | E13: M3 | F13: 208 | H13: =ROUND(F13*G13,2) -> 0
D15: 2.4 Nasipi, zasipi, klini, posteljica in glinasti naboj
B16: 0001 | C16: S 2 4 212 | D16: Zasip z vezljivo zemljino - 3. kategorije - strojno | E16: M3 | F16: 143 | H16: =ROUND(F16*G16,2) -> 0
D18: 2.5 Brežine in zelenice
B19: 0001 | C19: S 2 5 112 | D19: Humuziranje brežine brez valjanja, v debelini do 15 cm - strojno | E19: M2 | F19: 141 | H19: =ROUND(F19*G19,2) -> 0
B20: 0002 | C20: S 2 5 151 | D20: Doplačilo za zatravitev s semenom | E20: M2 | F20: 141 | H20: =ROUND(F20*G20,2) -> 0
D22: 2.9 Prevozi, razprostiranje in ureditev deponij materiala
B23: 0001 | C23: S 2 9 117 | D23: Prevoz materiala na razdaljo nad 5000 do 7000 m | E23: T | F23: 117 | H23: =ROUND(F23*G23,2) -> 0
D24: Opomba: Iz izkopa
B25: 0002 | C25: S 2 9 133 | D25: Razprostiranje odvečne vezljive zemljine - 3. kategorije | E25: M3 | F25: 65 | H25: =ROUND(F25*G25,2) -> 0
D27: 4 ODVODNJAVANJE | G27: ODVODNJAVANJE SKUPAJ: | H27: =+SUM(H28:H48) -> 0
D29: 4.1 Površinsko odvodnjavanje
B30: 0001 | C30: N 4 1 101 | D30: Čiščenje obstoječega jarka | E30: M1 | F30: 35 | H30: =ROUND(F30*G30,2) -> 0
B31: 0002 | C31: S 4 1 237 | D31: Utrditev jarka s kanaletami na stik iz cementnega betona, dolžine 100 cm in notranje širine dna kanalete 50 cm, na podložni plasti iz zmesi zrn drobljenca, debeli 10 cm | E31: M1 | F31: 27 | H31: =ROUND(F31*G31,2) -> 0
B32: 0003 | C32: S 4 1 372 | D32: Izdelava iztoka iz jarka v pobočni jarek/kanaleto s tlakom iz lomljenca, debeline 15 cm, stiki zapolnjeni s cementno malto, na podložni plasti iz zmesi zrn drobljenca, debeli 10 cm, na obstoječo podlago, po načrtu | E32: KOS | F32: 5 | H32: =ROUND(F32*G32,2) -> 0
D34: 4.3 Globinsko odvodnjavanje - kanalizacija
B35: 0001 | C35: N 4 3 101 | D35: Izdelava kanalizacije iz cevi iz cementnega betona, vključno s podložno plastjo iz cementnega betona, premera 80 cm, v globini do 1,0 m | E35: M1 | F35: 67 | H35: =ROUND(F35*G35,2) -> 0
B36: 0002 | C36: S 4 3 115 | D36: Izdelava kanalizacije iz cevi iz polipropilena, vgrajenih na planumu izkopa, premera 40 cm, v globini do 1,0 m | E36: M1 | F36: 12 | H36: =ROUND(F36*G36,2) -> 0
B37: 0003 | C37: S 4 3 295 | D37: Obbetoniranje cevi za kanalizacijo s cementnim betonom C 16/20, po detajlu iz načrta, premera 40 cm | E37: M1 | F37: 8 | H37: =ROUND(F37*G37,2) -> 0
D39: 4.4 Jaški
B40: 0001 | C40: S 4 4 182 | D40: Izdelava jaška iz cementnega betona, krožnega prereza s premerom 120 cm, globokega 1,0 do 1,5 m | E40: KOS | F40: 4 | H40: =ROUND(F40*G40,2) -> 0
B41: 0002 | C41: S 4 4 952 | D41: Dobava in vgraditev pokrova iz duktilne litine z nosilnostjo 125 kN, krožnega prereza s premerom 600 mm | E41: KOS | F41: 6 | H41: =ROUND(F41*G41,2) -> 0
D43: 4.5 Prepusti
B44: 0001 | C44: S 4 5 112 | D44: Izdelava prepusta krožnega prereza iz cevi iz cementnega betona s premerom 40 cm | E44: M1 | F44: 40 | H44: =ROUND(F44*G44,2) -> 0
B45: 0002 | C45: S 4 5 211 | D45: Izdelava poševne vtočne ali iztočne glave prepusta krožnega prereza iz cementnega betona s premerom 30 do 40 cm | E45: KOS | F45: 3 | H45: =ROUND(F45*G45,2) -> 0
B46: 0003 | C46: S 4 5 214 | D46: Izdelava poševne vtočne ali iztočne glave prepusta krožnega prereza iz cementnega betona s premerom 80 cm | E46: KOS | F46: 1 | H46: =ROUND(F46*G46,2) -> 0
D48: REKAPITULACIJA
D49: =D9 -> 2 ZEMELJSKA DELA | E49: =H9 -> 0
D50: =D27 -> 4 ODVODNJAVANJE | E50: =H27 -> 0
D51: CENA SKUPAJ (brez DDV) | E51: =+SUM(E49:E50) -> 0
D52: DDV (22%) | E52: =0.22*E51 -> 0
...

Sheet PREDRAČUN ODV5
B1: Projekt:829ODV5 R3-712 Žihlava - Rogoznica, rekonstrukcija ceste skozi naselje Podvinci (zaledne vode)
B2: Projekt:
B3: Odsek:
B4: Načrt:
B5: Faza: | D5: PREDRAČUN
B7: Postavka | C7: Normativ | D7: Opis postavke | E7: Enota | F7: Količina | G7: Cena za enoto | H7: Cena skupaj
D9: 2 ZEMELJSKA DELA | G9: ZEMELJSKA DELA SKUPAJ: | H9: =+SUM(H10:H26) -> 0
D11: 2.1 Izkopi
B12: 0001 | C12: S 2 1 112 | D12: Površinski izkop plodne zemljine - 1. kategorije - strojno z odrivom do 50 m | E12: M3 | F12: 30 | H12: =ROUND(F12*G12,2) -> 0
B13: 0002 | C13: S 2 1 314 | D13: Izkop vezljive zemljine/zrnate kamnine - 3. kategorije za temelje, kanalske rove, prepuste, jaške in drenaže, širine do 1,0 m in globine do 1,0 m - strojno, planiranje dna ročno | E13: M3 | F13: 40 | H13: =ROUND(F13*G13,2) -> 0
D15: 2.4 Nasipi, zasipi, klini, posteljica in glinasti naboj
B16: 0001 | C16: S 2 4 212 | D16: Zasip z vezljivo zemljino - 3. kategorije - strojno | E16: M3 | F16: 5 | H16: =ROUND(F16*G16,2) -> 0
D18: 2.5 Brežine in zelenice
B19: 0001 | C19: S 2 5 112 | D19: Humuziranje brežine brez valjanja, v debelini do 15 cm - strojno | E19: M2 | F19: 125 | H19: =ROUND(F19*G19,2) -> 0
B20: 0002 | C20: S 2 5 151 | D20: Doplačilo za zatravitev s semenom | E20: M2 | F20: 125 | H20: =ROUND(F20*G20,2) -> 0
D22: 2.9 Prevozi, razprostiranje in ureditev deponij materiala
B23: 0001 | C23: S 2 9 117 | D23: Prevoz materiala na razdaljo nad 5000 do 7000 m | E23: T | F23: 63 | H23: =ROUND(F23*G23,2) -> 0
D24: Opomba: Iz izkopa
B25: 0002 | C25: S 2 9 133 | D25: Razprostiranje odvečne vezljive zemljine - 3. kategorije | E25: M3 | F25: 35 | H25: =ROUND(F25*G25,2) -> 0
D27: 4 ODVODNJAVANJE | G27: ODVODNJAVANJE SKUPAJ: | H27: =+SUM(H28:H48) -> 0
D29: 4.1 Površinsko odvodnjavanje
B30: 0001 | C30: S 4 1 372 | D30: Izdelava iztoka iz jarka v pobočni jarek/kanaleto s tlakom iz lomljenca, debeline 15 cm, stiki zapolnjeni s cementno malto, na podložni plasti iz zmesi zrn drobljenca, debeli 10 cm, na obstoječo podlago, po načrtu | E30: KOS | F30: 2 | H30: =ROUND(F30*G30,2) -> 0
D32: 4.2 Globinsko odvodnjavanje - drenaže
B33: 0001 | C33: S 4 2 165 | D33: Izdelava vzdolžne in prečne drenaže, globoke do 1,0 m, na podložni plasti iz cementnega betona, s trdimi plastičnimi cevmi premera 25 cm | E33: M1 | F33: 30 | H33: =ROUND(F33*G33,2) -> 0
D35: 4.3 Globinsko odvodnjavanje - kanalizacija
B36: 0001 | C36: S 4 3 293 | D36: Obbetoniranje cevi za kanalizacijo s cementnim betonom C 16/20, po detajlu iz načrta, premera 25 cm | E36: M1 | F36: 5 | H36: =ROUND(F36*G36,2) -> 0
D37: Opomba: Obbetoniranje DK250 pod hišnimi priključki
D39: 4.4 Jaški
B40: 0001 | C40: S 4 4 131 | D40: Izdelava jaška iz cementnega betona, krožnega prereza s premerom 50 cm, globokega do 1,0 m | E40: KOS | F40: 1 | H40: =ROUND(F40*G40,2) -> 0
B41: 0002 | C41: S 4 4 823 | D41: Dobava in vgraditev rešetke iz duktilne litine z nosilnostjo 50 kN, krožnega prereza s premerom 500 mm | E41: KOS | F41: 1 | H41: =ROUND(F41*G41,2) -> 0
D43: 4.5 Prepusti
B44: 0001 | C44: S 4 5 114 | D44: Izdelava prepusta krožnega prereza iz cevi iz cementnega betona s premerom 60 cm | E44: M1 | F44: 11 | H44: =ROUND(F44*G44,2) -> 0
B45: 0002 | C45: S 4 5 132 | D45: Izdelava obloge (obbetoniranje) prepusta krožnega prereza iz cevi s premerom 60 cm s cementnim betonom C 12/15, po načrtu | E45: M1 | F45: 10 | H45: =ROUND(F45*G45,2) -> 0
B46: 0003 | C46: S 4 5 213 | D46: Izdelava poševne vtočne ali iztočne glave prepusta krožnega prereza iz cementnega betona s premerom 60 cm | E46: KOS | F46: 1 | H46: =ROUND(F46*G46,2) -> 0
D48: REKAPITULACIJA
D49: =D9 -> 2 ZEMELJSKA DELA | E49: =H9 -> 0
D50: =D27 -> 4 ODVODNJAVANJE | E50: =H27 -> 0
D51: CENA SKUPAJ (brez DDV) | E51: =+SUM(E49:E50) -> 0
D52: DDV (22%) | E52: =0.22*E51 -> 0
D53: CENA SKUPAJ (z DDV) | E53: =+SUM(E51:E52) -> 0

Sheet PREDRAČUN ODV6
B1: Projekt:829ODV6 R3-712 Žihlava - Rogoznica, rekonstrukcija ceste skozi naselje Podvinci (zaledne vode)
B2: Projekt:
B3: Odsek:
B4: Načrt:
B5: Faza:
B7: Postavka | C7: Normativ | D7: Opis postavke | E7: Enota | F7: Količina | G7: Cena za enoto | H7: Cena skupaj
D9: 2 ZEMELJSKA DELA | G9: ZEMELJSKA DELA SKUPAJ: | H9: =+SUM(H10:H22) -> 0
D11: 2.1 Izkopi
B12: 0001 | C12: S 2 1 112 | D12: Površinski izkop plodne zemljine - 1. kategorije - strojno z odrivom do 50 m | E12: M3 | F12: 4 | H12: =ROUND(F12*G12,2) -> 0
B13: 0002 | C13: S 2 1 314 | D13: Izkop vezljive zemljine/zrnate kamnine - 3. kategorije za temelje, kanalske rove, prepuste, jaške in drenaže, širine do 1,0 m in globine do 1,0 m - strojno, planiranje dna ročno | E13: M3 | F13: 32 | H13: =ROUND(F13*G13,2) -> 0
D15: 2.4 Nasipi, zasipi, klini, posteljica in glinasti naboj
B16: 0001 | C16: S 2 4 212 | D16: Zasip z vezljivo zemljino - 3. kategorije - strojno | E16: M3 | F16: 27 | H16: =ROUND(F16*G16,2) -> 0
D18: 2.9 Prevozi, razprostiranje in ureditev deponij materiala
B19: 0001 | C19: S 2 9 117 | D19: Prevoz materiala na razdaljo nad 5000 do 7000 m | E19: T | F19: 9 | H19: =ROUND(F19*G19,2) -> 0
D20: Opomba: Iz izkopa
B21: 0002 | C21: S 2 9 133 | D21: Razprostiranje odvečne vezljive zemljine - 3. kategorije | E21: M3 | F21: 5 | H21: =ROUND(F21*G21,2) -> 0
D23: 4 ODVODNJAVANJE | G23: ODVODNJAVANJE SKUPAJ: | H23: =+SUM(H24:H33) -> 0
D25: 4.1 Površinsko odvodnjavanje
B26: 0001 | C26: S 4 1 372 | D26: Izdelava iztoka iz jarka v pobočni jarek/kanaleto s tlakom iz lomljenca, debeline 15 cm, stiki zapolnjeni s cementno malto, na podložni plasti iz zmesi zrn drobljenca, debeli 10 cm, na obstoječo podlago, po načrtu | E26: KOS | F26: 2 | H26: =ROUND(F26*G26,2) -> 0
D28: 4.5 Prepusti
B29: 0001 | C29: S 4 5 112 | D29: Izdelava prepusta krožnega prereza iz cevi iz cementnega betona s premerom 40 cm | E29: M1 | F29: 19 | H29: =ROUND(F29*G29,2) -> 0
B30: 0002 | C30: S 4 5 131 | D30: Izdelava obloge (obbetoniranje) prepusta krožnega prereza iz cevi s premerom 50 cm s cementnim betonom C 12/15, po načrtu | E30: M1 | F30: 13 | H30: =ROUND(F30*G30,2) -> 0
B31: 0003 | C31: S 4 5 211 | D31: Izdelava poševne vtočne ali iztočne glave prepusta krožnega prereza iz cementnega betona s premerom 30 do 40 cm | E31: KOS | F31: 2 | H31: =ROUND(F31*G31,2) -> 0
D33: REKAPITULACIJA
D34: =D9 -> 2 ZEMELJSKA DELA | E34: =H9 -> 0
D35: =D23 -> 4 ODVODNJAVANJE | E35: =H23 -> 0
D36: CENA SKUPAJ (brez DDV) | E36: =+SUM(E34:E35) -> 0
D37: DDV (22%) | E37: =0.22*E36 -> 0
D38: CENA SKUPAJ (z DDV) | E38: =+SUM(E36:E37) -> 0

Sheet PREDRAČUN ODV7
B1: Projekt:829ODV7 R3-712 Žihlava - Rogoznica, rekonstrukcija ceste skozi naselje Podvinci (zaledne vode)
B2: Projekt:
B3: Odsek:
B4: Načrt:
B5: Faza: | D5: PREDRAČUN
B7: Postavka | C7: Normativ | D7: Opis postavke | E7: Enota | F7: Količina | G7: Cena za enoto | H7: Cena skupaj
D9: 4 ODVODNJAVANJE | G9: ODVODNJAVANJE SKUPAJ: | H9: =+SUM(H10:H29) -> 0
D11: 4.1 Površinsko odvodnjavanje
B12: 0001 | C12: S 4 1 372 | D12: Izdelava iztoka iz jarka v pobočni jarek/kanaleto s tlakom iz lomljenca, debeline 15 cm, stiki zapolnjeni s cementno malto, na podložni plasti iz zmesi zrn drobljenca, debeli 10 cm, na obstoječo podlago, po načrtu | E12: KOS | F12: 3 | H12: =ROUND(F12*G12,2) -> 0
D14: 4.3 Globinsko odvodnjavanje - kanalizacija
B15: 0001 | C15: S 4 3 337 | D15: Izdelava kanalizacije iz cevi iz cementnega betona, vključno s podložno plastjo iz cementnega betona, premera 60 cm, v globini do 1,0 m | E15: M1 | F15: 2 | H15: =ROUND(F15*G15,2) -> 0
D17: 4.4 Jaški
B18: 0001 | C18: S 4 4 182 | D18: Izdelava jaška iz cementnega betona, krožnega prereza s premerom 120 cm, globokega 1,0 do 1,5 m | E18: KOS | F18: 1 | H18: =ROUND(F18*G18,2) -> 0
B19: 0002 | C19: S 4 4 952 | D19: Dobava in vgraditev pokrova iz duktilne litine z nosilnostjo 125 kN, krožnega prereza s premerom 600 mm | E19: KOS | F19: 1 | H19: =ROUND(F19*G19,2) -> 0
D21: 4.5 Prepusti
B22: 0001 | C22: S 4 5 114 | D22: Izdelava prepusta krožnega prereza iz cevi iz cementnega betona s premerom 60 cm | E22: M1 | F22: 16 | H22: =ROUND(F22*G22,2) -> 0
B23: 0002 | C23: S 4 5 115 | D23: Izdelava prepusta krožnega prereza iz cevi iz cementnega betona s premerom 80 cm | E23: M1 | F23: 10 | H23: =ROUND(F23*G23,2) -> 0
B24: 0003 | C24: S 4 5 132 | D24: Izdelava obloge (obbetoniranje) prepusta krožnega prereza iz cevi s premerom 60 cm s cementnim betonom C 12/15, po načrtu | E24: M1 | F24: 16 | H24: =ROUND(F24*G24,2) -> 0
B25: 0004 | C25: S 4 5 133 | D25: Izdelava obloge (obbetoniranje) prepusta krožnega prereza iz cevi s premerom 80 cm s cementnim betonom C 12/15, po načrtu | E25: M1 | F25: 10 | H25: =ROUND(F25*G25,2) -> 0
B26: 0005 | C26: S 4 5 213 | D26: Izdelava poševne vtočne ali iztočne glave prepusta krožnega prereza iz cementnega betona s premerom 60 cm | E26: KOS | F26: 2 | H26: =ROUND(F26*G26,2) -> 0
B27: 0006 | C27: S 4 5 214 | D27: Izdelava poševne vtočne ali iztočne glave prepusta krožnega prereza iz cementnega betona s premerom 80 cm | E27: KOS | F27: 1 | H27: =ROUND(F27*G27,2) -> 0
D29: REKAPITULACIJA
D30: =D9 -> 4 ODVODNJAVANJE | E30: =H9 -> 0
D31: CENA SKUPAJ (brez DDV) | E31: =+SUM(E30:E30) -> 0
D32: DDV (22%) | E32: =0.22*E31 -> 0
D33: CENA SKUPAJ (z DDV) | E33: =+SUM(E31:E32) -> 0

Sheet PREDRAČUN VODOVOD
A1: PREDRAČUN Z REKAPITULACIJO STROŠKOV št. načrta 829-V - FAZA II
A2: Zap. st. elem. | B2: Opis postavke | C2: Enota mere | D2: Količina | E2: cena na enoto | F2: cena skupaj
A3: 1.0 | B3: PREDDELA
B5: 1.01 | C5: m1 | D5: 252 | F5: =D5*E5 -> 0
B6: Zakoličba trase vodovoda z lesenimi količki 4 x 4 cm ter vpisano številko profila in stacionažo na leseni tablici, vključno z zavarovanjem s trikotnikom iz letev 2,5 x 2,5 cm na količkih Æ4 cm.
B8: 1.02 | C8: kom | D8: 25 | F8: =D8*E8 -> 0
B9: Postavitev ter zavarovanje prečnih profilov iz desk 2,5 x 5,0 cm x 20 cm, na dveh lesenih količkih 10 x 10 cm, na potrebni višini s potrebnimi označbami.
B11: 1.03 | C11: kom | D11: 4 | F11: =D11*E11 -> 0
B12: Ureditev provizorijev za prehod preko jarkov v času gradnje, v skladu s predpisi iz varstva pri gradbenem delu. Opomba:Obračun po dejanskih stroških.
B14: 1.04
B15: Priprava gradbišča | C15: kom | D15: 1 | F15: =D15*E15 -> 0
B17: 1.05
B18: Zakoličba obstoječih komunalnih vodov in zaščita teh vodov | C18: kom | D18: 3 | F18: =D18*E18 -> 0
A20: 2.0 | B20: ZEMELJSKA DELA
B22: 2.01 | C22: m3 | D22: 705 | F22: =D22*E22 -> 0
B23: Strojni 80% in ročni 20% izkop jarka v terenu III. ktg. z odlaganjem materiala ob robu izkopanega jarka. Povprečna globina izkopa znaša 1,5 m.
B25: 2.02 | C25: m3 | D25: 21 | F25: =D25*E25 -> 0
B26: Ročna poglobitev in razširitev jarka na mestih spoja cevi, oziroma vsakih 12 m. Poglobitev je potrebna za varjenje. Opomba: Računamo 1,0 m3/spoj.
B28: 2.03 | C28: m2 | D28: 252 | F28: =D28*E28 -> 0
B29: Planum naravnih temeljnih tal v težki zemljini, ročno planiranje in strojno utrjevanje dna gradbene jame v točnosti ± 3 cm.
B31: 2.04 | C31: m3 | D31: 32 | F31: =D31*E31 -> 0
B32: Dobava in vgraditev peščenega materiala granulacije 0 do 16 mm za peščeno ležišče cevi (POSTELJICA) s sprotno višinsko kontrolo do predpisane kote dna cevi (10 cm + D/10) z komprimacijo do stopnje 97% SPP, vključno z nabavo in transportom materiala.
B34: 2.05 | C34: m3 | D34: 155 | F34: =D34*E34 -> 0
B35: Dobava in vgraditev peščenega materiala granulacije 0 do 32 mm s komprimacijo, v coni cevovoda v debelini 30 cm nad temenom, s komprimacijo v plasteh po 20 cm, zbitost 95% po proctorju, vključno z nabavo in transportom materiala.
B37: 2.06 | C37: m3 | D37: 512 | F37: =D37*E37 -> 0
B38: Zasipanje kanala izven cone cevovoda iz naravno pridobljenega prodno peščenega nasipnega materiala v plasteh d=20 cm in komprimacijo do stopnje 95% po proctorju, vključno z nabavo in transportom materiala. Opomba: v kolikor se ugotovi na licu mesta ustreznost izkopanega materiala se lahko uporabi kvaliteten nasipni material iz izkopa.
B40: 2.07 | C40: m3 | D40: 193 | F40: =D40*E40 -> 0
B41: Odvoz odvečne zemljine iz izkopa na trajno deponijo z razprostiranjem.
A43: 3.0 | B43: MONTAŽNA DELA
B45: 3.01 | C45: m1
B46: Nabava, dobava,vgradnja cevi iz duktilne litine klase K9 ali C40 po EN 545 zunanja zaščita vroče cinkanje, notranja zaščita EC, v kompletu z tesnilnim in pritrdilnim materialom PN 16 bar
B48: DN100 | D48: 165 | F48: =D48*E48 -> 0
B49: DN150 | D49: 22 | F49: =D49*E49 -> 0
B50: DN300 | D50: 65 | F50: =D50*E50 -> 0
B52: 3.02 | C52: kom
B53: Dobava, transport, raznos in montaža LŽ armatur, vključno s tesnilnim materialom in nerjavnimi vijakI
B55: EV DN80 | D55: 3 | F55: =D55*E55 -> 0
B56: EV DN100 | D56: 3 | F56: =D56*E56 -> 0
B57: EV DN150 | D57: 1 | F57: =D57*E57 -> 0
B58: EV DN300 | D58: 1 | F58: =D58*E58 -> 0
...

Sheet REKAPITULAC
A1: PREDRAČUN GRADBENIH DEL ZA UREDITEV
A2: EE OMREŽJA IN JAVNE RAZSVETLJAVE NA OBJEKTU,
A3: JR, NNO Podvinci
B9: Opis dela: | C9: Vrednost €
A11: 1 | B11: POPIS DEL JR PODVINCI (DRSI)
A12: 2 | B12: POPIS DEL DOVOD JR PODVINCI (DRSI)
A13: 3 | B13: POPIS DEL JR PODVINCI (Občina) - 2.ETAPA
A14: 4 | B14: POPIS DEL DOVOD JR PODVINCI (Občina)
A15: 5 | B15: UREDITEV NN OMREŽJA - TP PODVINCI 1
A16: 6 | B16: UREDITEV NN OMREŽJA - TP PODVINCI 3 - ribnik
B18: Skupaj brez DDV
B19: 22% DDV
B20: SKUPAJ

Sheet predračun CR (DRSI)
A1: POPIS DEL JR PODVINCI (DRSI)
A3: A) | B3: Pripravljalna dela | E3: EM | F3: količina | G3: cena | H3: znesek skupaj
A5: 1. | B5: Zavarovanje gradbišča (delno)- jarek, jame, uvozi | E5: m | F5: 440
A7: 2. | B7: Zakoličba KTV, PTT, plin… | E7: kom | F7: 4
A10: B) | B10: Gradbena dela
A12: 01. | B12: Betonski montažni temelj za
B13: kandelaber 9m, dim.0.8*0.8*1.2 m
B14: (N.5.1) dobava, izkop in postavitev | E14: kom | F14: 8
A16: 02. | B16: Betonski montažni temelj za ločni
B17: kandelaber 9m, dim.0.8*0.8*1.5 m
B18: (N.5.2) dobava, izkop in postavitev | E18: kom | F18: 5
A20: 03. | B20: Kombinirani ročno/strojni (30/70%)
B21: izkop in zasip kabelskega jarka v
B22: (zasip-nabijanje v plasteh po 20 cm)
B23: zemljišču III.kat.dim: 0.40 x 0.8 m | E23: m | F23: 392
A25: 04. | B25: Izdelava kabelske blazine
B26: iz mivke ali presejane zemlje v deb. 20 cm
B27: za jarek dim: 0.4 x 0.8 m | E27: m | F27: 392
A29: 05. | B29: Kombinirani ročno/strojni (30/70%)
B30: izkop kabelskega jarka v zemljišču
B31: III.kat.dim: 0.40 x 1.0 m,
B32: obbetoniranje cevi 2xPC-E/110
B33: (beton MB10, 96m3, 6.5m cevi)
B34: ter ponovni zasip (nabijanje…)
B35: kanalizacije (2xfi110mm BETON) | E35: m | F35: 48
A37: 06. | B37: Dobava in polaganje opozorilnega
B38: traku | E38: m | F38: 440
A40: 07. | B40: Izkop in zasip jame zaprostostoječo omarico | E40: kom | F40: 1
A42: 08. | B42: Izkop in zasip jame za kabelske
B43: rezerve | E43: kom | F43: 1
A45: 09. | B45: Odvoz odvečnega materiala na trajno deponijo, vključno s plačilom takse (naročniku je potrebno oddat evidenčne liste za prevzem odvečnega materiala in odpadkov). | E45: m3 | F45: 50 | H45: __________
G47: skupaj:
A55: POPIS DEL DOVOD JR PODVINCI (DRSI)
A57: A) | B57: Pripravljalna dela (dovod) | E57: EM | F57: količina | G57: cena | H57: znesek skupaj
A59: 1. | B59: Zavarovanje gradbišča (delno)- jarek, jame, uvozi | E59: m | F59: 350
A61: 2. | B61: Zakoličba KTV, PTT, plin… | E61: kom | F61: 4
A64: B) | B64: Gradbena dela (dovod)
A66: 01. | B66: Kombinirani ročno/strojni (30/70%)
B67: izkop in zasip kabelskega jarka v
B68: (zasip-nabijanje v plasteh po 20 cm)
...

Sheet predračun CR (obcina)
A1: POPIS DEL JR PODVINCI (Občina) - 2.ETAPA
A3: A) | B3: Pripravljalna dela | E3: EM | F3: količina | G3: cena | H3: znesek skupaj
A5: 1. | B5: Zavarovanje gradbišča (delno)- jarek, jame, uvozi | E5: m | F5: 1016
A7: 2. | B7: Zakoličba KTV, PTT, plin… | E7: kom | F7: 4
A10: B) | B10: Gradbena dela
A12: 01. | B12: Betonski montažni temelj za
B13: kandelaber 9m, dim.0.8*0.8*1.2 m
B14: (N.5.1) dobava, izkop in postavitev | E14: kom | F14: 30
