Workbook

Sheet Splošna določila
H1: 2003
B2: Izdelava, dostava, montaža in priklop 3D svetlobnih logotipov Elektro Maribor d.d.
B4: Predmet ponudbe obsega izdelavo, dobavo, montažo in priklop 3D logotipov v izvedbi, kot je razvidno iz priložene fotografije. Izvajalec mora vsa dela izvesti v skladu z določenimi tehničnimi specifikacijami ter na posameznih lokacijah, ki so natančno opredeljene v pripadajočih zavihkih dokumentacije.
B8: Garancija: minimalno 5 let
B10: Rok izvedbe: 30 dni od prejema naročila
B12: Opomba:
B13: Svetlobni napisi »Elektro Maribor« niso predmet povpraševanja, razen v primeru Osrednje enote, postavke 1.1 kjer se izvede tudi napis "Elektro Maribor".
B15: Obvezno navodilo za izvajalca
B16: Fotografije obstoječega stanja so priložene kot informativna podlaga za pripravo ponudbe. Demontažo obstoječih logotipov ter sanacijo/barvanje fasade izvede naročnik. Kjer je logotip že odstranjen, se demontaža ne izvaja in ne obračuna. Izvajalec novih logotipov se mora pred montažo terminsko uskladiti z naročnikovim vzdrževalcem. Montaža je mogoča šele po potrditvi naročnika, da so demontaža in fasaderska dela zaključena.
B17: Izvajalec mora najmanj 48 ur pred montažo potrditi termin z naročnikovim vzdrževalcem.

Sheet REKAPITULACIJA
B2: Izdelava, dostava, montaža in priklop 3D svetlobnih logotipov Elektro Maribor d.d.
B4: REKAPITULACIJA
A5: 1. | B5: Osrednja enota Maribor | C5: ='1. Osrednja enota MB'!J20 -> 0
A6: 2. | B6: Območna enota Maribor | C6: ='2. OE Maribor'!J27 -> 0
A7: 3. | B7: Območna enota Slovenska Bistrica | C7: ='3. OE Slov. Bistrica'!J42 -> 0
A8: 4. | B8: Območna enota Ptuj | C8: ='4. OE Ptuj'!J30 -> 0
A9: 5. | B9: Območna enota Gornja Radgona | C9: ='5. OE Gornja Radgona'!J44 -> 0
A10: 6. | B10: Območna enota Murska Sobota | C10: ='6. OE Murska Sobota'!J46 -> 0
A11: 7. | B11: Storitvena enota Maribor | C11: ='7. ES Maribor'!J19 -> 0
A12: 8. | B12: Storitvena enota Ljutomer | C12: ='8. ES Ljutomer'!J19 -> 0
B14: SKUPAJ : | C14: =SUM(C5:C13) -> 0
B17: Razna nepredvidena dela (10 % vrednosti vseh del). Obračun del po dejansko opravljenih stroških. | C17: =C14*0.1 -> 0
B19: SKUPAJ : | C19: =C14+C17 -> 0
B21: DDV 22 % : | C21: =C19*0.22 -> 0
B24: SKUPAJ Z DDV : | C24: =SUM(C19:C23) -> 0

Sheet 1. Osrednja enota MB
B1: 1. Osrednja enota Elektro Maribor d.d., Vetrinjska ulica 2, 2000 Maribor
F2: cena/em | H2: znesek skupaj | J2: znesek skupaj
C3: EM | D3: količina | F3: brez DDV | H3: brez DDV | J3: brez DDV
A4: 1.1 | B4: Izdelava, dostava in montaža 3D svetlobnega logtipa in napisa Elektro Maribor, dim. 2200 x 500 x 30 mm – s svetilnostjo nazaj proti steni, komplet z spredhodno odstranitvijo obstoječe plošče. PVC material 20 mm + pleksi 10 mm, LED osvetlitev, zunanji napajalnik, priklop 230 V, distančniki 10-15mm, šablona za montažo, komplet s pritrdilnim materialom ter zaščito delovišča. | C4: kpl | D4: 1 | J4: =D4*F4 -> 0
B6: Fotografija obstoječega stanja
A9: 1.2 | B9: Demontaža pleksi plošč (plošče je privijačena),, odstranitev obstoječe zeleno/rdeče folije, namestitev/polepitev nove bele folije ter ponovna pritrditev pleksi plošče.
B10: dim. 69 x 254 cm | C10: kom | D10: 4 | J10: =D10*F10 -> 0
B11: dim. 110 x 44 cm | C11: kom | D11: 2 | J11: =D11*F11 -> 0
B12: dim. 100 x 35 cm | C12: kom | D12: 1 | J12: =D12*F12 -> 0
B14: Fotografije obstoječega stanja
A17: 1.3 | B17: Izdelava in namestitev PVC‑nalepke (print + UV‑zaščita), dimenzije 50 × 60 cm, z logotipom in napisom za namestitev na stekleno površino vhodnih vrat. Cena vključuje kompletno izvedbo z vsemi potrebnimi materiali in deli. Pred izvedbo so možne manjše prilagoditve dimenzij nalepke, po predhodnem dogovoru z naročnikom. | C17: kom | D17: 1 | J17: =D17*F17 -> 0
B20: SKUPAJ : | F20: € | G20: =SUM(#REF!) -> #REF! | H20: =SUM(#REF!) -> #REF! | J20: =SUM(J4:J20) -> 0

Sheet 2. OE Maribor
B1: 2. Območna enota Maribor, Vodovodna ulica 2, 2000 Maribor
F2: cena/em | H2: znesek skupaj | J2: znesek skupaj
C3: EM | D3: količina | F3: brez DDV | H3: brez DDV | J3: brez DDV
A4: 2.1 | B4: 3D svetlobni (LED) logo, premera 1000 mm in globine 80 mm (natančne mere in proporci se določijo po predhodnem dogovoru z naročnikom): | C4: kpl | D4: 1 | J4: =D4*F4 -> 0
B5: sprednja stran pleksi 3 mm
B6: stranski del alu 1,5 mm
B7: LED osvetlitev z ustreznim napajalnikom
B8: napajanje: nizkonapetostni sistem z napajalniki, vključenimi v konstrukcijo
B9: stopnja zaščite: min. IP65 (primerno za zunanjo uporabo)
B10: Montaža na objektu se izvede po natančni določitvi lokacije. Izvajalec zagotovi vse potrebne pritrdilne elemente, sidranje ter zaščito pred vremenskimi vplivi.
B11: Montaža in montaža poteka na višini približno 7 m.
A13: 2.2 | B13: Odstranitev obstoječega logotipa z nakladanjem in odvozom v trajno deponijo ter predložitvijo evidenčnih listov naročniku. Cena mora zajemati tudi morebitno zaporo pločnika skupaj z izdelavo elaborata. | C13: kpl | D13: 1 | J13: =D13*F13 -> 0
B15: Fotografija obstoječega stanja
B18: Nadzorništvo Šentilj, Selnica ob Muri 100, 2215 Ceršak
A19: 2.3 | B19: 3D svetlobni (LED) logo, premera 500 mm in globine 60 mm (natančne mere in proporci se določijo po predhodnem dogovoru z naročnikom): | C19: kpl | D19: 1 | J19: =D19*F19 -> 0
B20: sprednja stran pleksi 3 mm
B21: stranski del alu 1,5 mm
B22: LED osvetlitev z ustreznim napajalnikom
B23: napajanje: nizkonapetostni sistem z napajalniki, vključenimi v konstrukcijo
B24: stopnja zaščite: min. IP65 (primerno za zunanjo uporabo)
B25: Montaža na objektu se izvede po natančni določitvi lokacije. Izvajalec zagotovi vse potrebne pritrdilne elemente, sidranje ter zaščito pred vremenskimi vplivi.
B27: SKUPAJ : | F27: € | G27: =SUM(#REF!) -> #REF! | H27: =SUM(#REF!) -> #REF! | J27: =SUM(J4:J26) -> 0

Sheet 3. OE Slov. Bistrica
B1: 3. Območna enota Slovenska Bistrica, Kolodvorska ulica 21 a, 2310 Slovenska Bistrica
F2: cena/em | H2: znesek skupaj | J2: znesek skupaj
C3: EM | D3: količina | F3: brez DDV | H3: brez DDV | J3: brez DDV
A4: 3.1 | B4: 3D svetlobni (LED) logo, premera 1000 mm in globine 80 mm (natančne mere in proporci se določijo po predhodnem dogovoru z naročnikom): | C4: kpl | D4: 1 | J4: =D4*F4 -> 0
B5: sprednja stran pleksi 3 mm
B6: stranski del alu 1,5 mm
B7: LED osvetlitev z ustreznim napajalnikom
B8: napajanje: nizkonapetostni sistem z napajalniki, vključenimi v konstrukcijo
B9: stopnja zaščite: min. IP65 (primerno za zunanjo uporabo)
B10: Montaža na objektu se izvede po natančni določitvi lokacije. Izvajalec zagotovi vse potrebne pritrdilne elemente, sidranje ter zaščito pred vremenskimi vplivi.
B11: Montaža poteka na višini približno 6 m.
A13: 3.2 | B13: Odstranitev obstoječega logotipa z nakladanjem in odvozom v trajno deponijo ter predložitvijo evidenčnih listov naročniku. Cena mora zajemati tudi morebitno zaporo pločnika skupaj z izdelavo elaborata. | C13: kpl | D13: 1 | J13: =D13*F13 -> 0
B15: Fotografija obstoječega stanja
B18: Nadzorništvo Slovenske Konjice, Prevrat 28, 3210 Slov. konjice
A19: 3.3 | B19: 3D svetlobni (LED) logo, premera 500 mm in globine 60 mm (natančne mere in proporci se določijo po predhodnem dogovoru z naročnikom): | C19: kpl | D19: 1 | J19: =D19*F19 -> 0
B20: sprednja stran pleksi 3 mm
B21: stranski del alu 1,5 mm
B22: LED osvetlitev z ustreznim napajalnikom
B23: napajanje: nizkonapetostni sistem z napajalniki, vključenimi v konstrukcijo
B24: stopnja zaščite: min. IP65 (primerno za zunanjo uporabo)
B25: Montaža na objektu se izvede po natančni določitvi lokacije. Izvajalec zagotovi vse potrebne pritrdilne elemente, sidranje ter zaščito pred vremenskimi vplivi.
B27: Fotografija obstoječega stanja
B30: Nadzorništvo Rače-Fram, Fram 14/B, 2313 Fram
A31: 3.4 | B31: 3D svetlobni (LED) logo, premera 500 mm in globine 60 mm (natančne mere in proporci se določijo po predhodnem dogovoru z naročnikom): | C31: kpl | D31: 1 | J31: =D31*F31 -> 0
B32: sprednja stran pleksi 3 mm
B33: stranski del alu 1,5 mm
B34: LED osvetlitev z ustreznim napajalnikom
B35: napajanje: nizkonapetostni sistem z napajalniki, vključenimi v konstrukcijo
B36: stopnja zaščite: min. IP65 (primerno za zunanjo uporabo)
B37: Montaža na objektu se izvede po natančni določitvi lokacije. Izvajalec zagotovi vse potrebne pritrdilne elemente, sidranje ter zaščito pred vremenskimi vplivi.
B39: Fotografija obstoječega stanja
B42: SKUPAJ : | F42: € | G42: =SUM(#REF!) -> #REF! | H42: =SUM(#REF!) -> #REF! | J42: =SUM(J2:J41) -> 0

Sheet 4. OE Ptuj
B1: 4. Območna enota Ptuj, Ormoška cesta 26 a, 2250 Ptuj
F2: cena/em | H2: znesek skupaj | J2: znesek skupaj
C3: EM | D3: količina | F3: brez DDV | H3: brez DDV | J3: brez DDV
A4: 4.1 | B4: 3D svetlobni (LED) logo, premera 1000 mm in globine 80 mm (natančne mere in proporci se določijo po predhodnem dogovoru z naročnikom): | C4: kpl | D4: 1 | J4: =D4*F4 -> 0
B5: sprednja stran pleksi 3 mm
B6: stranski del alu 1,5 mm
B7: LED osvetlitev z ustreznim napajalnikom
B8: napajanje: nizkonapetostni sistem z napajalniki, vključenimi v konstrukcijo
B9: stopnja zaščite: min. IP65 (primerno za zunanjo uporabo)
B10: Montaža na objektu se izvede po natančni določitvi lokacije. Izvajalec zagotovi vse potrebne pritrdilne elemente, sidranje ter zaščito pred vremenskimi vplivi.
B11: Montaža poteka na višini približno 5 m.
A13: 4.2 | B13: Odstranitev obstoječega logotipa z nakladanjem in odvozom v trajno deponijo ter predložitvijo evidenčnih listov naročniku. Cena mora zajemati tudi morebitno zaporo pločnika skupaj z izdelavo elaborata. | C13: kpl | D13: 1 | J13: =D13*F13 -> 0
B15: Fotografija obstoječega stanja
B18: Nadzorništvo Ormož, Ljutomerska cesta 38/b, 2270 Ormož
A19: 4.2 | B19: 3D svetlobni (LED) logo, premera 500 mm in globine 60 mm (natančne mere in proporci se določijo po predhodnem dogovoru z naročnikom): | C19: kpl | D19: 1 | J19: =D19*F19 -> 0
B20: sprednja stran pleksi 3 mm
B21: stranski del alu 1,5 mm
B22: LED osvetlitev z ustreznim napajalnikom
B23: napajanje: nizkonapetostni sistem z napajalniki, vključenimi v konstrukcijo
B24: stopnja zaščite: min. IP65 (primerno za zunanjo uporabo)
B25: Montaža na objektu se izvede po natančni določitvi lokacije. Izvajalec zagotovi vse potrebne pritrdilne elemente, sidranje ter zaščito pred vremenskimi vplivi.
B27: Fotografija obstoječega stanja
B30: SKUPAJ : | F30: € | G30: =SUM(#REF!) -> #REF! | H30: =SUM(#REF!) -> #REF! | J30: =SUM(J4:J29) -> 0

Sheet 5. OE Gornja Radgona
B1: 5. Območna enota Gornja Radgona, Lackova ulica 4, 9250 Gornja Radgona
F2: cena/em | H2: znesek skupaj | J2: znesek skupaj
C3: EM | D3: količina | F3: brez DDV | H3: brez DDV | J3: brez DDV
A4: 5.1 | B4: 3D svetlobni (LED) logo, premera 700 mm in globine 80 mm (natančne mere in proporci se določijo po predhodnem dogovoru z naročnikom): | C4: kpl | D4: 1 | J4: =D4*F4 -> 0
B5: sprednja stran pleksi 3 mm
B6: stranski del alu 1,5 mm
B7: LED osvetlitev z ustreznim napajalnikom
B8: napajanje: nizkonapetostni sistem z napajalniki, vključenimi v konstrukcijo
B9: stopnja zaščite: min. IP65 (primerno za zunanjo uporabo)
B10: Montaža na objektu se izvede po natančni določitvi lokacije. Izvajalec zagotovi vse potrebne pritrdilne elemente, sidranje ter zaščito pred vremenskimi vplivi.
B11: Odstranitev obstoječega logotipa, komplet z nakladanjem in odvozom v trajno deponijo ter predložitvijo evidenčnih listov naročniku.
B12: Demontaža in montaža poteka na višini približno 7 m.
B14: OE Gornja Radgona - vratarnica
A15: 5.2 | B15: Svetlobna tabla dim. 700 x 3500 x 150 mm | C15: kpl | D15: 1 | J15: =D15*F15 -> 0
B16: Enostranska grafika na pleksi
B17: sprednja stran pleksi 3 mm
B18: LED osvetlitev z ustreznim napajalnikom
B19: napajanje: nizkonapetostni sistem z napajalniki, vključenimi v konstrukcijo
B20: stopnja zaščite: min. IP65 (primerno za zunanjo uporabo)
B21: Montaža na objektu se izvede po natančni določitvi lokacije. Izvajalec zagotovi vse potrebne pritrdilne elemente, sidranje ter zaščito pred vremenskimi vplivi.
B22: Odstranitev obstoječega logotipa, komplet z nakladanjem in odvozom v trajno deponijo ter predložitvijo evidenčnih listov naročniku.
A24: 5.3 | B24: Odstranitev obstoječe table z nakladanjem in odvozom v trajno deponijo ter predložitvijo evidenčnih listov naročniku.
B26: Fotografija obstoječega stanja
B29: Nadzorništvo Lenart, Prežihova ulica 1, 2230 Lenart
A30: 5.4 | B30: 3D svetlobni (LED) logo, premera 1000 mm in globine 60 mm (natančne mere in proporci se določijo po predhodnem dogovoru z naročnikom): | C30: kpl | D30: 1 | J30: =D30*F30 -> 0
B31: sprednja stran pleksi 3 mm
B32: stranski del alu 1,5 mm
B33: LED osvetlitev z ustreznim napajalnikom
B34: napajanje: nizkonapetostni sistem z napajalniki, vključenimi v konstrukcijo
B35: stopnja zaščite: min. IP65 (primerno za zunanjo uporabo)
B36: Montaža na objektu se izvede po natančni določitvi lokacije. Izvajalec zagotovi vse potrebne pritrdilne elemente, sidranje ter zaščito pred vremenskimi vplivi.
B37: Montaža poteka na višini približno 5 m.
A39: 5.5 | B39: Odstranitev obstoječega logotipa z nakladanjem in odvozom v trajno deponijo ter predložitvijo evidenčnih listov naročniku. Cena mora zajemati tudi morebitno zaporo pločnika skupaj z izdelavo elaborata. | C39: kpl | D39: 1 | J39: =D39*F39 -> 0
B41: Fotografija obstoječega stanja
B44: SKUPAJ : | F44: € | G44: =SUM(#REF!) -> #REF! | H44: =SUM(#REF!) -> #REF! | J44: =SUM(J1:J43) -> 0

Sheet 6. OE Murska Sobota
B1: 6. Območna enota Murska Sobota, Lendavska ulica 31 a, 9000 Murska Sobota
F2: cena/em | H2: znesek skupaj | J2: znesek skupaj
C3: EM | D3: količina | F3: brez DDV | H3: brez DDV | J3: brez DDV
A4: 6.1 | B4: 3D svetlobni (LED) logo, premera 1000 mm in globine 80 mm (natančne mere in proporci se določijo po predhodnem dogovoru z naročnikom): | C4: kpl | D4: 1 | J4: =D4*F4 -> 0
B5: sprednja stran pleksi 3 mm
B6: stranski del alu 1,5 mm
B7: LED osvetlitev z ustreznim napajalnikom
B8: napajanje: nizkonapetostni sistem z napajalniki, vključenimi v konstrukcijo
B9: stopnja zaščite: min. IP65 (primerno za zunanjo uporabo)
B10: Montaža na objektu se izvede po natančni določitvi lokacije. Izvajalec zagotovi vse potrebne pritrdilne elemente, sidranje ter zaščito pred vremenskimi vplivi.
B11: Odstranitev obstoječega logotipa, komplet z nakladanjem in odvozom v trajno deponijo ter predložitvijo evidenčnih listov naročniku.
B12: Demontaža in montaža poteka na višini približno 7 m.
A14: 6.2 | B14: Odstranitev obstoječega logotipa z nakladanjem in odvozom v trajno deponijo ter predložitvijo evidenčnih listov naročniku. Cena mora zajemati tudi morebitno zaporo pločnika skupaj z izdelavo elaborata. | C14: kpl | D14: 1 | J14: =D14*F14 -> 0
B16: Fotografija obstoječega stanja
B19: Nadzorništvo Mačkovci, Mačkovci 33 B, 9202 Mačkovci
A20: 6.3 | B20: 3D svetlobni (LED) logo, premera 500 mm in globine 60 mm (natančne mere in proporci se določijo po predhodnem dogovoru z naročnikom): | C20: kpl | D20: 1 | J20: =D20*F20 -> 0
B21: sprednja stran pleksi 3 mm
B22: stranski del alu 1,5 mm
B23: LED osvetlitev z ustreznim napajalnikom
B24: napajanje: nizkonapetostni sistem z napajalniki, vključenimi v konstrukcijo
B25: stopnja zaščite: min. IP65 (primerno za zunanjo uporabo)
B26: Montaža na objektu se izvede po natančni določitvi lokacije. Izvajalec zagotovi vse potrebne pritrdilne elemente, sidranje ter zaščito pred vremenskimi vplivi.
B27: Odstranitev obstoječega logotipa, komplet z nakladanjem in odvozom v trajno deponijo ter predložitvijo evidenčnih listov naročniku.
B29: Fotografija obstoječega stanja
B33: Nadzorništvo Lendava, Kolodvorska 5/A, 9220 Lendava
A34: 6.4 | B34: 3D svetlobni (LED) logo, premera 500 mm in globine 60 mm (natančne mere in proporci se določijo po predhodnem dogovoru z naročnikom): | C34: kpl | D34: 1 | J34: =D34*F34 -> 0
B35: sprednja stran pleksi 3 mm
B36: stranski del alu 1,5 mm
B37: LED osvetlitev z ustreznim napajalnikom
B38: napajanje: nizkonapetostni sistem z napajalniki, vključenimi v konstrukcijo
B39: stopnja zaščite: min. IP65 (primerno za zunanjo uporabo)
B40: Montaža na objektu se izvede po natančni določitvi lokacije. Izvajalec zagotovi vse potrebne pritrdilne elemente, sidranje ter zaščito pred vremenskimi vplivi.
B41: Odstranitev obstoječega logotipa, komplet z nakladanjem in odvozom v trajno deponijo ter predložitvijo evidenčnih listov naročniku.
B43: Fotografija obstoječega stanja
B46: SKUPAJ : | F46: € | G46: =SUM(#REF!) -> #REF! | H46: =SUM(#REF!) -> #REF! | J46: =SUM(J1:J45) -> 0

Sheet 7. ES Maribor
B1: 7. Enota storitve na distribucijskem omrežju Maribor, Veselova ulica 6, 2000 Maribor
F2: cena/em | H2: znesek skupaj | J2: znesek skupaj
C3: EM | D3: količina | F3: brez DDV | H3: brez DDV | J3: brez DDV
A4: 7.1 | B4: 3D svetlobni (LED) logo, premera 1000 mm in globine 800 mm (natančne mere in proporci se določijo po predhodnem dogovoru z naročnikom): | C4: kpl | D4: 1 | J4: =D4*F4 -> 0
B5: sprednja stran pleksi 3 mm
B6: stranski del alu 1,5 mm
B7: LED osvetlitev z ustreznim napajalnikom
B8: napajanje: nizkonapetostni sistem z napajalniki, vključenimi v konstrukcijo
B9: stopnja zaščite: min. IP65 (primerno za zunanjo uporabo)
B10: Montaža na objektu se izvede po natančni določitvi lokacije. Izvajalec zagotovi vse potrebne pritrdilne elemente, sidranje ter zaščito pred vremenskimi vplivi.
B11: Odstranitev obstoječega logotipa, komplet z nakladanjem in odvozom v trajno deponijo ter predložitvijo evidenčnih listov naročniku.
B12: Demontaža in montaža poteka na višini približno 7 m.
A14: 7.2 | B14: Odstranitev obstoječega logotipa z nakladanjem in odvozom v trajno deponijo ter predložitvijo evidenčnih listov naročniku. Cena mora zajemati tudi morebitno zaporo pločnika skupaj z izdelavo elaborata. | C14: kpl | D14: 1 | J14: =D14*F14 -> 0
B16: Fotografija obstoječega stanja
B19: SKUPAJ : | F19: € | G19: =SUM(#REF!) -> #REF! | H19: =SUM(#REF!) -> #REF! | J19: =SUM(J4:J18) -> 0

Sheet 8. ES Ljutomer
B1: 8. Enota storitve na distribucijskem omrežju Ljutomer, Ulica Rada Pušenjaka 5, 9240 Ljutomer
F2: cena/em | H2: znesek skupaj | J2: znesek skupaj
C3: EM | D3: količina | F3: brez DDV | H3: brez DDV | J3: brez DDV
A4: 8.1 | B4: 3D svetlobni (LED) logo, premera 1000 mm in globine 800 mm (natančne mere in proporci se določijo po predhodnem dogovoru z naročnikom): | C4: kpl | D4: 1 | J4: =D4*F4 -> 0
B5: sprednja stran pleksi 3 mm
B6: stranski del alu 1,5 mm
B7: LED osvetlitev z ustreznim napajalnikom
B8: napajanje: nizkonapetostni sistem z napajalniki, vključenimi v konstrukcijo
B9: stopnja zaščite: min. IP65 (primerno za zunanjo uporabo)
B10: Montaža na objektu se izvede po natančni določitvi lokacije. Izvajalec zagotovi vse potrebne pritrdilne elemente, sidranje ter zaščito pred vremenskimi vplivi.
B11: Odstranitev obstoječega logotipa, komplet z nakladanjem in odvozom v trajno deponijo ter predložitvijo evidenčnih listov naročniku.
B12: Demontaža in montaža poteka na višini približno 7 m.
A14: 8.2 | B14: Odstranitev obstoječega logotipa z nakladanjem in odvozom v trajno deponijo ter predložitvijo evidenčnih listov naročniku. | C14: kpl | D14: 1 | J14: =D14*F14 -> 0
B16: Fotografija obstoječega stanja
B19: SKUPAJ : | F19: € | G19: =SUM(#REF!) -> #REF! | H19: =SUM(#REF!) -> #REF! | J19: =SUM(J4:J18) -> 0
