Workbook

Sheet REK. G+O
A2: POPIS DEL NADSTREŠEK ZA KOLESA VETRINJSKA ULICA 2, MARIBOR
A6: REKAPITULACIJA
A8: GRADBENA DELA
A10: A. | B10: GRADBENA DELA | F10: ='A. REK. G'!F15 -> 0
A12: B. | B12: OBRTNIŠKA DELA | F12: ='A. REK. O'!F15 -> 0
B14: Dodatna in nepredvidena dela: 10% | F14: =(SUM(F10:F12)*0.1) -> 0
B15: "Dela naročena s strani naročnika, potrebna za dokončanje del."
B16: Obračun po dejanskih stroških, potrjenih v GK s strani naročnika
B18: SKUPAJ | F18: =SUM(F10:F14) -> 0
C19: 22% DDV: | F19: =F18*0.22 -> 0
C21: SKUPAJ Z DDV: | F21: =(F18+F19) -> 0

Sheet A. REK. G
A2: POPIS DEL
A6: REKAPITULACIJA
A8: A. | B8: GRADBENA DELA
A10: I. | B10: ='I. Preddela'!B9 -> PRIPRAVLJALNA DELA
A11: II. | B11: ='II. Zemeljska dela'!B9 -> ZEMELJSKA DELA
A12: III. | B12: ='III. AB dela'!B9 -> ARMIRANOBETONSKA DELA
A13: IV. | B13: ='IV.Tesarska dela'!B9 -> TESARSKA DELA
B15: GRADBENA DELA SKUPAJ | F15: =SUM(F10:F13) -> 0

Sheet I. Preddela
A2: A. | B2: GRADBENA DELA
A7: Poz. | B7: Opis postavke | C7: Enota | D7: Količina | E7: Cena | F7: Vrednost
A9: I. | B9: PRIPRAVLJALNA DELA
A11: 1. | B11: Priprava gradbišča z vsemi pripravljanimi in zaključnimi deli (vključno s čiščenjem gradbišča po končanih delih, pospravljanje, odstranjevanje naravnih ovir, vsi stroški za zagotavljanje varnosti in zdravja pri delu itd.) | C11: kpl | D11: 1
A13: 2. | B13: Označitev gradbišča skladno s pravilnikom o gradbiščih in postavitev opozorilnih tabel za področje zdravja in varstva pri delu na pomičnih gradbiščih | C13: kpl | D13: 1
A15: 3. | B15: Rezanje asfalta debeline do 10 cm | C15: m1 | D15: 16
A17: 4. | B17: Rezkanje asfalta za preklope med starim in novim asfaltom, za obrabno plast v debelini 3 cm in širini 50 cm | C17: m1 | D17: 16
A19: 5. | B19: Rušenje asfalta (8 cm), z nakladanjem in transportom ruševin na trajno deponijo koncesionarja do 10 km | C19: m2 | D19: 31
B21: PRIPRAVLJALNA DELA SKUPAJ | F21: =SUM(F11:F19) -> 0
F23: =D23*E23 -> 0
F25: =D25*E25 -> 0
F31: =D31*E31 -> 0

Sheet II. Zemeljska dela
A2: A. | B2: GRADBENA DELA
B5: OPOMBA: Vsa izkopana dela in transporti izkopanih materialov se obračunajo po prostornini izkopane zemljine v raščenem stanju! Vsa nasipna dela se obračunajo po prostornini zemljine v vgrajenem stanju!
A7: Poz. | B7: Opis postavke | C7: Enota | D7: Količina | E7: Cena | F7: Vrednost
A9: II. | B9: ZEMELJSKA DELA
A11: 1. | B11: Široki odkop obstoječega tamponskega materiala v debelini cca. 50 cm, z deponiranjem na gradbišču za ponovno vgradnjo. | C11: m3 | D11: 16 | F11: =D11*E11 -> 0
A13: 2. | B13: Izkop zemljine v terenu III. - IV. kategorije z odmeton na stran ali nakladanjem do globine 2,0 m | C13: m3 | D13: 30 | F13: =D13*E13 -> 0
A15: 3. | B15: Planiranje dna gradbene jame v točnosti +-2 cm, s potrebnim utrjevanjem do ustrezne zbitosti | C15: m2 | D15: 24 | F15: =D15*E15 -> 0
A17: 4. | B17: Dobava in vgradnja PP filca pod utrjenim nasutjem za tlakovane površine, za preprečitev izpiranja drobnih frakcij, preklop min. 20cm | C17: m2 | D17: 30 | F17: =D17*E17 -> 0
A19: 5. | B19: Zasip za temelji in zidovi z materialom pridobljenim pri izkopu in drobljenimi ruševinami, s planiranjem ter utrjevanjem po slojih. Zasip se izvede do kote 30 cm pod gornjo koto zunanje ureditve | C19: m3 | D19: 24 | F19: =D19*E19 -> 0
A21: 6. | B21: Dobava in vgradnja nasipa pod temelji in tlakovanimi površinami objekta s kvalitetnim tamponskim materialom granulacije 0-60 mm z dobavo in s sprotnim utrjevanjem do predpisane stisljivosti EV2 min. 80MN/m2 ter planiranjem v plasteh , ravnost planiranja 20mm/4m letev. Sloj tampona v deb.20cm. | C21: m3 | D21: 7 | F21: =D21*E21 -> 0
A23: 7. | B23: Dobava in vgradnja nasipa iz mivke pod tlakovanimi površinami s kvalitetnim materialom granulacije 0-4 mm z dobavo in s sprotnim utrjevanjem do predpisane stiljivost ter planiranjem v plasteh. Sloj tampona v deb. 4 cm. | C23: m3 | D23: 1.5 | F23: =D23*E23 -> 0
A25: 8. | B25: Nakladanje in odvoz odvečnega izkopanega materiala III. - IV. kategorije v stanju razsutosti na trajno deponijo do razdalje 10 km | C25: m3 | D25: 13 | F25: =D25*E25 -> 0
B27: ZEMELJSKA DELA SKUPAJ | F27: =SUM(F11:F25) -> 0

Sheet III. AB dela
A2: A. | B2: GRADBENA DELA
B5: SPLOŠNO: Konstrukcije iz betona morajo biti ravne, izdelane po opažnem načrtu, brez votlih mest in brez iztekanj cementnega gela na stikih opažev. Nega betona vsebuje zaščito vgrajenega betona do polne trdnosti pred prevelikim izhlapevanjem vode iz betona, kakor tudi zaščito pred nizkimi temperaturami. Splošno o izgledu betonov: Vsi betoni morajo biti izdelani v kvalitetnem opažu in ravni. Vse betonske površine mora izvajalec predati polnoma ravne, vse neravnine, ki bi jih bilo eventuelno potrebno izravnati bodo upoštevane kot nekvalitene in gredo na račun izvajalca betonskih del! Kvaliteto betona kontolirati in vgraditi po armaturnem načrtu! Pri teži armature je upoštevan nominalni premer palice (brez reber)!
A7: Poz. | B7: Opis postavke | C7: Enota | D7: Količina | E7: Cena | F7: Vrednost
A9: III. | B9: ARMIRANOBETONSKA DELA
A11: 1. | B11: Dobava in vgrajevanje nearmiranega betona C12/15, XC0, prereza 0,08-0,12 m3/m2, m1 (podložni beton pod temelji) , deb. 10,0 cm | C11: m3 | D11: 1.1 | F11: =D11*E11 -> 0
A13: 2. | B13: Dobava in vgrajevanje armiranega betona C25/30, XC2, PV-II (temelji)
B14: -prerez nad 0,30 m3/m2, m1- pasovni temelji | C14: m3 | D14: 5.5 | F14: =D14*E14 -> 0
A16: 3. | B16: Dobava, krivljenje, polaganje in vezanje rebraste enostavne in srednje komplicirane rebraste armature S 500 B, fi do 12 mm, nominalni prerez. | C16: kg | D16: 900 | F16: =D16*E16 -> 0
B18: ARMIRANOBETONSKA DELA SKUPAJ | F18: =SUM(F11:F16) -> 0
F19: =D19*E19 -> 0
F20: =D20*E20 -> 0

Sheet IV.Tesarska dela
A2: A. | B2: GRADBENA DELA
B5: SPLOŠNO: Opaži morajo biti gladki in ravni, stiki dobro zatesnjeni, da se prepreči odtekanje cementnega gela.
A7: Poz. | B7: Opis postavke | C7: Enota | D7: Količina | E7: Cena | F7: Vrednost
A9: IV. | B9: TESARSKA DELA
A11: 1. | B11: Dobava, montaža in demontaža opaža podložnih betonov višine 10 cm | C11: m1 | D11: 35 | F11: =D11*E11 -> 0
A13: 2. | B13: Dobava, montaža in demontaža dvostranskega opaža pasovnih temeljev, višina do 1,50 m | C13: m2 | D13: 30 | F13: =D13*E13 -> 0
B15: TESARSKA DELA SKUPAJ | F15: =SUM(F11:F13) -> 0

Sheet A. REK. O
A6: REKAPITULACIJA
A8: B. | B8: OBRTNIŠKA DELA
A10: I. | B10: ='I. Krovsko kleparska dela'!B9 -> KROVSKO KLEPARSKA DELA | F10: ='I. Krovsko kleparska dela'!F13 -> 0
A11: II. | B11: ='II. Ključavničarska dela'!B17 -> KLJUČAVNIČARSKA DELA | F11: ='II. Ključavničarska dela'!F22 -> 0
A12: III. | B12: ='III. Tlakarska dela'!B7 -> TLAKARSKA DELA | F12: ='III. Tlakarska dela'!F11 -> 0
A13: IV. | B13: ='IV. Razno'!B9 -> RAZNO | F13: ='IV. Razno'!F17 -> 0
B15: OBRTNIŠKA DELA SKUPAJ | F15: =SUM(F10:F13) -> 0

Sheet I. Krovsko kleparska dela
A2: B. | B2: OBRTNIŠKA DELA
B5: OPOMBA: Dela izvajati točno po določilih in navodilih dobavitelja kritine z upoštevanjem veljavnih tehničnih predpisov in standardov. V enotno ceno posamezne postavke je vključeno tudi snemanje izmer na objektu.
A7: Poz. | B7: Opis postavke | C7: Enota | D7: Količina | E7: Cena | F7: Vrednost
A9: I. | B9: KROVSKO KLEPARSKA DELA
A11: 1. | B11: Dobava in montaža strešne kritine iz pleksi stekla, kompletno z vsemi zaljučki, prekritji stikov, pritrdilnim materialom in potrebnim dodatnim tesnenjem, po detajli projekta in tehničnih zahtevah proizvajalca, komplet vsa dela in potreben material. | C11: m2 | D11: 21 | F11: =D11*E11 -> 0
B13: KROVSKO KLEPARSKA DELA SKUPAJ | F13: =SUM(F11) -> 0
F21: =D21*E21 -> 0
F24: =D24*E24 -> 0
F26: =D26*E26 -> 0

Sheet II. Ključavničarska dela
A2: B. | B2: OBRTNIŠKA DELA | E2: PP
B5: OPOMBA: SPLOŠNE ZAHTEVE ZA IZVEDBO JEKLENIH KONSTRUKCIJ: Pri vseh izdelkih je potrebno zajeti izdelavo, dobavo in montažo ter eventualno vzidavo, vse potrebno okovje in tesnila. Vse mere, količini in obdelave kontrolirati po zadnjih veljavnih načrtih, detajlih, shemah PZI in, ki so sestavni del tega popisa oz. na gradbišču! Vsi ključavničarski izdelki (razen vročecinkanih) morajo biti dobavljeni opleskani 2x s temeljno barvo, primerno za finalni poliuretanski oplesk, s predhodnim peskanjem, v skupni debelini 120 in več mikronov. Celotno nosilno jekleno konstrukcijo je potrebno premazati s ustreznim proti požarnim premazom, natančno debelino definira proizvajalec premaza, pregleda in potrdi jo potrdi jo projektant gradbenih konstrukcij! Vse jeklene varjene konstrukcije so ustrezno korozijsko zaščitene v delavnici ustrezno kategoriji okolja C3 po SIST EN ISO 12944-2. Vse teže jeklenih konstrukcij so ocenjene! Obračun po teži iz delavniške dokumentacije! Delavniško dokumentacijo pripravi izvajalec jeklene konstrukcije, ki jo dostavi v pregled odgovornemu projektantu gradbenih konstrukcij vsaj 5 dni pred pričetkom izvedbe del! ZAŠČITA PRED KOROZIJO: Pri načrtovanju in izvedbi protikorozijske zaščite z barvami je potrebno upoštevati določila skupine standardov SIST EN ISO 12944 (deli 1, 2, 3, 4, 5, 6, 7, 8) Barve in laki – Korozijska zaščita jeklenih konstrukcij z zaščitnimi premaznimi sistemi. Jeklene konstrukcije je potrebno zaščititi z barvami, ki zagotavljajo visoko H trajnost (več kot 15 let) protikorozijske zaščite. Konstrukcije notri: Vplivi okolja in atmosfere sodijo v kategorijo C2 korozijske ogroženosti. S temi tehničnimi pogoji je predviden sledeči sistem protikorozijske zašite v skladu z Tabelo A.5 (H, C2) standarda SIST EN ISO 12944-5: • priprava površine peskanje Sa2½ • osnovni premaz zink epoksi 80μm • vmesni + končni premaz epoksi + poliuretan 80μm (odpren na UV žarke) skupaj 160μm Izvajalec lahko predlaga svoj sistem zaščite, ki zagotavljajo enak ali podoben nivo protikorozijske zaščite in ustreza zgoraj navedenim standardom in zahtevam. Nianso zaključnega premaza (RAL) določi investitor. Sistem mora biti kompatibilen s proti požarnim premazom. Pred pričetkom izvedbe protikorozijske zaščite izvajalec izdela poseben Elaborat protikorozijske zaščite, ki ga mora predložiti investitorju, proizvajalcu premazov, odgovornemu projektantu in strokovnemu nadzoru v pregled in pisno potrditev. Elaborat protikorozijske zaščite mora poleg izbranega sistema protikorozijske zaščite vsebovati tudi opis načina izvedbe protikorozijske zaščite in plan kontrole kvalitete njene izvedbe. Vijačni material, sidra: Vijaki matice, podložke in sidrne palice (navojne palice) ter matice za sidra morajo biti dobavljeni z že serijsko izvedeno protikorozijsko zaščito (cinkani). Jeklena konstrukcija mora biti izdelana in montirana v skladu s projektno dokumentacijo in v skladu z določili slovenskega standarda: SIST EN 1090-2:2008+A1:2012 “Izvedba jeklenih in aluminijastih konstrukcij – 2. del: Tehnične zahteve za izvedbo jeklenih konstrukcij”, v katerem so navedene splošne zahteve za izdelavo in montažo jeklenih nosilnih konstrukcij, narejenih iz vroče valjanih, vroče obdelanih, varjenih in hladno oblikovanih jeklenih izdelkov. Izvedbeni razred definira nivo tehničnih zahtev za izvedbo jeklenih konstrukcij. Skladno z Aneksom B standarda SIST EN 1090-2:2008+A1:2012; Tabela B.3, je izvedbeni razred konstrukcije EXC3.
A16: Poz. | B16: Opis postavke | C16: Enota | D16: Količina | E16: Cena | F16: Vrednost
A17: II. | B17: KLJUČAVNIČARSKA DELA
A19: 1. | B19: Kompletna dobava, izdelava in montaža jeklenih varjenih konstrukcij, ustrezno korozijsko zaščitenih v delavnici ustrezno kategoriji okolja C3 po SIST EN ISO 12944-2. Vsi zvari morajo biti I. kvalitete, kvaliteta jekla skladno z zahtevami statičnega računa. Jeklo kvalitete S 275. Jeklene konstrukcije zaščitene s premazi.
A20: a. | B20: Jeklena konstrukcija nadstrešnice za kolesa, vključno antikorozijska zaščita. Profili: -HOP 120×60×5 V ceni je potrebno zajeti ves pritrdilni in sidrni material po detajlu. | C20: kg | D20: 700 | F20: =D20*E20 -> 0
F21: =D21*E21 -> 0
B22: KLJUČAVNIČARSKA DELA SKUPAJ | F22: =SUM(F20) -> 0

Sheet III. Tlakarska dela
A2: B. | B2: OBRTNIŠKA DELA
A5: Poz. | B5: Opis postavke | C5: Enota | D5: Količina | E5: Cena | F5: Vrednost
A7: III. | B7: TLAKARSKA DELA
A9: 1. | B9: Dobava in vgradnja pohodnih tlakovcev dimenzije po izbiri naročnika (kot npr. 10×20×6 cm ali 20×30×6 cm) na območju parkirišča za kolesa | C9: m2 | D9: 29 | F9: =D9*E9 -> 0
B11: TLAKARSKA DELA SKUPAJ | F11: =SUM(F9) -> 0

Sheet IV. Razno
A2: B. | B2: OBRTNIŠKA DELA
B5: OPOMBA: Pri vseh izdelkih je potrebno zajeti izdelavo, dobavo in montažo ter vzidavo, vse potrebno okovje in tesnila. Vse mere, količini in obdelave kontrolirati po zadnjih veljavnih načrtih, detajlih, shemah PZI , ki so sestavni del tega popisa oz. na gradbišču! Povsod, kjer oprema ni točno definirana , mora izvajalec pred dobavo pridobiti potrditev investitorja !
A7: Poz. | B7: Opis postavke | C7: Enota | D7: Količina | E7: Cena | F7: Vrednost
A9: IV | B9: RAZNO
A11: 1. | B11: Dobava in vgradnja kovinskih stojal za kolesa, inox, cevi fi50 mm, vroče cinkano in prašno barvano, vključno s pritrjevanjem in izdelavo potrebnega pasovnega temlja, z vsemi transporti in dodatnimi deli. | C11: kos | D11: 8 | F11: =D11*F13 -> 0
A13: 2. | B13: Izdelava PID projekta. | C13: kpl | D13: 1 | F13: =D13*F15 -> 0
A15: 3. | B15: Projektantski nadzor | C15: kpl | D15: 1 | F15: =D15*E15 -> 0
B17: RAZNO SKUPAJ | F17: =SUM(F11:F15) -> 0
